Workbook

Sheet Inoc prep
A1: Stage 1 culture Prep
A3: Fresh 2341 stock was prepared from plated colonies
A4: This stock was grown for innoculation into the experimental set-up
A6: 41744 | B6: Bottle 1 | E6: Bottle 2 | H6: Bottle 3
A7: Vol (mL) | B7: 800 | E7: 800 | H7: 750
A9: Cell counts: | B9: 16 | C9: 25 | E9: 15 | F9: 18 | H9: 18 | I9: 18
B10: 16 | C10: 12 | E10: 15 | F10: 15 | H10: 12 | I10: 20
B12: 24 | C12: 23 | E12: 11 | F12: 23 | H12: 12 | I12: 23
B13: 19 | C13: 16 | E13: 25 | F13: 15 | H13: 17 | I13: 21
A15: Average | B15: =AVERAGE(B9:C13) -> 18.875 | E15: =AVERAGE(E9:F13) -> 17.125 | H15: =AVERAGE(H9:I13) -> 17.625
A16: SD | B16: =STDEV(B9:C13) -> 4.6732522 | E16: =STDEV(E9:F13) -> 4.6732522 | H16: =STDEV(H9:I13) -> 3.9618719
A18: Volume (nL) | B18: 100 | E18: 100 | H18: 100
A19: Volume (mL) | B19: =B18/10^6 -> 0.0001 | E19: =E18/10^6 -> 0.0001 | H19: =H18/10^6 -> 0.0001
A20: Diluted cells/ mL | B20: =B15/B19 -> 188750 | E20: =E15/E19 -> 171250 | H20: =H15/H19 -> 176250
A21: Dilution factor | B21: 40 | E21: 40 | H21: 40
A22: Inoculum cells/ mL | B22: =B20*B21 -> 7550000 | E22: =E20*E21 -> 6850000 | H22: =H20*H21 -> 7050000
A23: Cells | B23: =B7*B22 -> 6040000000 | E23: =E7*E22 -> 5480000000 | H23: =H7*H22 -> 5287500000
A25: Need:
A26: vol (mL) | B26: 2400
A27: Cells | B27: =B26*10^7 -> 24000000000
A30: Vol (mL)
A32: Cell counts:
A38: Average | B38: =AVERAGE(B32:C36) -> #DIV/0! | E38: =AVERAGE(E32:F36) -> #DIV/0! | H38: =AVERAGE(H32:I36) -> #DIV/0!
A39: SD | B39: =STDEV(B32:C36) -> #DIV/0! | E39: =STDEV(E32:F36) -> #DIV/0! | H39: =STDEV(H32:I36) -> #DIV/0!
A41: Volume (nL) | B41: 100 | E41: 100 | H41: 100
A42: Volume (mL) | B42: =B41/10^6 -> 0.0001 | E42: =E41/10^6 -> 0.0001 | H42: =H41/10^6 -> 0.0001
A43: Diluted cells/ mL | B43: =B38/B42 -> #DIV/0! | E43: =E38/E42 -> #DIV/0! | H43: =H38/H42 -> #DIV/0!
A44: Dilution factor | B44: 40 | E44: 20 | H44: 20
A45: Inoculum cells/ mL | B45: =B43*B44 -> #DIV/0! | E45: =E43*E44 -> #DIV/0! | H45: =H43*H44 -> #DIV/0!
A46: Cells | B46: =B30*B45 -> #DIV/0! | E46: =E30*E45 -> #DIV/0! | H46: =H30*H45 -> #DIV/0! | K46: =SUM(B46:H46)/2400 -> #DIV/0!
A48: Need:
A49: vol (mL)
A50: Cells

Sheet Media
A1: Staged Mixotrophic cultivation Exp 2
A2: Stage 2 preparation
A4: Media
A6: Total KH2PO4: | B6: 0.975
A7: NH4Cl (g/ L) | B7: 0.764
A8: Nitrogen (mg/ L) | B8: =B7/(18+35.5)*14*1000 -> 199.92523
F9: =2600+1400 -> 4000 | G9: =F9-2400 -> 1600
A10: Adjusted pH: | B10: 7.2 | F10: =F9/2 -> 2000 | G10: =G9/4 -> 400
A11: Vol of media prepared (mL) | B11: 2600 | G11: =G10-120-20 -> 260
A12: Vol of media used (mL) | B12: 2400 | G12: =G11-40 -> 220
A14: Glucose Stock Soln (20%) - 50 ml
A15: Glucose (g)
A18: Acetate weight | H18: 14 | J18: Adjusted pH to 7.2, sterile filtered 0.2 um
A19: Carbon Sources | B19: Soluble Carbon Conc (g/ L) | C19: Vol prepared (mL) | D19: Mass substrate (g) | E19: Vol added / culture (mL) | F19: Final conc (g/ L)
A20: Glucose Soln 1 | B20: =H18/C20*1000 -> 200 | C20: 70 | D20: =H18 -> 14 | E20: =F20*200/1000/B20*1000 -> 10 | F20: 10
A22: Total needed: | E22: =E20*12 -> 120
A24: Antibiotics | B24: Added to | C24: Conc (mg/ ml) | D24: Vol added (ul) | E24: Final conc (ug/ ml) | F24: Volume of DI (ml)
A25: None

Sheet Sampling
B3: Date | C3: Metabolomics quench | D3: RNA | E3: Thiamine | F3: OD/ pH sample
B4: 41745 | C4: 1 ml + 1 ml MeOH | D4: 2 ml | F4: 1 ml
B5: 41746 | C5: 1 ml + 1 ml MeOH | D5: 2 ml | F5: 1 ml
B6: 41747 | C6: 1 ml + 1 ml MeOH | E6: 10 ml | F6: 1 ml
B7: 41748 | C7: 1 ml + 1 ml MeOH | D7: 2 ml | F7: 1 ml
B8: 41749 | C8: 1 ml + 1 ml MeOH | F8: 1 ml
B9: 41750 | C9: 1 ml + 1 ml MeOH | E9: Final harvest | F9: 1 ml

Sheet Summary OD
D3: OD 550 | Q3: OD 680
A4: Date | B4: Time | C4: Hour | D4: Culture 1 | E4: Culture 2 | F4: Culture 3 | G4: Culture 4 | H4: Culture 5 | I4: Culture 6 | J4: Culture 7 | K4: Culture 8 | L4: Culture 9 | M4: Culture 10 | N4: Culture 11 | O4: Culture 12 | Q4: Culture 1 | R4: Culture 2 | S4: Culture 3 | T4: Culture 4 | U4: Culture 5 | V4: Culture 6 | W4: Culture 7 | X4: Culture 8 | Y4: Culture 9 | Z4: Culture 10 | AA4: Culture 11 | AB4: Culture 12
A5: 41661 | B5: =OD!A5 -> 0.4375 | C5: 0 | D5: =OD!C8 -> 0.14796667 | E5: =OD!D8 -> 0.13003333 | F5: =OD!E8 -> 0.12793333 | G5: =OD!F8 -> 0.1309 | H5: =OD!G8 -> 0.12156667 | I5: =OD!H8 -> 0.1296 | J5: =OD!I8 -> 0.12456667 | K5: =OD!J8 -> 0.12926667 | ... O5: =OD!N8 -> 0.1274 | Q5: =#REF! -> #REF! | R5: =#REF! -> #REF! | S5: =#REF! -> #REF! | T5: =#REF! -> #REF! | U5: =#REF! -> #REF! | V5: =#REF! -> #REF! | W5: =#REF! -> #REF! | X5: =#REF! -> #REF! | ... AB5: =#REF! -> #REF!
A6: 41662 | B6: =OD!A11 -> 0.4375 | C6: =C5+B6-B5+24 -> 24 | D6: =OD!C17 -> 0.23773333 | E6: =OD!D17 -> 0.24133333 | F6: =OD!E17 -> 0.24186667 | G6: =OD!F17 -> 0.22946667 | H6: =OD!G17 -> 0.2374 | I6: =OD!H17 -> 0.23913333 | J6: =OD!I17 -> 0.13126667 | K6: =OD!J17 -> 0.1339 | ... O6: =OD!N17 -> 0.1307 | Q6: =#REF! -> #REF! | R6: =#REF! -> #REF! | S6: =#REF! -> #REF! | T6: =#REF! -> #REF! | U6: =#REF! -> #REF! | V6: =#REF! -> #REF! | W6: =#REF! -> #REF! | X6: =#REF! -> #REF! | ... AB6: =#REF! -> #REF!
A7: 41663 | B7: =OD!A20 -> 0.45833333 | C7: =C6+B7-B6+24 -> 48.020833 | D7: =OD!C23 -> 0.2906 | E7: =OD!D23 -> 0.28673333 | F7: =OD!E23 -> 0.29816667 | G7: =OD!F23 -> 0.3104 | H7: =OD!G23 -> 0.3324 | I7: =OD!H23 -> 0.2926 | J7: =OD!I23 -> 0.14133333 | K7: =OD!J23 -> 0.14413333 | ... O7: =OD!N23 -> 0.13496667 | Q7: =#REF! -> #REF! | R7: =#REF! -> #REF! | S7: =#REF! -> #REF! | T7: =#REF! -> #REF! | U7: =#REF! -> #REF! | V7: =#REF! -> #REF! | W7: =#REF! -> #REF! | X7: =#REF! -> #REF! | ... AB7: =#REF! -> #REF!
A8: 41664 | B8: =OD!A26 -> 0.4375 | C8: =C7+B8-B7+24 -> 72 | D8: =OD!C32 -> 0.31776667 | E8: =OD!D32 -> 0.33083333 | F8: =OD!E32 -> 0.31156667 | G8: =OD!F32 -> 0.32036667 | H8: =OD!G32 -> 0.30796667 | I8: =OD!H32 -> 0.31406667 | J8: =OD!I32 -> 0.146 | K8: =OD!J32 -> 0.14573333 | ... O8: =OD!N32 -> 0.1447 | Q8: =#REF! -> #REF! | R8: =#REF! -> #REF! | S8: =#REF! -> #REF! | T8: =#REF! -> #REF! | U8: =#REF! -> #REF! | V8: =#REF! -> #REF! | W8: =#REF! -> #REF! | X8: =#REF! -> #REF! | ... AB8: =#REF! -> #REF!
A9: 41665 | B9: =OD!A35 -> 0.4375 | C9: =C8+B9-B8+24 -> 96 | D9: =OD!C38 -> 0.34693333 | E9: =OD!D38 -> 0.34393333 | F9: =OD!E38 -> 0.32823333 | G9: =OD!F38 -> 0.32143333 | H9: =OD!G38 -> 0.3062 | I9: =OD!H38 -> 0.29536667 | J9: =OD!I38 -> 0.15026667 | K9: =OD!J38 -> 0.15733333 | ... O9: =OD!N38 -> 0.1514 | Q9: =#REF! -> #REF! | R9: =#REF! -> #REF! | S9: =#REF! -> #REF! | T9: =#REF! -> #REF! | U9: =#REF! -> #REF! | V9: =#REF! -> #REF! | W9: =#REF! -> #REF! | X9: =#REF! -> #REF! | ... AB9: =#REF! -> #REF!
A10: 41666 | B10: =OD!A41 -> 0.41666667 | C10: =C9+B10-B9+24 -> 119.97917 | D10: =OD!C44 -> 0.31656667 | E10: =OD!D44 -> 0.33166667 | F10: =OD!E44 -> 0.31003333 | G10: =OD!F44 -> 0.3108 | H10: =OD!G44 -> 0.2937 | I10: =OD!H44 -> 0.28936667 | J10: =OD!I44 -> 0.15763333 | K10: =OD!J44 -> 0.1592 | ... O10: =OD!N44 -> 0.1562 | Q10: =#REF! -> #REF! | R10: =#REF! -> #REF! | S10: =#REF! -> #REF! | T10: =#REF! -> #REF! | U10: =#REF! -> #REF! | V10: =#REF! -> #REF! | W10: =#REF! -> #REF! | X10: =#REF! -> #REF! | ... AB10: =#REF! -> #REF!
D12: Average | H12: SD | L12: SE
A13: =A4 -> Date | B13: =B4 -> Time | C13: =C4 -> Hour | D13: 10 g/L Glc | E13: 0 g/L Glc | F13: Pantothenic | G13: Thiamine and Pantothenic | H13: Control | I13: Thiamine | J13: Pantothenic | K13: Thiamine and Pantothenic | L13: Control | M13: Thiamine | N13: Pantothenic | O13: Thiamine and Pantothenic
A14: =A5 -> 41661 | B14: =B5 -> 0.4375 | C14: =C5 -> 0 | D14: =AVERAGE(D5:I5) -> 0.13133333 | E14: =AVERAGE(J5:O5) -> 0.12911667 | H14: =STDEV(D5:I5) -> 0.0088147351 | I14: =STDEV(J5:O5) -> 0.0032235763 | L14: =H14/SQRT(3) -> 0.0050891897 | M14: =I14/SQRT(3) -> 0.0018611327 | N14: =J14/SQRT(3) -> 0 | O14: =K14/SQRT(3) -> 0
A15: =A6 -> 41662 | B15: =B6 -> 0.4375 | C15: =C6 -> 24 | D15: =AVERAGE(D6:I6) -> 0.23782222 | E15: =AVERAGE(J6:O6) -> 0.1328 | H15: =STDEV(D6:I6) -> 0.0044812035 | I15: =STDEV(J6:O6) -> 0.0015891297 | L15: =H15/SQRT(3) -> 0.0025872241 | M15: =I15/SQRT(3) -> 0.00091748448 | N15: =J15/SQRT(3) -> 0 | O15: =K15/SQRT(3) -> 0
A16: =A7 -> 41663 | B16: =B7 -> 0.45833333 | C16: =C7 -> 48.020833 | D16: =AVERAGE(D7:I7) -> 0.30181667 | E16: =AVERAGE(J7:O7) -> 0.13817222 | H16: =STDEV(D7:I7) -> 0.017091541 | I16: =STDEV(J7:O7) -> 0.0041065485 | L16: =H16/SQRT(3) -> 0.0098678059 | M16: =I16/SQRT(3) -> 0.0023709169 | N16: =J16/SQRT(3) -> 0 | O16: =K16/SQRT(3) -> 0
A17: =A8 -> 41664 | B17: =B8 -> 0.4375 | C17: =C8 -> 72 | D17: =AVERAGE(D8:I8) -> 0.31709444 | E17: =AVERAGE(J8:O8) -> 0.14432222 | H17: =STDEV(D8:I8) -> 0.0080368711 | I17: =STDEV(J8:O8) -> 0.0022545427 | L17: =H17/SQRT(3) -> 0.0046400897 | M17: =I17/SQRT(3) -> 0.0013016609 | N17: =J17/SQRT(3) -> 0 | O17: =K17/SQRT(3) -> 0
A18: =A9 -> 41665 | B18: =B9 -> 0.4375 | C18: =C9 -> 96 | D18: =AVERAGE(D9:I9) -> 0.32368333 | E18: =AVERAGE(J9:O9) -> 0.15119444 | H18: =STDEV(D9:I9) -> 0.020415144 | I18: =STDEV(J9:O9) -> 0.0031487858 | L18: =H18/SQRT(3) -> 0.011786689 | M18: =I18/SQRT(3) -> 0.0018179523 | N18: =J18/SQRT(3) -> 0 | O18: =K18/SQRT(3) -> 0
A19: =A10 -> 41666 | B19: =B10 -> 0.41666667 | C19: =C10 -> 119.97917 | D19: =AVERAGE(D10:I10) -> 0.30868889 | E19: =AVERAGE(J10:O10) -> 0.1578 | H19: =STDEV(D10:I10) -> 0.015455206 | I19: =STDEV(J10:O10) -> 0.0020873162 | L19: =H19/SQRT(3) -> 0.0089230676 | M19: =I19/SQRT(3) -> 0.0012051126 | N19: =J19/SQRT(3) -> 0 | O19: =K19/SQRT(3) -> 0
L21: Upper CI
L22: =D14+3.182*L14 -> 0.14752713 | M22: =E14+3.182*M14 -> 0.13503879 | N22: =F14+3.182*N14 -> 0 | O22: =G14+3.182*O14 -> 0
L23: =D15+3.182*L15 -> 0.24605477 | M23: =E15+3.182*M15 -> 0.13571944 | N23: =F15+3.182*N15 -> 0 | O23: =G15+3.182*O15 -> 0
L24: =D16+3.182*L16 -> 0.33321602 | M24: =E16+3.182*M16 -> 0.14571648 | N24: =F16+3.182*N16 -> 0 | O24: =G16+3.182*O16 -> 0
L25: =D17+3.182*L17 -> 0.33185921 | M25: =E17+3.182*M17 -> 0.14846411 | N25: =F17+3.182*N17 -> 0 | O25: =G17+3.182*O17 -> 0
L26: =D18+3.182*L18 -> 0.36118858 | M26: =E18+3.182*M18 -> 0.15697917 | N26: =F18+3.182*N18 -> 0 | O26: =G18+3.182*O18 -> 0
L27: =D19+3.182*L19 -> 0.33708209 | M27: =E19+3.182*M19 -> 0.16163467 | N27: =F19+3.182*N19 -> 0 | O27: =G19+3.182*O19 -> 0
L29: Lower CI
L30: =D14-L14 -> 0.12624414 | M30: =E14-M14 -> 0.12725553 | N30: =F14-N14 -> 0 | O30: =G14-O14 -> 0
L31: =D15-L15 -> 0.235235 | M31: =E15-M15 -> 0.13188252 | N31: =F15-N15 -> 0 | O31: =G15-O15 -> 0
L32: =D16-L16 -> 0.29194886 | M32: =E16-M16 -> 0.13580131 | N32: =F16-N16 -> 0 | O32: =G16-O16 -> 0
L33: =D17-L17 -> 0.31245435 | M33: =E17-M17 -> 0.14302056 | N33: =F17-N17 -> 0 | O33: =G17-O17 -> 0
L34: =D18-L18 -> 0.31189664 | M34: =E18-M18 -> 0.14937649 | N34: =F18-N18 -> 0 | O34: =G18-O18 -> 0
L35: =D19-L19 -> 0.29976582 | M35: =E19-M19 -> 0.15659489 | N35: =F19-N19 -> 0 | O35: =G19-O19 -> 0
A51: OD-DW Correlation | C51: OD 550
O52: Ending DW conc (g/ L)
A53: Dilution factor | B53: =D4 -> Culture 1 | C53: =E4 -> Culture 2 | D53: =F4 -> Culture 3 | E53: =G4 -> Culture 4 | F53: =H4 -> Culture 5 | G53: =I4 -> Culture 6 | H53: =J4 -> Culture 7 | I53: =K4 -> Culture 8 | ... M53: =O4 -> Culture 12 | N53: Conc Factor | O53: Culture 1 | P53: Culture 2 | Q53: Culture 3 | R53: Culture 4 | S53: Culture 5 | T53: Culture 6 | U53: Culture 7 | V53: Culture 8 | W53: Culture 9 | X53: Culture 10 | Y53: Culture 11 | Z53: Culture 12
A54: 1 | B54: =OD!C41 -> 0.318 | C54: =OD!D41 -> 0.3301 | D54: =OD!E41 -> 0.3112 | E54: =OD!F41 -> 0.3109 | F54: =OD!G41 -> 0.2981 | G54: =OD!H41 -> 0.3111 | H54: =OD!I41 -> 0.1594 | I54: =OD!J41 -> 0.1614 | ... M54: =OD!N41 -> 0.1589 | N54: =1/A54 -> 1 | O54: =I86 -> 0.4328125 | P54: =I87 -> 0.428125 | Q54: =I88 -> 0.398125 | R54: =I89 -> 0.3940625 | S54: =I90 -> 0.39125 | T54: =I91 -> 0.388125 | U54: =I92 -> 0.09625 | V54: =I93 -> 0.1053125 | W54: =I94 -> 0.0975 | X54: =I95 -> 0.1009375 | Y54: =I96 -> 0.0984375 | Z54: =I97 -> 0.0996875
A55: 1 | B55: =OD!C42 -> 0.3172 | C55: =OD!D42 -> 0.33 | D55: =OD!E42 -> 0.3091 | E55: =OD!F42 -> 0.3101 | F55: =OD!G42 -> 0.2963 | G55: =OD!H42 -> 0.2807 | H55: =OD!I42 -> 0.1574 | I55: =OD!J42 -> 0.1594 | ... M55: =OD!N42 -> 0.1563 | N55: =1/A55 -> 1 | O55: =O54*$N55 -> 0.4328125 | P55: =P54*$N55 -> 0.428125 | Q55: =Q54*$N55 -> 0.398125 | R55: =R54*$N55 -> 0.3940625 | S55: =S54*$N55 -> 0.39125 | T55: =T54*$N55 -> 0.388125 | U55: =U54*$N55 -> 0.09625 | V55: =V54*$N55 -> 0.1053125 | ... Z55: =Z54*$N55 -> 0.0996875
A56: 1 | B56: =OD!C43 -> 0.3145 | C56: =OD!D43 -> 0.3349 | D56: =OD!E43 -> 0.3098 | E56: =OD!F43 -> 0.3114 | F56: =OD!G43 -> 0.2867 | G56: =OD!H43 -> 0.2763 | H56: =OD!I43 -> 0.1561 | I56: =OD!J43 -> 0.1568 | ... M56: =OD!N43 -> 0.1534 | N56: =1/A56 -> 1 | O56: =O55*$N56 -> 0.4328125 | P56: =P55*$N56 -> 0.428125 | Q56: =Q55*$N56 -> 0.398125 | R56: =R55*$N56 -> 0.3940625 | S56: =S55*$N56 -> 0.39125 | T56: =T55*$N56 -> 0.388125 | U56: =U55*$N56 -> 0.09625 | V56: =V55*$N56 -> 0.1053125 | ... Z56: =Z55*$N56 -> 0.0996875
A57: 2 | B57: =OD!C50 -> 0.1302 | C57: =OD!D50 -> 0.1438 | D57: =OD!E50 -> 0.1407 | E57: =OD!F50 -> 0.1325 | F57: =OD!G50 -> 0.1307 | G57: =OD!H50 -> 0.1232 | H57: =OD!I50 -> 0.085 | I57: =OD!J50 -> 0.0863 | ... M57: =OD!N50 -> 0.0889 | N57: =1/A57 -> 0.5 | O57: =O$56*$N57 -> 0.21640625 | P57: =P$56*$N57 -> 0.2140625 | Q57: =Q$56*$N57 -> 0.1990625 | R57: =R$56*$N57 -> 0.19703125 | S57: =S$56*$N57 -> 0.195625 | T57: =T$56*$N57 -> 0.1940625 | U57: =U$56*$N57 -> 0.048125 | V57: =V$56*$N57 -> 0.05265625 | ... Z57: =Z$56*$N57 -> 0.04984375
A58: 4 | B58: =OD!C51 -> 0.0775 | C58: =OD!D51 -> 0.0808 | D58: =OD!E51 -> 0.0778 | E58: =OD!F51 -> 0.0764 | F58: =OD!G51 -> 0.0762 | G58: =OD!H51 -> 0.0726 | H58: =OD!I51 -> 0.054 | I58: =OD!J51 -> 0.0552 | ... M58: =OD!N51 -> 0.056 | N58: =1/A58 -> 0.25 | O58: =O$56*$N58 -> 0.10820313 | P58: =P$56*$N58 -> 0.10703125 | Q58: =Q$56*$N58 -> 0.09953125 | R58: =R$56*$N58 -> 0.098515625 | S58: =S$56*$N58 -> 0.0978125 | T58: =T$56*$N58 -> 0.09703125 | U58: =U$56*$N58 -> 0.0240625 | V58: =V$56*$N58 -> 0.026328125 | ... Z58: =Z$56*$N58 -> 0.024921875
A59: 8 | B59: =OD!C52 -> 0.0528 | C59: =OD!D52 -> 0.054 | D59: =OD!E52 -> 0.0525 | E59: =OD!F52 -> 0.0531 | F59: =OD!G52 -> 0.0529 | G59: =OD!H52 -> 0.0498 | H59: =OD!I52 -> 0.0409 | I59: =OD!J52 -> 0.0412 | ... M59: =OD!N52 -> 0.043 | N59: =1/A59 -> 0.125 | O59: =O$56*$N59 -> 0.054101563 | P59: =P$56*$N59 -> 0.053515625 | Q59: =Q$56*$N59 -> 0.049765625 | R59: =R$56*$N59 -> 0.049257812 | S59: =S$56*$N59 -> 0.04890625 | T59: =T$56*$N59 -> 0.048515625 | U59: =U$56*$N59 -> 0.01203125 | V59: =V$56*$N59 -> 0.013164063 | ... Z59: =Z$56*$N59 -> 0.012460937
A60: 16 | B60: =OD!C53 -> 0.0426 | C60: =OD!D53 -> 0.0414 | D60: =OD!E53 -> 0.0413 | E60: =OD!F53 -> 0.0407 | F60: =OD!G53 -> 0.0411 | G60: =OD!H53 -> 0.0409 | H60: =OD!I53 -> 0.0376 | I60: =OD!J53 -> 0.0371 | ... M60: =OD!N53 -> 0.0361 | N60: =1/A60 -> 0.0625 | O60: =O$56*$N60 -> 0.027050781 | P60: =P$56*$N60 -> 0.026757813 | Q60: =Q$56*$N60 -> 0.024882812 | R60: =R$56*$N60 -> 0.024628906 | S60: =S$56*$N60 -> 0.024453125 | T60: =T$56*$N60 -> 0.024257813 | U60: =U$56*$N60 -> 0.006015625 | V60: =V$56*$N60 -> 0.0065820313 | ... Z60: =Z$56*$N60 -> 0.0062304687
...

Sheet Kinetics
A1: Growth Kinetics
A3: Dry Weight Curves
A5: Date | B5: Time | C5: Hour | D5: Culture 1 | E5: Culture 2 | F5: Culture 3 | G5: Culture 4 | H5: Culture 5 | I5: Culture 6 | J5: Culture 7 | K5: Culture 8 | L5: Culture 9 | M5: Culture 10 | N5: Culture 11 | O5: Culture 12
A6: ='Summary OD'!A102 -> 41661 | B6: ='Summary OD'!B102 -> 0.4375 | C6: ='Summary OD'!C102 -> 0 | D6: ='Summary OD'!D102 -> 0.091936783 | E6: ='Summary OD'!E102 -> 0.078370217 | F6: ='Summary OD'!F102 -> 0.076781567 | G6: ='Summary OD'!G102 -> 0.07902585 | H6: ='Summary OD'!H102 -> 0.071965183 | ... O6: ='Summary OD'!O102 -> 0.0763781
A7: ='Summary OD'!A103 -> 41662 | B7: ='Summary OD'!B103 -> 0.4375 | C7: ='Summary OD'!C103 -> 24 | D7: ='Summary OD'!D103 -> 0.31108368 | E7: ='Summary OD'!E103 -> 0.3160776 | F7: ='Summary OD'!F103 -> 0.31681744 | G7: ='Summary OD'!G103 -> 0.29961616 | H7: ='Summary OD'!H103 -> 0.31062128 | ... O7: ='Summary OD'!O103 -> 0.07887455
A8: ='Summary OD'!A104 -> 41663 | B8: ='Summary OD'!B104 -> 0.45833333 | C8: ='Summary OD'!C104 -> 48.020833 | D8: ='Summary OD'!D104 -> 0.38442032 | E8: ='Summary OD'!E104 -> 0.37905648 | F8: ='Summary OD'!F104 -> 0.3949168 | G8: ='Summary OD'!G104 -> 0.41188688 | H8: ='Summary OD'!H104 -> 0.44240528 | ... O8: ='Summary OD'!O104 -> 0.082102283
A9: ='Summary OD'!A105 -> 41664 | B9: ='Summary OD'!B105 -> 0.4375 | C9: ='Summary OD'!C105 -> 72 | D9: ='Summary OD'!D105 -> 0.42210592 | E9: ='Summary OD'!E105 -> 0.440232 | F9: ='Summary OD'!F105 -> 0.41350528 | G9: ='Summary OD'!G105 -> 0.42571264 | H9: ='Summary OD'!H105 -> 0.40851136 | ... O9: ='Summary OD'!O105 -> 0.08946555
A10: ='Summary OD'!A106 -> 41665 | B10: ='Summary OD'!B106 -> 0.4375 | C10: ='Summary OD'!C106 -> 96 | D10: ='Summary OD'!D106 -> 0.46256592 | E10: ='Summary OD'!E106 -> 0.45840432 | F10: ='Summary OD'!F106 -> 0.43662528 | G10: ='Summary OD'!G106 -> 0.42719232 | H10: ='Summary OD'!H106 -> 0.40606064 | ... O10: ='Summary OD'!O106 -> 0.0945341
A11: ='Summary OD'!A107 -> 41666 | B11: ='Summary OD'!B107 -> 0.41666667 | C11: ='Summary OD'!C107 -> 119.97917 | D11: ='Summary OD'!D107 -> 0.42044128 | E11: ='Summary OD'!E107 -> 0.441388 | F11: ='Summary OD'!F107 -> 0.41137824 | G11: ='Summary OD'!G107 -> 0.41244176 | H11: ='Summary OD'!H107 -> 0.38872064 | ... O11: ='Summary OD'!O107 -> 0.0981653
A12: ='Summary OD'!A108 -> Final | D12: ='Summary OD'!D108 -> 0.4328125 | E12: ='Summary OD'!E108 -> 0.428125 | F12: ='Summary OD'!F108 -> 0.398125 | G12: ='Summary OD'!G108 -> 0.3940625 | H12: ='Summary OD'!H108 -> 0.39125 | I12: ='Summary OD'!I108 -> 0.388125 | J12: ='Summary OD'!J108 -> 0.09625 | K12: ='Summary OD'!K108 -> 0.1053125 | ... O12: ='Summary OD'!O108 -> 0.0996875
A14: Substrate concentration
A16: Date | B16: Time | C16: Hour | D16: Culture 1 | E16: Culture 2 | F16: Culture 3 | G16: Culture 4 | H16: Culture 5 | I16: Culture 6 | J16: Culture 7 | K16: Culture 8 | L16: Culture 9 | M16: Culture 10 | N16: Culture 11 | O16: Culture 12
A17: =A6 -> 41661 | B17: =B6 -> 0.4375 | C17: =C6 -> 0
A18: =A7 -> 41662 | B18: =B7 -> 0.4375 | C18: =C7 -> 24
A19: =A8 -> 41663 | B19: =B8 -> 0.45833333 | C19: =C8 -> 48.020833
A20: =A9 -> 41664 | B20: =B9 -> 0.4375 | C20: =C9 -> 72
A21: =A10 -> 41665 | B21: =B10 -> 0.4375 | C21: =C10 -> 96
A22: =A11 -> 41666 | B22: =B11 -> 0.41666667 | C22: =C11 -> 119.97917
A25: Day 1 only | C25: Time interval: 1 day
D27: Culture 1 | E27: Culture 2 | F27: Culture 3 | G27: Culture 4 | H27: Culture 5 | I27: Culture 6 | J27: Culture 7 | K27: Culture 8 | L27: Culture 9 | M27: Culture 10 | N27: Culture 11 | O27: Culture 12
A28: Productivity (g/ L/ day) | D28: =(D7-D6)/1 -> 0.2191469 | E28: =(E7-E6)/1 -> 0.23770738 | F28: =(F7-F6)/1 -> 0.24003587 | G28: =(G7-G6)/1 -> 0.22059031 | H28: =(H7-H6)/1 -> 0.2386561 | I28: =(I7-I6)/1 -> 0.23498336 | J28: =(J7-J6)/1 -> 0.00506855 | K28: =(K7-K6)/1 -> 0.0035051167 | ... O28: =(O7-O6)/1 -> 0.00249645
A29: Average conc (g/ L) | D29: =AVERAGE(D6:D7) -> 0.20151023 | E29: =AVERAGE(E6:E7) -> 0.19722391 | F29: =AVERAGE(F6:F7) -> 0.1967995 | G29: =AVERAGE(G6:G7) -> 0.189321 | H29: =AVERAGE(H6:H7) -> 0.19129323 | I29: =AVERAGE(I6:I7) -> 0.19553408 | J29: =AVERAGE(J6:J7) -> 0.076768958 | K29: =AVERAGE(K6:K7) -> 0.079542792 | ... O29: =AVERAGE(O6:O7) -> 0.077626325
A30: Specific growth (1/ day) | D30: =D28/D29 -> 1.0875224 | E30: =E28/E29 -> 1.2052666 | F30: =F28/F29 -> 1.2196976 | G30: =G28/G29 -> 1.1651655 | H30: =H28/H29 -> 1.247593 | I30: =I28/I29 -> 1.2017514 | J30: =J28/J29 -> 0.066023431 | K30: =K28/K29 -> 0.044065799 | ... O30: =O28/O29 -> 0.032159838
A31: 1/ mu (day) | D31: =1/D30 -> 0.91952127 | E31: =1/E30 -> 0.82969197 | F31: =1/F30 -> 0.81987538 | G31: =1/G30 -> 0.85824715 | H31: =1/H30 -> 0.80154345 | I31: =1/I30 -> 0.83211884 | J31: =1/J30 -> 15.146138 | K31: =1/K30 -> 22.693336 | ... O31: =1/O30 -> 31.094684
A32: [S] (g/ L) | D32: =AVERAGE(D17:D18) -> #DIV/0! | E32: =AVERAGE(E17:E18) -> #DIV/0! | F32: =AVERAGE(F17:F18) -> #DIV/0! | G32: =AVERAGE(G17:G18) -> #DIV/0! | H32: =AVERAGE(H17:H18) -> #DIV/0! | I32: =AVERAGE(I17:I18) -> #DIV/0! | J32: =AVERAGE(J17:J18) -> #DIV/0! | K32: =AVERAGE(K17:K18) -> #DIV/0! | ... O32: =AVERAGE(O17:O18) -> #DIV/0!
A33: 1/ [S] (L/ g) | G33: =1/G32 -> #DIV/0! | H33: =1/H32 -> #DIV/0! | I33: =1/I32 -> #DIV/0! | J33: =1/J32 -> #DIV/0! | K33: =1/K32 -> #DIV/0! | L33: =1/L32 -> #DIV/0! | M33: =1/M32 -> #DIV/0! | N33: =1/N32 -> #DIV/0! | O33: =1/O32 -> #DIV/0!
A35: neg 1/ km = | C35: =-0.07684/0.0479 -> -1.6041754
A36: 1/ vmax = | C36: 0.7684
A37: km = | C37: =-1/C35 -> 0.62337324
A38: vmax = | C38: =1/C36 -> 1.3014055
A40: Predicted growth rates (mu) based on Monod kinetics
C42: Day | D42: Culture 1 | E42: Culture 2 | F42: Culture 3 | G42: Culture 4 | H42: Culture 5 | I42: Culture 6 | J42: Culture 7 | K42: Culture 8 | L42: Culture 9 | M42: Culture 10 | N42: Culture 11 | O42: Culture 12
C43: 0 | D43: =$C$38*D17/($C$37+D17) -> 0 | E43: =$C$38*E17/($C$37+E17) -> 0 | F43: =$C$38*F17/($C$37+F17) -> 0 | G43: =$C$38*G17/($C$37+G17) -> 0 | H43: =$C$38*H17/($C$37+H17) -> 0 | I43: =$C$38*I17/($C$37+I17) -> 0 | J43: =$C$38*J17/($C$37+J17) -> 0 | K43: =$C$38*K17/($C$37+K17) -> 0 | ... O43: =$C$38*O17/($C$37+O17) -> 0
C44: 1 | D44: =$C$38*D18/($C$37+D18) -> 0 | E44: =$C$38*E18/($C$37+E18) -> 0 | F44: =$C$38*F18/($C$37+F18) -> 0 | G44: =$C$38*G18/($C$37+G18) -> 0 | H44: =$C$38*H18/($C$37+H18) -> 0 | I44: =$C$38*I18/($C$37+I18) -> 0 | J44: =$C$38*J18/($C$37+J18) -> 0 | K44: =K43 -> 0 | L44: =$C$38*L18/($C$37+L18) -> 0 | M44: =$C$38*M18/($C$37+M18) -> 0 | N44: =$C$38*N18/($C$37+N18) -> 0 | O44: =$C$38*O18/($C$37+O18) -> 0
C45: 2 | D45: =$C$38*D19/($C$37+D19) -> 0 | E45: =$C$38*E19/($C$37+E19) -> 0 | F45: =$C$38*F19/($C$37+F19) -> 0 | G45: =$C$38*G19/($C$37+G19) -> 0 | H45: =H44 -> 0 | I45: =$C$38*I19/($C$37+I19) -> 0 | J45: =$C$38*J19/($C$37+J19) -> 0 | K45: =$C$38*K19/($C$37+K19) -> 0 | L45: =$C$38*L19/($C$37+L19) -> 0 | M45: =$C$38*M19/($C$37+M19) -> 0 | N45: =$C$38*N19/($C$37+N19) -> 0 | O45: =$C$38*O19/($C$37+O19) -> 0
C46: 3 | D46: =$C$38*D20/($C$37+D20) -> 0 | E46: =$C$38*E20/($C$37+E20) -> 0 | F46: =$C$38*F20/($C$37+F20) -> 0 | G46: =$C$38*G20/($C$37+G20) -> 0 | H46: =$C$38*H20/($C$37+H20) -> 0 | I46: =$C$38*I20/($C$37+I20) -> 0 | J46: =$C$38*J20/($C$37+J20) -> 0 | K46: =$C$38*K20/($C$37+K20) -> 0 | ... O46: =$C$38*O20/($C$37+O20) -> 0
C47: 4 | D47: =$C$38*D21/($C$37+D21) -> 0 | E47: =$C$38*E21/($C$37+E21) -> 0 | F47: =$C$38*F21/($C$37+F21) -> 0 | G47: =$C$38*G21/($C$37+G21) -> 0 | H47: =$C$38*H21/($C$37+H21) -> 0 | I47: =$C$38*I21/($C$37+I21) -> 0 | J47: =$C$38*J21/($C$37+J21) -> 0 | K47: =$C$38*K21/($C$37+K21) -> 0 | ... O47: =$C$38*O21/($C$37+O21) -> 0
C48: 5 | D48: =$C$38*D22/($C$37+D22) -> 0 | E48: =$C$38*E22/($C$37+E22) -> 0 | F48: =$C$38*F22/($C$37+F22) -> 0 | G48: =$C$38*G22/($C$37+G22) -> 0 | H48: =$C$38*H22/($C$37+H22) -> 0 | I48: =$C$38*I22/($C$37+I22) -> 0 | J48: =$C$38*J22/($C$37+J22) -> 0 | K48: =$C$38*K22/($C$37+K22) -> 0 | ... O48: =$C$38*O22/($C$37+O22) -> 0
C50: Iteration 1 | Q50: Iteration 2 | AE50: Iteration 3 | AS50: Iteration 4 | BG50: Iteration 5
C51: Day | D51: Culture 1 | E51: Culture 2 | F51: Culture 3 | G51: Culture 4 | H51: Culture 5 | I51: Culture 6 | J51: Culture 7 | K51: Culture 8 | L51: Culture 9 | M51: Culture 10 | N51: Culture 11 | O51: Culture 12 | Q51: Day | R51: Culture 1 | S51: Culture 2 | T51: Culture 3 | U51: Culture 4 | V51: Culture 5 | W51: Culture 6 | X51: Culture 7 | Y51: Culture 8 | Z51: Culture 9 | AA51: Culture 10 | AB51: Culture 11 | AC51: Culture 12 | AE51: Day | AF51: Culture 1 | AG51: Culture 2 | AH51: Culture 3 | AI51: Culture 4 | AJ51: Culture 5 | AK51: Culture 6 | AL51: Culture 7 | AM51: Culture 8 | AN51: Culture 9 | AO51: Culture 10 | AP51: Culture 11 | AQ51: Culture 12 | AS51: Day | AT51: Culture 1 | AU51: Culture 2 | AV51: Culture 3 | AW51: Culture 4 | AX51: Culture 5 | AY51: Culture 6 | AZ51: Culture 7 | BA51: Culture 8 | BB51: Culture 9 | BC51: Culture 10 | BD51: Culture 11 | BE51: Culture 12 | BG51: =AS51 -> Day | BH51: =AT51 -> Culture 1 | BI51: =AU51 -> Culture 2 | BJ51: =AV51 -> Culture 3 | BK51: =AW51 -> Culture 4 | BL51: =AX51 -> Culture 5 | BM51: =AY51 -> Culture 6 | BN51: =AZ51 -> Culture 7 | ... BS51: =BE51 -> Culture 12
...

Sheet OD
A1: Obj 2 Exp 6, Mixotrophic metabolomics and RNA
B3: OD 550
A4: 41745 | B4: Temperature(°C) | C4: 1 | D4: 2 | E4: 3 | F4: 4 | G4: 5 | H4: 6 | I4: 7 | J4: 8 | K4: 9 | L4: 10 | M4: 11 | N4: 12 | P4: 1 | Q4: 2 | R4: 3 | S4: 4 | T4: 5 | U4: 6 | V4: 7 | W4: 8 | X4: 9 | Y4: 10 | Z4: 11 | AA4: 12
A5: 0.4375 | B5: 23.3 | C5: 0.1483 | D5: 0.1328 | E5: 0.1276 | F5: 0.1305 | G5: 0.1242 | H5: 0.1292 | I5: 0.1271 | J5: 0.133 | K5: 0.1308 | L5: 0.1318 | M5: 0.137 | N5: 0.1283 | P5: 0.1984 | Q5: 0.1726 | R5: 0.1679 | S5: 0.172 | T5: 0.1561 | U5: 0.1682 | V5: 0.1688 | W5: 0.1783 | X5: 0.1727 | Y5: 0.1754 | Z5: 0.1815 | AA5: 0.1717
C6: 0.1485 | D6: 0.1296 | E6: 0.1295 | F6: 0.1339 | G6: 0.1223 | H6: 0.1315 | I6: 0.1239 | J6: 0.128 | K6: 0.1296 | L6: 0.1313 | M6: 0.1356 | N6: 0.128 | P6: 0.2022 | Q6: 0.1743 | R6: 0.1687 | S6: 0.1766 | T6: 0.1565 | U6: 0.1731 | V6: 0.1663 | W6: 0.1723 | X6: 0.1738 | Y6: 0.1762 | Z6: 0.1823 | AA6: 0.1734
C7: 0.1471 | D7: 0.1277 | E7: 0.1267 | F7: 0.1283 | G7: 0.1182 | H7: 0.1281 | I7: 0.1227 | J7: 0.1268 | K7: 0.127 | L7: 0.1268 | M7: 0.1305 | N7: 0.1259 | P7: 0.2019 | Q7: 0.1716 | R7: 0.1681 | S7: 0.1701 | T7: 0.1542 | U7: 0.168 | V7: 0.1652 | W7: 0.1713 | X7: 0.1711 | Y7: 0.1713 | Z7: 0.1768 | AA7: 0.1709
B8: Average | C8: =AVERAGE(C5:C7) -> 0.14796667 | D8: =AVERAGE(D5:D7) -> 0.13003333 | E8: =AVERAGE(E5:E7) -> 0.12793333 | F8: =AVERAGE(F5:F7) -> 0.1309 | G8: =AVERAGE(G5:G7) -> 0.12156667 | H8: =AVERAGE(H5:H7) -> 0.1296 | I8: =AVERAGE(I5:I7) -> 0.12456667 | J8: =AVERAGE(J5:J7) -> 0.12926667 | ... N8: =AVERAGE(N5:N7) -> 0.1274
A10: 41746 | B10: Temperature(°C) | C10: 1 | D10: 2 | E10: 3 | F10: 4 | G10: 5 | H10: 6 | I10: 7 | J10: 8 | K10: 9 | L10: 10 | M10: 11 | N10: 12 | P10: 1 | Q10: 2 | R10: 3 | S10: 4 | T10: 5 | U10: 6 | V10: 7 | W10: 8 | X10: 9 | Y10: 10 | Z10: 11 | AA10: 12
A11: 0.4375 | B11: 23.4
C14: 0.2345 | D14: 0.238 | E14: 0.2369 | F14: 0.2283 | G14: 0.2325 | H14: 0.2361 | I14: 0.131 | J14: 0.137 | K14: 0.1339 | L14: 0.1335 | M14: 0.1368 | N14: 0.1293 | P14: 0.2878 | Q14: 0.2908 | R14: 0.2922 | S14: 0.2811 | T14: 0.2895 | U14: 0.2924 | V14: 0.1785 | W14: 0.1875 | X14: 0.1822 | Y14: 0.1826 | Z14: 0.1851 | AA14: 0.1786
C15: 0.2401 | D15: 0.2372 | E15: 0.2416 | F15: 0.2279 | G15: 0.2368 | H15: 0.2393 | I15: 0.131 | J15: 0.132 | K15: 0.1356 | L15: 0.1315 | M15: 0.1319 | N15: 0.1321 | P15: 0.2933 | Q15: 0.2917 | R15: 0.2985 | S15: 0.2824 | T15: 0.2931 | U15: 0.2969 | V15: 0.1806 | W15: 0.1807 | X15: 0.1834 | Y15: 0.1794 | Z15: 0.1767 | AA15: 0.1785
C16: 0.2386 | D16: 0.2488 | E16: 0.2471 | F16: 0.2322 | G16: 0.2429 | H16: 0.242 | I16: 0.1318 | J16: 0.1327 | K16: 0.1346 | L16: 0.1324 | M16: 0.1326 | N16: 0.1307 | P16: 0.2935 | Q16: 0.3038 | R16: 0.3079 | S16: 0.2878 | T16: 0.3028 | U16: 0.3003 | V16: 0.1805 | W16: 0.179 | X16: 0.1828 | Y16: 0.1783 | Z16: 0.1792 | AA16: 0.1808
B17: Average | C17: =AVERAGE(C14:C16) -> 0.23773333 | D17: =AVERAGE(D14:D16) -> 0.24133333 | E17: =AVERAGE(E14:E16) -> 0.24186667 | F17: =AVERAGE(F14:F16) -> 0.22946667 | G17: =AVERAGE(G14:G16) -> 0.2374 | H17: =AVERAGE(H14:H16) -> 0.23913333 | I17: =AVERAGE(I14:I16) -> 0.13126667 | J17: =AVERAGE(J14:J16) -> 0.1339 | ... N17: =AVERAGE(N14:N16) -> 0.1307
A19: 41747 | B19: Temperature(°C) | C19: 1 | D19: 2 | E19: 3 | F19: 4 | G19: 5 | H19: 6 | I19: 7 | J19: 8 | K19: 9 | L19: 10 | M19: 11 | N19: 12 | P19: 1 | Q19: 2 | R19: 3 | S19: 4 | T19: 5 | U19: 6 | V19: 7 | W19: 8 | X19: 9 | Y19: 10 | Z19: 11 | AA19: 12
A20: 0.45833333 | B20: 23.3 | C20: 0.2872 | D20: 0.2843 | E20: 0.2959 | F20: 0.3151 | G20: 0.3362 | H20: 0.2996 | I20: 0.1438 | J20: 0.1471 | K20: 0.1357 | L20: 0.1385 | M20: 0.1421 | N20: 0.1394 | P20: 0.3312 | Q20: 0.3309 | R20: 0.3395 | S20: 0.3697 | T20: 0.3935 | U20: 0.3546 | V20: 0.1872 | W20: 0.1938 | X20: 0.1783 | Y20: 0.1795 | Z20: 0.1872 | AA20: 0.1812
C21: 0.2843 | D21: 0.279 | E21: 0.2939 | F21: 0.307 | G21: 0.3312 | H21: 0.2859 | I21: 0.1419 | J21: 0.145 | K21: 0.1328 | L21: 0.1366 | M21: 0.1397 | N21: 0.135 | P21: 0.3311 | Q21: 0.3298 | R21: 0.3444 | S21: 0.3675 | T21: 0.3908 | U21: 0.3417 | V21: 0.186 | W21: 0.1919 | X21: 0.1732 | Y21: 0.1765 | Z21: 0.1854 | AA21: 0.1786
C22: 0.3003 | D22: 0.2969 | E22: 0.3047 | F22: 0.3091 | G22: 0.3298 | H22: 0.2923 | I22: 0.1383 | J22: 0.1403 | K22: 0.1316 | L22: 0.1331 | M22: 0.1357 | N22: 0.1305 | P22: 0.3606 | Q22: 0.3522 | R22: 0.3561 | S22: 0.3664 | T22: 0.3884 | U22: 0.3473 | V22: 0.1826 | W22: 0.1888 | X22: 0.1767 | Y22: 0.1735 | Z22: 0.1812 | AA22: 0.1736
B23: Average | C23: =AVERAGE(C20:C22) -> 0.2906 | D23: =AVERAGE(D20:D22) -> 0.28673333 | E23: =AVERAGE(E20:E22) -> 0.29816667 | F23: =AVERAGE(F20:F22) -> 0.3104 | G23: =AVERAGE(G20:G22) -> 0.3324 | H23: =AVERAGE(H20:H22) -> 0.2926 | I23: =AVERAGE(I20:I22) -> 0.14133333 | J23: =AVERAGE(J20:J22) -> 0.14413333 | ... N23: =AVERAGE(N20:N22) -> 0.13496667
A25: 41748 | B25: Temperature(°C) | C25: 1 | D25: 2 | E25: 3 | F25: 4 | G25: 5 | H25: 6 | I25: 7 | J25: 8 | K25: 9 | L25: 10 | M25: 11 | N25: 12 | P25: 1 | Q25: 2 | R25: 3 | S25: 4 | T25: 5 | U25: 6 | V25: 7 | W25: 8 | X25: 9 | Y25: 10 | Z25: 11 | AA25: 12
A26: 0.4375 | B26: 23.1
C29: 0.3087 | D29: 0.3278 | E29: 0.3072 | F29: 0.3164 | G29: 0.3045 | H29: 0.3092 | I29: 0.1497 | J29: 0.1475 | K29: 0.1449 | L29: 0.1452 | M29: 0.1447 | N29: 0.1451 | P29: 0.3562 | Q29: 0.3839 | R29: 0.3561 | S29: 0.3685 | T29: 0.3542 | U29: 0.3619 | V29: 0.1966 | W29: 0.1954 | X29: 0.1902 | Y29: 0.1892 | Z29: 0.192 | AA29: 0.1892
C30: 0.3138 | D30: 0.327 | E30: 0.3134 | F30: 0.3209 | G30: 0.3058 | H30: 0.3094 | I30: 0.1457 | J30: 0.1448 | K30: 0.1401 | L30: 0.1459 | M30: 0.1446 | N30: 0.1463 | P30: 0.3641 | Q30: 0.3823 | R30: 0.3639 | S30: 0.3797 | T30: 0.3574 | U30: 0.3676 | V30: 0.1921 | W30: 0.1926 | X30: 0.1863 | Y30: 0.1931 | Z30: 0.1934 | AA30: 0.1936
C31: 0.3308 | D31: 0.3377 | E31: 0.3141 | F31: 0.3238 | G31: 0.3136 | H31: 0.3236 | I31: 0.1426 | J31: 0.1449 | K31: 0.1346 | L31: 0.1441 | M31: 0.1444 | N31: 0.1427 | P31: 0.3781 | Q31: 0.3981 | R31: 0.361 | S31: 0.3778 | T31: 0.3625 | U31: 0.3841 | V31: 0.1907 | W31: 0.1899 | X31: 0.1769 | Y31: 0.191 | Z31: 0.1926 | AA31: 0.19
B32: Average | C32: =AVERAGE(C29:C31) -> 0.31776667 | D32: =AVERAGE(D29:D31) -> 0.33083333 | E32: =AVERAGE(E29:E31) -> 0.31156667 | F32: =AVERAGE(F29:F31) -> 0.32036667 | G32: =AVERAGE(G29:G31) -> 0.30796667 | H32: =AVERAGE(H29:H31) -> 0.31406667 | I32: =AVERAGE(I29:I31) -> 0.146 | J32: =AVERAGE(J29:J31) -> 0.14573333 | ... N32: =AVERAGE(N29:N31) -> 0.1447
A34: 41749 | B34: Temperature(°C) | C34: 1 | D34: 2 | E34: 3 | F34: 4 | G34: 5 | H34: 6 | I34: 7 | J34: 8 | K34: 9 | L34: 10 | M34: 11 | N34: 12 | P34: 1 | Q34: 2 | R34: 3 | S34: 4 | T34: 5 | U34: 6 | V34: 7 | W34: 8 | X34: 9 | Y34: 10 | Z34: 11 | AA34: 12
A35: 0.4375 | B35: 23.5 | C35: 0.3399 | D35: 0.34 | E35: 0.3229 | F35: 0.3149 | G35: 0.3106 | H35: 0.2956 | I35: 0.1523 | J35: 0.1594 | K35: 0.1506 | L35: 0.1524 | M35: 0.1499 | N35: 0.1535 | P35: 0.3801 | Q35: 0.3876 | R35: 0.3493 | S35: 0.3533 | T35: 0.3465 | U35: 0.3311 | V35: 0.1977 | W35: 0.2066 | X35: 0.1906 | Y35: 0.1958 | Z35: 0.1913 | AA35: 0.1948
C36: 0.3476 | D36: 0.3436 | E36: 0.3244 | F36: 0.3272 | G36: 0.3054 | H36: 0.2996 | I36: 0.1507 | J36: 0.1579 | K36: 0.1501 | L36: 0.1526 | M36: 0.1499 | N36: 0.1507 | P36: 0.3914 | Q36: 0.3908 | R36: 0.3655 | S36: 0.3706 | T36: 0.3472 | U36: 0.3422 | V36: 0.1943 | W36: 0.2037 | X36: 0.1938 | Y36: 0.1953 | Z36: 0.1947 | AA36: 0.1941
C37: 0.3533 | D37: 0.3482 | E37: 0.3374 | F37: 0.3222 | G37: 0.3026 | H37: 0.2909 | I37: 0.1478 | J37: 0.1547 | K37: 0.1485 | L37: 0.1448 | M37: 0.1457 | N37: 0.15 | P37: 0.4031 | Q37: 0.3998 | R37: 0.3775 | S37: 0.3659 | T37: 0.3413 | U37: 0.3329 | V37: 0.1934 | W37: 0.2035 | X37: 0.1925 | Y37: 0.1906 | Z37: 0.1914 | AA37: 0.1966
B38: Average | C38: =AVERAGE(C35:C37) -> 0.34693333 | D38: =AVERAGE(D35:D37) -> 0.34393333 | E38: =AVERAGE(E35:E37) -> 0.32823333 | F38: =AVERAGE(F35:F37) -> 0.32143333 | G38: =AVERAGE(G35:G37) -> 0.3062 | H38: =AVERAGE(H35:H37) -> 0.29536667 | I38: =AVERAGE(I35:I37) -> 0.15026667 | J38: =AVERAGE(J35:J37) -> 0.15733333 | ... N38: =AVERAGE(N35:N37) -> 0.1514
A40: 41750 | B40: Temperature(°C) | C40: 1 | D40: 2 | E40: 3 | F40: 4 | G40: 5 | H40: 6 | I40: 7 | J40: 8 | K40: 9 | L40: 10 | M40: 11 | N40: 12 | P40: 1 | Q40: 2 | R40: 3 | S40: 4 | T40: 5 | U40: 6 | V40: 7 | W40: 8 | X40: 9 | Y40: 10 | Z40: 11 | AA40: 12
A41: 0.41666667 | B41: 23.2 | C41: 0.318 | D41: 0.3301 | E41: 0.3112 | F41: 0.3109 | G41: 0.2981 | H41: 0.3111 | I41: 0.1594 | J41: 0.1614 | K41: 0.1632 | L41: 0.1557 | M41: 0.1623 | N41: 0.1589 | P41: 0.3542 | Q41: 0.3742 | R41: 0.3393 | S41: 0.3453 | T41: 0.3273 | U41: 0.3391 | V41: 0.2021 | W41: 0.2089 | X41: 0.2088 | Y41: 0.2002 | Z41: 0.2084 | AA41: 0.2037
C42: 0.3172 | D42: 0.33 | E42: 0.3091 | F42: 0.3101 | G42: 0.2963 | H42: 0.2807 | I42: 0.1574 | J42: 0.1594 | K42: 0.1601 | L42: 0.1553 | M42: 0.1583 | N42: 0.1563 | P42: 0.3592 | Q42: 0.3745 | R42: 0.3425 | S42: 0.3424 | T42: 0.3303 | U42: 0.3161 | V42: 0.2027 | W42: 0.2073 | X42: 0.2047 | Y42: 0.1998 | Z42: 0.2043 | AA42: 0.2022
C43: 0.3145 | D43: 0.3349 | E43: 0.3098 | F43: 0.3114 | G43: 0.2867 | H43: 0.2763 | I43: 0.1561 | J43: 0.1568 | K43: 0.1587 | L43: 0.1535 | M43: 0.1542 | N43: 0.1534 | P43: 0.3531 | Q43: 0.3811 | R43: 0.3429 | S43: 0.3457 | T43: 0.3225 | U43: 0.3111 | V43: 0.2038 | W43: 0.2059 | X43: 0.2043 | Y43: 0.1994 | Z43: 0.2033 | AA43: 0.199
B44: Average | C44: =AVERAGE(C41:C43) -> 0.31656667 | D44: =AVERAGE(D41:D43) -> 0.33166667 | E44: =AVERAGE(E41:E43) -> 0.31003333 | F44: =AVERAGE(F41:F43) -> 0.3108 | G44: =AVERAGE(G41:G43) -> 0.2937 | H44: =AVERAGE(H41:H43) -> 0.28936667 | I44: =AVERAGE(I41:I43) -> 0.15763333 | J44: =AVERAGE(J41:J43) -> 0.1592 | ... N44: =AVERAGE(N41:N43) -> 0.1562
B46: Temperature(°C) | C46: 1 | D46: 2 | E46: 3 | F46: 4 | G46: 5 | H46: 6 | I46: 7 | J46: 8 | K46: 9 | L46: 10 | M46: 11 | N46: 12 | P46: 1 | Q46: 2 | R46: 3 | S46: 4 | T46: 5 | U46: 6 | V46: 7 | W46: 8 | X46: 9 | Y46: 10 | Z46: 11 | AA46: 12
B47: 23.7
B49: 1 | C49: 0.32 | D49: 0.3462 | E49: 0.3179 | F49: 0.31 | G49: 0.2939 | H49: 0.2881 | I49: 0.1581 | J49: 0.161 | K49: 0.1655 | L49: 0.1602 | M49: 0.1607 | N49: 0.1608 | P49: 0.3567 | Q49: 0.3871 | R49: 0.3518 | S49: 0.3469 | T49: 0.3276 | U49: 0.3215 | V49: 0.2021 | W49: 0.2054 | X49: 0.2084 | Y49: 0.2027 | Z49: 0.2055 | AA49: 0.2051
B50: =B49*2 -> 2 | C50: 0.1302 | D50: 0.1438 | E50: 0.1407 | F50: 0.1325 | G50: 0.1307 | H50: 0.1232 | I50: 0.085 | J50: 0.0863 | K50: 0.0893 | L50: 0.0865 | M50: 0.0879 | N50: 0.0889 | P50: 0.1446 | Q50: 0.163 | R50: 0.153 | S50: 0.1459 | T50: 0.1405 | U50: 0.1367 | V50: 0.106 | W50: 0.1074 | X50: 0.1109 | Y50: 0.1077 | Z50: 0.1099 | AA50: 0.1092
B51: =B50*2 -> 4 | C51: 0.0775 | D51: 0.0808 | E51: 0.0778 | F51: 0.0764 | G51: 0.0762 | H51: 0.0726 | I51: 0.054 | J51: 0.0552 | K51: 0.057 | L51: 0.0559 | M51: 0.0565 | N51: 0.056 | P51: 0.0837 | Q51: 0.0883 | R51: 0.0834 | S51: 0.0833 | T51: 0.0836 | U51: 0.0781 | V51: 0.063 | W51: 0.0644 | X51: 0.066 | Y51: 0.0659 | Z51: 0.0657 | AA51: 0.0655
B52: =B51*2 -> 8 | C52: 0.0528 | D52: 0.054 | E52: 0.0525 | F52: 0.0531 | G52: 0.0529 | H52: 0.0498 | I52: 0.0409 | J52: 0.0412 | K52: 0.0424 | L52: 0.0424 | M52: 0.043 | N52: 0.043 | P52: 0.0555 | Q52: 0.0562 | R52: 0.0556 | S52: 0.0556 | T52: 0.0552 | U52: 0.0523 | V52: 0.0448 | W52: 0.0456 | X52: 0.0459 | Y52: 0.0472 | Z52: 0.0475 | AA52: 0.0457
...

Sheet Thiamine Samples
A2: Day 3 Thiamine samples - 10 ml harvested from each culture
A4: Concentrated and transferred pellet to 2 ml screw cap tubes, stored at -80, freeze dried
A6: Culture # | B6: Empty tube | C6: w/ dry pellet | D6: Pellet (mg)
A7: 1 | B7: 1.22614 | C7: 1.23029 | D7: =(C7-B7)*1000 -> 4.15
A8: 2 | B8: 1.21609 | C8: 1.22023 | D8: =(C8-B8)*1000 -> 4.14
A9: 3 | B9: 1.21467 | C9: 1.21935 | D9: =(C9-B9)*1000 -> 4.68
A10: 4 | B10: 1.22428 | C10: 1.22877 | D10: =(C10-B10)*1000 -> 4.49
A11: 5 | B11: 1.21675 | C11: 1.22161 | D11: =(C11-B11)*1000 -> 4.86
A12: 6 | B12: 1.22429 | C12: 1.22891 | D12: =(C12-B12)*1000 -> 4.62
A13: 7 | B13: 1.22719 | C13: 1.22848 | D13: =(C13-B13)*1000 -> 1.29
A14: 8 | B14: 1.21949 | C14: 1.22074 | D14: =(C14-B14)*1000 -> 1.25
A15: 9 | B15: 1.22696 | C15: 1.22819 | D15: =(C15-B15)*1000 -> 1.23
A16: 10 | B16: 1.22262 | C16: 1.22379 | D16: =(C16-B16)*1000 -> 1.17
A17: 11 | B17: 1.21647 | C17: 1.21768 | D17: =(C17-B17)*1000 -> 1.21
A18: 12 | B18: 1.22714 | C18: 1.22828 | D18: =(C18-B18)*1000 -> 1.14
A20: Day 6 Thiamine samples - final harvest, of which, weighed out ?? Mg of dry mass into 2 ml screw-cap tubes
B22: Cold MeOH extraction method | F22: TCA extraction method
A23: Culture # | B23: Empty tube | C23: w/ dry pellet | D23: Pellet (mg) | F23: Empty tube | G23: w/ dry pellet | H23: Pellet (mg)
A24: 1 | B24: 1.18731 | C24: 1.19242 | D24: =(C24-B24)*1000 -> 5.11 | F24: 1.18753 | G24: 1.19243 | H24: =(G24-F24)*1000 -> 4.9
A25: 2 | B25: 1.18804 | C25: 1.19309 | D25: =(C25-B25)*1000 -> 5.05 | F25: 1.18587 | G25: 1.1909 | H25: =(G25-F25)*1000 -> 5.03
A26: 3 | B26: 1.17756 | C26: 1.18258 | D26: =(C26-B26)*1000 -> 5.02 | F26: 1.18338 | G26: 1.18836 | H26: =(G26-F26)*1000 -> 4.98
A27: 7 | B27: 1.18391 | C27: 1.18844 | D27: =(C27-B27)*1000 -> 4.53 | F27: 1.17636 | G27: 1.1812 | H27: =(G27-F27)*1000 -> 4.84
A28: 8 | B28: 1.17733 | C28: 1.18219 | D28: =(C28-B28)*1000 -> 4.86 | F28: 1.18841 | G28: 1.19341 | H28: =(G28-F28)*1000 -> 5
A29: 9 | B29: 1.17599 | C29: 1.18084 | D29: =(C29-B29)*1000 -> 4.85 | F29: 1.18907 | G29: 1.19398 | H29: =(G29-F29)*1000 -> 4.91

Sheet pH
A1: This culture is pH adjusted | D1: 10 g/ L Glc | J1: 0 g/L Glc
A2: Date | B2: Time | C2: Hour | D2: Culture 1 | E2: Culture 2 | F2: Culture 3 | G2: Culture 4 | H2: Culture 5 | I2: Culture 6 | J2: Culture 7 | K2: Culture 8 | L2: Culture 9 | M2: Culture 10 | N2: Culture 11 | O2: Culture 12
A3: 41745 | B3: 0.45833333 | C3: 0 | D3: 7 | E3: 7 | F3: 7 | G3: 7 | H3: 7 | I3: 7 | J3: 7 | K3: 7 | L3: 7 | M3: 7 | N3: 7 | O3: 7
A4: 41746 | B4: 0.41666667 | C4: =C3+B4-B3+24 -> 23.958333 | D4: 7 | E4: 7 | F4: 7 | G4: 7 | H4: 7 | I4: 7 | J4: 7 | K4: 7 | L4: 7 | M4: 7 | N4: 7 | O4: 7 | P4: Adjusted pH to 7 in all cultures, 3 drops 3M NaOH to pH 6.5
A5: =A4 -> 41746 | B5: 0.4375 | C5: =C4+B5-B4 -> 23.979167 | D5: 7 | E5: 7 | F5: 7 | G5: 7 | H5: 7 | I5: 7 | J5: 7 | K5: 7 | L5: 7 | M5: 7 | N5: 7 | O5: 7
A6: 41747 | B6: ='Summary OD'!B7 -> 0.45833333 | C6: =C4+B6-B4+24 -> 48 | D6: 5 | E6: 5 | F6: 5 | G6: 5 | H6: 5 | I6: 5 | J6: 7 | K6: 7 | L6: 7 | M6: 7 | N6: 7 | O6: 7 | P6: Adjusted pH to 7 in all cultures, added 8 drops to pH 5
A7: =A6 -> 41747 | B7: 0.47916667 | C7: =C6+B7-B6 -> 48.020833 | D7: 7 | E7: 7 | F7: 7 | G7: 7 | H7: 7 | I7: 7 | J7: 7 | K7: 7 | L7: 7 | M7: 7 | N7: 7 | O7: 7
A8: 41748 | B8: ='Summary OD'!B8 -> 0.4375 | C8: =C6+B8-B6+24 -> 71.979167 | D8: 6 | E8: 6 | F8: 6 | G8: 6 | H8: 6 | I8: 6 | J8: 7 | K8: 7 | L8: 7 | M8: 7 | N8: 7 | O8: 7 | P8: Adjusted pH to 7, added 5 drops to pH 6
A9: =A8 -> 41748 | B9: 0.64583333 | C9: =C7+B9-B7+24 -> 72.1875 | D9: 7 | E9: 7 | F9: 7 | G9: 7 | H9: 7 | I9: 7 | J9: 7 | K9: 7 | L9: 7 | M9: 7 | N9: 7 | O9: 7
A10: 41665 | B10: ='Summary OD'!B9 -> 0.4375 | C10: =C8+B10-B8+24 -> 95.979167 | D10: 6.5 | E10: 6.5 | F10: 6.5 | G10: 6.5 | H10: 6.5 | I10: 6.5 | J10: 7 | K10: 7 | L10: 7 | M10: 7 | N10: 7 | O10: 7 | P10: Adjusted pH to 7, add 3 drops to pH 6.5
A11: =A10 -> 41665 | B11: 0.66666667 | C11: =C9+B11-B9+24 -> 96.208333 | D11: 7 | E11: 7 | F11: 7 | G11: 7 | H11: 7 | I11: 7 | J11: 7 | K11: 7 | L11: 7 | M11: 7 | N11: 7 | O11: 7
A12: 41666 | B12: 0.66666667 | C12: =C10+B12-B10+24 -> 120.20833 | D12: 6.5 | E12: 6.5 | F12: 6.5 | G12: 6.5 | H12: 6.5 | I12: 6.5 | J12: 7 | K12: 7 | L12: 7 | M12: 7 | N12: 7 | O12: 7

Sheet Metabolomics Coding
A1: Objective 2 Experiment 6
A3: Mixotrophic Metabolomics Analysis
A4: Axenic Chlorella minutissima (UTEX 2341) was grown under mixotrophic and autotrophic conditions to compare metabolome
A5: Cultures #1-6 were supplied with 10 g/L glucose, cultures #7-12 were not supplied with glucose (autotrophic)
A6: Cultures were grown with 125 ml/min air, 10,000 lux illumination
A8: Objective: Observe relative changes in central metabolite pool sizes between two treatments
A10: Code (top label) | B10: Code (side label) | C10: Glucose conc (g/L) | D10: Sample day | E10: Culture # | F10: Algae conc (g/L)
A11: BH1 | B11: D1 #1 Obj 2 Exp 6, MixMetab BH | C11: 10 g/L | D11: 1 | E11: 1 | F11: 0.091936783
A12: BH2 | B12: D1 #2 Obj 2 Exp 6, MixMetab BH | C12: 10 g/L | D12: 1 | E12: 2 | F12: 0.078370217
A13: BH3 | B13: D1 #3 Obj 2 Exp 6, MixMetab BH | C13: 10 g/L | D13: 1 | E13: 3 | F13: 0.076781567
A14: BH4 | B14: D1 #4 Obj 2 Exp 6, MixMetab BH | C14: 10 g/L | D14: 1 | E14: 4 | F14: 0.07902585
A15: BH5 | B15: D1 #5 Obj 2 Exp 6, MixMetab BH | C15: 10 g/L | D15: 1 | E15: 5 | F15: 0.071965183 | G15: Sample lost
A16: BH6 | B16: D1 #6 Obj 2 Exp 6, MixMetab BH | C16: 10 g/L | D16: 1 | E16: 6 | F16: 0.0780424
A17: BH7 | B17: D1 #7 Obj 2 Exp 6, MixMetab BH | C17: 0 g/L | D17: 1 | E17: 7 | F17: 0.074234683
A18: BH8 | B18: D1 #8 Obj 2 Exp 6, MixMetab BH | C18: 0 g/L | D18: 1 | E18: 8 | F18: 0.077790233
A19: BH9 | B19: D1 #9 Obj 2 Exp 6, MixMetab BH | C19: 0 g/L | D19: 1 | E19: 9 | F19: 0.077689367
A20: BH10 | B20: D1 #10 Obj 2 Exp 6, MixMetab BH | C20: 0 g/L | D20: 1 | E20: 10 | F20: 0.078319783
A21: BH11 | B21: D1 #11 Obj 2 Exp 6, MixMetab BH | C21: 0 g/L | D21: 1 | E21: 11 | F21: 0.081648383
A22: BH12 | B22: D1 #12 Obj 2 Exp 6, MixMetab BH | C22: 0 g/L | D22: 1 | E22: 12 | F22: 0.0763781
A23: BH13 | B23: D2 #1 Obj 2 Exp 6, MixMetab BH | C23: 10 g/L | D23: 2 | E23: 1 | F23: 0.31108368
A24: BH14 | B24: D2 #2 Obj 2 Exp 6, MixMetab BH | C24: 10 g/L | D24: 2 | E24: 2 | F24: 0.3160776
A25: BH15 | B25: D2 #3 Obj 2 Exp 6, MixMetab BH | C25: 10 g/L | D25: 2 | E25: 3 | F25: 0.31681744
A26: BH16 | B26: D2 #4 Obj 2 Exp 6, MixMetab BH | C26: 10 g/L | D26: 2 | E26: 4 | F26: 0.29961616
A27: BH17 | B27: D2 #5 Obj 2 Exp 6, MixMetab BH | C27: 10 g/L | D27: 2 | E27: 5 | F27: 0.31062128
... A82: BH72 | B82: D6 #12 Obj 2 Exp 6, MixMetab BH | C82: 0 g/L | D82: 6 | E82: 12 | F82: 0.0981653

Sheet HPLC Summary
A2: Glucose | O2: Averages Based on Treatment | T2: 95% CI | Z2: Net Change over 5 days | AE2: Consumption/ Production | AR2: SD | AV2: SE | AZ2: 95% CI
A3: Day | B3: Culture 1 | C3: Culture 2 | D3: Culture 3 | E3: Culture 4 | F3: Culture 5 | G3: Culture 6 | H3: Culture 7 | I3: Culture 8 | J3: Culture 9 | K3: Culture 10 | L3: Culture 11 | M3: Culture 12 | O3: Control | P3: Thi | Q3: Pant | R3: Thi+Pant | T3: Control | U3: Thi | V3: Pant | W3: Thi+Pant | Z3: Control | AA3: Thi | AB3: Pant | AC3: Thi+Pant | AE3: =B3 -> Culture 1 | AF3: =C3 -> Culture 2 | AG3: =D3 -> Culture 3 | AH3: =E3 -> Culture 4 | AI3: =F3 -> Culture 5 | AJ3: =G3 -> Culture 6 | AK3: =H3 -> Culture 7 | AL3: =I3 -> Culture 8 | ... AP3: =M3 -> Culture 12 | AR3: =Z3 -> Control | AS3: =AA3 -> Thi | AT3: =AB3 -> Pant | AU3: =AC3 -> Thi+Pant | AV3: =AR3 -> Control | AW3: =AS3 -> Thi | AX3: =AT3 -> Pant | AY3: =AU3 -> Thi+Pant | AZ3: =AV3 -> Control | BA3: =AW3 -> Thi | BB3: =AX3 -> Pant | BC3: =AY3 -> Thi+Pant
A4: 0 | B4: =#REF! -> #REF! | C4: =#REF! -> #REF! | D4: =#REF! -> #REF! | E4: =#REF! -> #REF! | F4: =#REF! -> #REF! | G4: =#REF! -> #REF! | H4: =#REF! -> #REF! | I4: =#REF! -> #REF! | ... M4: =#REF! -> #REF! | O4: =AVERAGE(B4:D4) -> #REF! | P4: =AVERAGE(E4:G4) -> #REF! | Q4: =AVERAGE(H4:J4) -> #REF! | R4: =AVERAGE(K4:M4) -> #REF! | T4: =STDEV(B4:D4)/SQRT(3)*4.303 -> #REF! | U4: =STDEV(E4:G4)/SQRT(3)*4.303 -> #REF! | V4: =STDEV(H4:J4)/SQRT(3)*4.303 -> #REF! | W4: =STDEV(K4:M4)/SQRT(3)*4.303 -> #REF! | Y4: Glucose consumed | Z4: =O4-O9 -> #REF! | AA4: =P4-P9 -> #REF! | AB4: =Q4-Q9 -> #REF! | AC4: =R4-R9 -> #REF! | AD4: Lactate | AE4: =B4-B9 -> #REF! | AF4: =C4-C9 -> #REF! | AG4: =D4-D9 -> #REF! | AH4: =E4-E9 -> #REF! | AI4: =F4-F9 -> #REF! | AJ4: =G4-G9 -> #REF! | AK4: =H4-H9 -> #REF! | AL4: =I4-I9 -> #REF! | ... AP4: =M4-M9 -> #REF! | AR4: =STDEV(AE4:AG4) -> #REF! | AS4: =STDEV(AH4:AJ4) -> #REF! | AT4: =STDEV(AK4:AM4) -> #REF! | AU4: =STDEV(AN4:AP4) -> #REF! | AV4: =AR4/SQRT(3) -> #REF! | AW4: =AS4/SQRT(3) -> #REF! | AX4: =AT4/SQRT(3) -> #REF! | AY4: =AU4/SQRT(3) -> #REF! | AZ4: =AV4*4.303 -> #REF! | BA4: =AW4*4.303 -> #REF! | BB4: =AX4*4.303 -> #REF! | BC4: =AY4*4.303 -> #REF!
A5: 1 | B5: =#REF! -> #REF! | C5: =#REF! -> #REF! | D5: =#REF! -> #REF! | E5: =#REF! -> #REF! | F5: =#REF! -> #REF! | G5: =#REF! -> #REF! | H5: =#REF! -> #REF! | I5: =#REF! -> #REF! | ... M5: =#REF! -> #REF! | O5: =AVERAGE(B5:D5) -> #REF! | P5: =AVERAGE(E5:G5) -> #REF! | Q5: =AVERAGE(H5:J5) -> #REF! | R5: =AVERAGE(K5:M5) -> #REF! | T5: =STDEV(B5:D5)/SQRT(3)*4.303 -> #REF! | U5: =STDEV(E5:G5)/SQRT(3)*4.303 -> #REF! | V5: =STDEV(H5:J5)/SQRT(3)*4.303 -> #REF! | W5: =STDEV(K5:M5)/SQRT(3)*4.303 -> #REF! | Y5: Pyruvate secreted | Z5: =O18-O13 -> #REF! | AA5: =P18-P13 -> #REF! | AB5: =Q18-Q13 -> #REF! | AC5: =R18-R13 -> #REF! | AD5: Formate | AE5: =B18-B13 -> #REF! | AF5: =C18-C13 -> #REF! | AG5: =D18-D13 -> #REF! | AH5: =E18-E13 -> #REF! | AI5: =F18-F13 -> #REF! | AJ5: =G18-G13 -> #REF! | AK5: =H18-H13 -> #REF! | AL5: =I18-I13 -> #REF! | ... AP5: =M18-M13 -> #REF! | AR5: =STDEV(AE5:AG5) -> #REF! | AS5: =STDEV(AH5:AJ5) -> #REF! | AT5: =STDEV(AK5:AM5) -> #REF! | AU5: =STDEV(AN5:AP5) -> #REF! | AV5: =AR5/SQRT(3) -> #REF! | AW5: =AS5/SQRT(3) -> #REF! | AX5: =AT5/SQRT(3) -> #REF! | AY5: =AU5/SQRT(3) -> #REF! | AZ5: =AV5*4.303 -> #REF! | BA5: =AW5*4.303 -> #REF! | BB5: =AX5*4.303 -> #REF! | BC5: =AY5*4.303 -> #REF!
A6: 2 | B6: =#REF! -> #REF! | C6: =#REF! -> #REF! | D6: =#REF! -> #REF! | E6: =#REF! -> #REF! | F6: =#REF! -> #REF! | G6: =#REF! -> #REF! | H6: =#REF! -> #REF! | I6: =#REF! -> #REF! | ... M6: =#REF! -> #REF! | O6: =AVERAGE(B6,D6) -> #REF! | P6: =AVERAGE(E6:G6) -> #REF! | Q6: =AVERAGE(H6:J6) -> #REF! | R6: =AVERAGE(K6:M6) -> #REF! | T6: =STDEV(B6,D6)/SQRT(2)*12.71 -> #REF! | U6: =STDEV(E6:G6)/SQRT(3)*4.303 -> #REF! | V6: =STDEV(H6:J6)/SQRT(3)*4.303 -> #REF! | W6: =STDEV(K6:M6)/SQRT(3)*4.303 -> #REF! | Y6: Succinate | Z6: =O27-O22 -> #REF! | AA6: =P27-P22 -> #REF! | AB6: =Q27-Q22 -> #REF! | AC6: =R27-R22 -> #REF! | AD6: Acetate | AE6: =B27-B22 -> #REF! | AF6: =C27-C22 -> #REF! | AG6: =D27-D22 -> #REF! | AH6: =E27-E22 -> #REF! | AI6: =F27-F22 -> #REF! | AJ6: =G27-G22 -> #REF! | AK6: =H27-H22 -> #REF! | AL6: =I27-I22 -> #REF! | ... AP6: =M27-M22 -> #REF! | AR6: =STDEV(AE6:AG6) -> #REF! | AS6: =STDEV(AH6:AJ6) -> #REF! | AT6: =STDEV(AK6:AM6) -> #REF! | AU6: =STDEV(AN6:AP6) -> #REF! | AV6: =AR6/SQRT(3) -> #REF! | AW6: =AS6/SQRT(3) -> #REF! | AX6: =AT6/SQRT(3) -> #REF! | AY6: =AU6/SQRT(3) -> #REF! | AZ6: =AV6*4.303 -> #REF! | BA6: =AW6*4.303 -> #REF! | BB6: =AX6*4.303 -> #REF! | BC6: =AY6*4.303 -> #REF!
A7: 3 | B7: =#REF! -> #REF! | C7: =#REF! -> #REF! | D7: =#REF! -> #REF! | E7: =#REF! -> #REF! | F7: =#REF! -> #REF! | G7: =#REF! -> #REF! | H7: =#REF! -> #REF! | I7: =#REF! -> #REF! | ... M7: =#REF! -> #REF! | O7: =AVERAGE(B7:D7) -> #REF! | P7: =AVERAGE(E7:G7) -> #REF! | Q7: =AVERAGE(H7:J7) -> #REF! | R7: =AVERAGE(K7:M7) -> #REF! | T7: =STDEV(B7:D7)/SQRT(3)*4.303 -> #REF! | U7: =STDEV(E7:G7)/SQRT(3)*4.303 -> #REF! | V7: =STDEV(H7:J7)/SQRT(3)*4.303 -> #REF! | W7: =STDEV(K7:M7)/SQRT(3)*4.303 -> #REF! | Y7: Fumarate | Z7: =O36-O31 -> #REF! | AA7: =P36-P31 -> #REF! | AB7: =Q36-Q31 -> #REF! | AC7: =R36-R31 -> #REF! | AE7: =B36-B31 -> #REF! | AF7: =C36-C31 -> #REF! | AG7: =D36-D31 -> #REF! | AH7: =E36-E31 -> #REF! | AI7: =F36-F31 -> #REF! | AJ7: =G36-G31 -> #REF! | AK7: =H36-H31 -> #REF! | AL7: =I36-I31 -> #REF! | ... AP7: =M36-M31 -> #REF! | AR7: =STDEV(AE7:AG7) -> #REF! | AS7: =STDEV(AH7:AJ7) -> #REF! | AT7: =STDEV(AK7:AM7) -> #REF! | AU7: =STDEV(AN7:AP7) -> #REF! | AV7: =AR7/SQRT(3) -> #REF! | AW7: =AS7/SQRT(3) -> #REF! | AX7: =AT7/SQRT(3) -> #REF! | AY7: =AU7/SQRT(3) -> #REF! | AZ7: =AV7*4.303 -> #REF! | BA7: =AW7*4.303 -> #REF! | BB7: =AX7*4.303 -> #REF! | BC7: =AY7*4.303 -> #REF!
A8: 4 | B8: =#REF! -> #REF! | C8: =#REF! -> #REF! | D8: =#REF! -> #REF! | E8: =#REF! -> #REF! | F8: =#REF! -> #REF! | G8: =#REF! -> #REF! | H8: =#REF! -> #REF! | I8: =#REF! -> #REF! | ... M8: =#REF! -> #REF! | O8: =AVERAGE(B8:D8) -> #REF! | P8: =AVERAGE(E8:G8) -> #REF! | Q8: =AVERAGE(H8:J8) -> #REF! | R8: =AVERAGE(K8:M8) -> #REF! | T8: =STDEV(B8:D8)/SQRT(3)*4.303 -> #REF! | U8: =STDEV(E8:G8)/SQRT(3)*4.303 -> #REF! | V8: =STDEV(H8:J8)/SQRT(3)*4.303 -> #REF! | W8: =STDEV(K8:M8)/SQRT(3)*4.303 -> #REF!
A9: 5 | B9: =#REF! -> #REF! | C9: =#REF! -> #REF! | D9: =#REF! -> #REF! | E9: =#REF! -> #REF! | F9: =#REF! -> #REF! | G9: =#REF! -> #REF! | H9: =#REF! -> #REF! | I9: =#REF! -> #REF! | ... M9: =#REF! -> #REF! | O9: =AVERAGE(B9:D9) -> #REF! | P9: =AVERAGE(E9:G9) -> #REF! | Q9: =AVERAGE(H9:J9) -> #REF! | R9: =AVERAGE(K9:M9) -> #REF! | T9: =STDEV(B9:D9)/SQRT(3)*4.303 -> #REF! | U9: =STDEV(E9:G9)/SQRT(3)*4.303 -> #REF! | V9: =STDEV(H9:J9)/SQRT(3)*4.303 -> #REF! | W9: =STDEV(K9:M9)/SQRT(3)*4.303 -> #REF!
A11: Pyruvate | O11: Averages Based on Treatment
A12: Day | B12: Culture 1 | C12: Culture 2 | D12: Culture 3 | E12: Culture 4 | F12: Culture 5 | G12: Culture 6 | H12: Culture 7 | I12: Culture 8 | J12: Culture 9 | K12: Culture 10 | L12: Culture 11 | M12: Culture 12 | O12: Control | P12: Thi | Q12: Pant | R12: Thi+Pant | T12: Control | U12: Thi | V12: Pant | W12: Thi+Pant
A13: 0 | B13: =#REF! -> #REF! | C13: =#REF! -> #REF! | D13: =#REF! -> #REF! | E13: =#REF! -> #REF! | F13: =#REF! -> #REF! | G13: =#REF! -> #REF! | H13: =#REF! -> #REF! | I13: =#REF! -> #REF! | ... M13: =#REF! -> #REF! | O13: =AVERAGE(B13:D13) -> #REF! | P13: =AVERAGE(E13:G13) -> #REF! | Q13: =AVERAGE(H13:J13) -> #REF! | R13: =AVERAGE(K13:M13) -> #REF! | T13: =STDEV(B13:D13)/SQRT(3)*4.303 -> #REF! | U13: =STDEV(E13:G13)/SQRT(3)*4.303 -> #REF! | V13: =STDEV(H13:J13)/SQRT(3)*4.303 -> #REF! | W13: =STDEV(K13:M13)/SQRT(3)*4.303 -> #REF!
A14: 1 | B14: =#REF! -> #REF! | C14: =#REF! -> #REF! | D14: =#REF! -> #REF! | E14: =#REF! -> #REF! | F14: =#REF! -> #REF! | G14: =#REF! -> #REF! | H14: =#REF! -> #REF! | I14: =#REF! -> #REF! | ... M14: =#REF! -> #REF! | O14: =AVERAGE(B14:D14) -> #REF! | P14: =AVERAGE(E14:G14) -> #REF! | Q14: =AVERAGE(H14:J14) -> #REF! | R14: =AVERAGE(K14:M14) -> #REF! | T14: =STDEV(B14:D14)/SQRT(3)*4.303 -> #REF! | U14: =STDEV(E14:G14)/SQRT(3)*4.303 -> #REF! | V14: =STDEV(H14:J14)/SQRT(3)*4.303 -> #REF! | W14: =STDEV(K14:M14)/SQRT(3)*4.303 -> #REF!
A15: 2 | B15: =#REF! -> #REF! | C15: =#REF! -> #REF! | D15: =#REF! -> #REF! | E15: =#REF! -> #REF! | F15: =#REF! -> #REF! | G15: =#REF! -> #REF! | H15: =#REF! -> #REF! | I15: =#REF! -> #REF! | ... M15: =#REF! -> #REF! | O15: =AVERAGE(B15:D15) -> #REF! | P15: =AVERAGE(E15:G15) -> #REF! | Q15: =AVERAGE(H15:J15) -> #REF! | R15: =AVERAGE(K15:M15) -> #REF! | T15: =STDEV(B15:D15)/SQRT(3)*4.303 -> #REF! | U15: =STDEV(E15:G15)/SQRT(3)*4.303 -> #REF! | V15: =STDEV(H15:J15)/SQRT(3)*4.303 -> #REF! | W15: =STDEV(K15:M15)/SQRT(3)*4.303 -> #REF!
A16: 3 | B16: =#REF! -> #REF! | C16: =#REF! -> #REF! | D16: =#REF! -> #REF! | E16: =#REF! -> #REF! | F16: =#REF! -> #REF! | G16: =#REF! -> #REF! | H16: =#REF! -> #REF! | I16: =#REF! -> #REF! | ... M16: =#REF! -> #REF! | O16: =AVERAGE(B16:D16) -> #REF! | P16: =AVERAGE(E16:G16) -> #REF! | Q16: =AVERAGE(H16:J16) -> #REF! | R16: =AVERAGE(K16:M16) -> #REF! | T16: =STDEV(B16:D16)/SQRT(3)*4.303 -> #REF! | U16: =STDEV(E16:G16)/SQRT(3)*4.303 -> #REF! | V16: =STDEV(H16:J16)/SQRT(3)*4.303 -> #REF! | W16: =STDEV(K16:M16)/SQRT(3)*4.303 -> #REF!
A17: 4 | B17: =#REF! -> #REF! | C17: =#REF! -> #REF! | D17: =#REF! -> #REF! | E17: =#REF! -> #REF! | F17: =#REF! -> #REF! | G17: =#REF! -> #REF! | H17: =#REF! -> #REF! | I17: =#REF! -> #REF! | ... M17: =#REF! -> #REF! | O17: =AVERAGE(B17:D17) -> #REF! | P17: =AVERAGE(E17:G17) -> #REF! | Q17: =AVERAGE(H17:J17) -> #REF! | R17: =AVERAGE(K17:M17) -> #REF! | T17: =STDEV(B17:D17)/SQRT(3)*4.303 -> #REF! | U17: =STDEV(E17:G17)/SQRT(3)*4.303 -> #REF! | V17: =STDEV(H17:J17)/SQRT(3)*4.303 -> #REF! | W17: =STDEV(K17:M17)/SQRT(3)*4.303 -> #REF!
A18: 5 | B18: =#REF! -> #REF! | C18: =#REF! -> #REF! | D18: =#REF! -> #REF! | E18: =#REF! -> #REF! | F18: =#REF! -> #REF! | G18: =#REF! -> #REF! | H18: =#REF! -> #REF! | I18: =#REF! -> #REF! | ... M18: =#REF! -> #REF! | O18: =AVERAGE(B18:D18) -> #REF! | P18: =AVERAGE(E18:G18) -> #REF! | Q18: =AVERAGE(H18:J18) -> #REF! | R18: =AVERAGE(K18:M18) -> #REF! | T18: =STDEV(B18:D18)/SQRT(3)*4.303 -> #REF! | U18: =STDEV(E18:G18)/SQRT(3)*4.303 -> #REF! | V18: =STDEV(H18:J18)/SQRT(3)*4.303 -> #REF! | W18: =STDEV(K18:M18)/SQRT(3)*4.303 -> #REF!
A20: Succinate | O20: Averages Based on Treatment
A21: Day | B21: Culture 1 | C21: Culture 2 | D21: Culture 3 | E21: Culture 4 | F21: Culture 5 | G21: Culture 6 | H21: Culture 7 | I21: Culture 8 | J21: Culture 9 | K21: Culture 10 | L21: Culture 11 | M21: Culture 12 | O21: Control | P21: Thi | Q21: Pant | R21: Thi+Pant | T21: Control | U21: Thi | V21: Pant | W21: Thi+Pant
A22: 0 | B22: 0 | C22: 0 | D22: 0 | E22: 0 | F22: 0 | G22: 0 | H22: 0 | I22: 0 | J22: 0 | K22: 0 | L22: 0 | M22: 0 | O22: =AVERAGE(B22:D22) -> 0 | P22: =AVERAGE(E22:G22) -> 0 | Q22: =AVERAGE(H22:J22) -> 0 | R22: =AVERAGE(K22:M22) -> 0 | T22: =STDEV(B22:D22)/SQRT(3)*4.303 -> 0 | U22: =STDEV(E22:G22)/SQRT(3)*4.303 -> 0 | V22: =STDEV(H22:J22)/SQRT(3)*4.303 -> 0 | W22: =STDEV(K22:M22)/SQRT(3)*4.303 -> 0
A23: 1 | B23: =#REF! -> #REF! | C23: =#REF! -> #REF! | D23: =#REF! -> #REF! | E23: =#REF! -> #REF! | F23: =#REF! -> #REF! | G23: =#REF! -> #REF! | H23: =#REF! -> #REF! | I23: =#REF! -> #REF! | ... M23: =#REF! -> #REF! | O23: =AVERAGE(B23:D23) -> #REF! | P23: =AVERAGE(E23:G23) -> #REF! | Q23: =AVERAGE(H23:J23) -> #REF! | R23: =AVERAGE(K23:M23) -> #REF! | T23: =STDEV(B23:D23)/SQRT(3)*4.303 -> #REF! | U23: =STDEV(E23:G23)/SQRT(3)*4.303 -> #REF! | V23: =STDEV(H23:J23)/SQRT(3)*4.303 -> #REF! | W23: =STDEV(K23:M23)/SQRT(3)*4.303 -> #REF!
A24: 2 | B24: =#REF! -> #REF! | C24: =#REF! -> #REF! | D24: =#REF! -> #REF! | E24: =#REF! -> #REF! | F24: =#REF! -> #REF! | G24: =#REF! -> #REF! | H24: =#REF! -> #REF! | I24: =#REF! -> #REF! | ... M24: =#REF! -> #REF! | O24: =AVERAGE(B24:D24) -> #REF! | P24: =AVERAGE(E24:G24) -> #REF! | Q24: =AVERAGE(H24:J24) -> #REF! | R24: =AVERAGE(K24:M24) -> #REF! | T24: =STDEV(B24:D24)/SQRT(3)*4.303 -> #REF! | U24: =STDEV(E24:G24)/SQRT(3)*4.303 -> #REF! | V24: =STDEV(H24:J24)/SQRT(3)*4.303 -> #REF! | W24: =STDEV(K24:M24)/SQRT(3)*4.303 -> #REF!
A25: 3 | B25: =#REF! -> #REF! | C25: =#REF! -> #REF! | D25: =#REF! -> #REF! | E25: =#REF! -> #REF! | F25: =#REF! -> #REF! | G25: =#REF! -> #REF! | H25: =#REF! -> #REF! | I25: =#REF! -> #REF! | ... M25: =#REF! -> #REF! | O25: =AVERAGE(B25:D25) -> #REF! | P25: =AVERAGE(E25:G25) -> #REF! | Q25: =AVERAGE(H25:J25) -> #REF! | R25: =AVERAGE(K25:M25) -> #REF! | T25: =STDEV(B25:D25)/SQRT(3)*4.303 -> #REF! | U25: =STDEV(E25:G25)/SQRT(3)*4.303 -> #REF! | V25: =STDEV(H25:J25)/SQRT(3)*4.303 -> #REF! | W25: =STDEV(K25:M25)/SQRT(3)*4.303 -> #REF!
A26: 4 | B26: =#REF! -> #REF! | C26: =#REF! -> #REF! | D26: =#REF! -> #REF! | E26: =#REF! -> #REF! | F26: =#REF! -> #REF! | G26: =#REF! -> #REF! | H26: =#REF! -> #REF! | I26: =#REF! -> #REF! | ... M26: =#REF! -> #REF! | O26: =AVERAGE(B26:D26) -> #REF! | P26: =AVERAGE(E26:G26) -> #REF! | Q26: =AVERAGE(H26:J26) -> #REF! | R26: =AVERAGE(K26:M26) -> #REF! | T26: =STDEV(B26:D26)/SQRT(3)*4.303 -> #REF! | U26: =STDEV(E26:G26)/SQRT(3)*4.303 -> #REF! | V26: =STDEV(H26:J26)/SQRT(3)*4.303 -> #REF! | W26: =STDEV(K26:M26)/SQRT(3)*4.303 -> #REF!
A27: 5 | B27: =#REF! -> #REF! | C27: =#REF! -> #REF! | D27: =#REF! -> #REF! | E27: =#REF! -> #REF! | F27: =#REF! -> #REF! | G27: =#REF! -> #REF! | H27: =#REF! -> #REF! | I27: =#REF! -> #REF! | ... M27: =#REF! -> #REF! | O27: =AVERAGE(B27:D27) -> #REF! | P27: =AVERAGE(E27:G27) -> #REF! | Q27: =AVERAGE(H27:J27) -> #REF! | R27: =AVERAGE(K27:M27) -> #REF! | T27: =STDEV(B27:D27)/SQRT(3)*4.303 -> #REF! | U27: =STDEV(E27:G27)/SQRT(3)*4.303 -> #REF! | V27: =STDEV(H27:J27)/SQRT(3)*4.303 -> #REF! | W27: =STDEV(K27:M27)/SQRT(3)*4.303 -> #REF!
A29: Fumarate | O29: Averages Based on Treatment
A30: Day | B30: Culture 1 | C30: Culture 2 | D30: Culture 3 | E30: Culture 4 | F30: Culture 5 | G30: Culture 6 | H30: Culture 7 | I30: Culture 8 | J30: Culture 9 | K30: Culture 10 | L30: Culture 11 | M30: Culture 12 | O30: Control | P30: Thi | Q30: Pant | R30: Thi+Pant | T30: Control | U30: Thi | V30: Pant | W30: Thi+Pant
A31: 0 | B31: 0 | C31: 0 | D31: 0 | E31: 0 | F31: 0 | G31: 0 | H31: =#REF! -> #REF! | I31: =#REF! -> #REF! | J31: =#REF! -> #REF! | K31: =#REF! -> #REF! | L31: =#REF! -> #REF! | M31: =#REF! -> #REF! | O31: =AVERAGE(B31:D31) -> 0 | P31: =AVERAGE(E31:G31) -> 0 | Q31: =AVERAGE(H31:J31) -> #REF! | R31: =AVERAGE(K31:M31) -> #REF! | T31: =STDEV(B31:D31)/SQRT(3)*4.303 -> 0 | U31: =STDEV(E31:G31)/SQRT(3)*4.303 -> 0 | V31: =STDEV(H31:J31)/SQRT(3)*4.303 -> #REF! | W31: =STDEV(K31:M31)/SQRT(3)*4.303 -> #REF!
A32: 1 | B32: =#REF! -> #REF! | C32: =#REF! -> #REF! | D32: =#REF! -> #REF! | E32: =#REF! -> #REF! | F32: =#REF! -> #REF! | G32: =#REF! -> #REF! | H32: =#REF! -> #REF! | I32: =#REF! -> #REF! | ... M32: =#REF! -> #REF! | O32: =AVERAGE(B32:D32) -> #REF! | P32: =AVERAGE(E32:G32) -> #REF! | Q32: =AVERAGE(H32:J32) -> #REF! | R32: =AVERAGE(K32:M32) -> #REF! | T32: =STDEV(B32:D32)/SQRT(3)*4.303 -> #REF! | U32: =STDEV(E32:G32)/SQRT(3)*4.303 -> #REF! | V32: =STDEV(H32:J32)/SQRT(3)*4.303 -> #REF! | W32: =STDEV(K32:M32)/SQRT(3)*4.303 -> #REF!
A33: 2 | B33: =#REF! -> #REF! | C33: =#REF! -> #REF! | D33: =#REF! -> #REF! | E33: =#REF! -> #REF! | F33: =#REF! -> #REF! | G33: =#REF! -> #REF! | H33: =#REF! -> #REF! | I33: =#REF! -> #REF! | ... M33: =#REF! -> #REF! | O33: =AVERAGE(B33:D33) -> #REF! | P33: =AVERAGE(E33:G33) -> #REF! | Q33: =AVERAGE(H33:J33) -> #REF! | R33: =AVERAGE(K33:M33) -> #REF! | T33: =STDEV(B33:D33)/SQRT(3)*4.303 -> #REF! | U33: =STDEV(E33:G33)/SQRT(3)*4.303 -> #REF! | V33: =STDEV(H33:J33)/SQRT(3)*4.303 -> #REF! | W33: =STDEV(K33:M33)/SQRT(3)*4.303 -> #REF!
A34: 3 | B34: =#REF! -> #REF! | C34: =#REF! -> #REF! | D34: =#REF! -> #REF! | E34: =#REF! -> #REF! | F34: =#REF! -> #REF! | G34: =#REF! -> #REF! | H34: =#REF! -> #REF! | I34: =#REF! -> #REF! | ... M34: =#REF! -> #REF! | O34: =AVERAGE(B34:D34) -> #REF! | P34: =AVERAGE(E34:G34) -> #REF! | Q34: =AVERAGE(H34:J34) -> #REF! | R34: =AVERAGE(K34:M34) -> #REF! | T34: =STDEV(B34:D34)/SQRT(3)*4.303 -> #REF! | U34: =STDEV(E34:G34)/SQRT(3)*4.303 -> #REF! | V34: =STDEV(H34:J34)/SQRT(3)*4.303 -> #REF! | W34: =STDEV(K34:M34)/SQRT(3)*4.303 -> #REF!
A35: 4 | B35: =#REF! -> #REF! | C35: =#REF! -> #REF! | D35: =#REF! -> #REF! | E35: =#REF! -> #REF! | F35: =#REF! -> #REF! | G35: =#REF! -> #REF! | H35: =#REF! -> #REF! | I35: =#REF! -> #REF! | ... M35: =#REF! -> #REF! | O35: =AVERAGE(B35:D35) -> #REF! | P35: =AVERAGE(E35:G35) -> #REF! | Q35: =AVERAGE(H35:J35) -> #REF! | R35: =AVERAGE(K35:M35) -> #REF! | T35: =STDEV(B35:D35)/SQRT(3)*4.303 -> #REF! | U35: =STDEV(E35:G35)/SQRT(3)*4.303 -> #REF! | V35: =STDEV(H35:J35)/SQRT(3)*4.303 -> #REF! | W35: =STDEV(K35:M35)/SQRT(3)*4.303 -> #REF!
