Workbook

Sheet Inoc prep
A1: Stage 1 culture Prep
A3: Fresh 2341 stock was prepared from plated colonies
A4: This stock was grown for innoculation into the experimental set-up
A6: 41744 | B6: Bottle 1 | E6: Bottle 2 | H6: Bottle 3
A7: Vol (mL) | B7: 800 | E7: 800 | H7: 750
A9: Cell counts: | B9: 16 | C9: 25 | E9: 15 | F9: 18 | H9: 18 | I9: 18
B10: 16 | C10: 12 | E10: 15 | F10: 15 | H10: 12 | I10: 20
B12: 24 | C12: 23 | E12: 11 | F12: 23 | H12: 12 | I12: 23
B13: 19 | C13: 16 | E13: 25 | F13: 15 | H13: 17 | I13: 21
A15: Average | B15: =AVERAGE(B9:C13) -> 18.875 | E15: =AVERAGE(E9:F13) -> 17.125 | H15: =AVERAGE(H9:I13) -> 17.625
A16: SD | B16: =STDEV(B9:C13) -> 4.6732522 | E16: =STDEV(E9:F13) -> 4.6732522 | H16: =STDEV(H9:I13) -> 3.9618719
A18: Volume (nL) | B18: 100 | E18: 100 | H18: 100
A19: Volume (mL) | B19: =B18/10^6 -> 0.0001 | E19: =E18/10^6 -> 0.0001 | H19: =H18/10^6 -> 0.0001
A20: Diluted cells/ mL | B20: =B15/B19 -> 188750 | E20: =E15/E19 -> 171250 | H20: =H15/H19 -> 176250
A21: Dilution factor | B21: 40 | E21: 40 | H21: 40
A22: Inoculum cells/ mL | B22: =B20*B21 -> 7550000 | E22: =E20*E21 -> 6850000 | H22: =H20*H21 -> 7050000
A23: Cells | B23: =B7*B22 -> 6040000000 | E23: =E7*E22 -> 5480000000 | H23: =H7*H22 -> 5287500000
A25: Need:
A26: vol (mL) | B26: 2400
A27: Cells | B27: =B26*10^7 -> 24000000000
A30: Vol (mL)
A32: Cell counts:
A38: Average | B38: =AVERAGE(B32:C36) -> #DIV/0! | E38: =AVERAGE(E32:F36) -> #DIV/0! | H38: =AVERAGE(H32:I36) -> #DIV/0!
A39: SD | B39: =STDEV(B32:C36) -> #DIV/0! | E39: =STDEV(E32:F36) -> #DIV/0! | H39: =STDEV(H32:I36) -> #DIV/0!
A41: Volume (nL) | B41: 100 | E41: 100 | H41: 100
A42: Volume (mL) | B42: =B41/10^6 -> 0.0001 | E42: =E41/10^6 -> 0.0001 | H42: =H41/10^6 -> 0.0001
A43: Diluted cells/ mL | B43: =B38/B42 -> #DIV/0! | E43: =E38/E42 -> #DIV/0! | H43: =H38/H42 -> #DIV/0!
A44: Dilution factor | B44: 40 | E44: 20 | H44: 20
A45: Inoculum cells/ mL | B45: =B43*B44 -> #DIV/0! | E45: =E43*E44 -> #DIV/0! | H45: =H43*H44 -> #DIV/0!
A46: Cells | B46: =B30*B45 -> #DIV/0! | E46: =E30*E45 -> #DIV/0! | H46: =H30*H45 -> #DIV/0! | K46: =SUM(B46:H46)/2400 -> #DIV/0!
A48: Need:
A49: vol (mL)
A50: Cells

Sheet Media
A1: Staged Mixotrophic cultivation Exp 2
A2: Stage 2 preparation
A4: Media
A6: Total KH2PO4: | B6: 0.975
A7: NH4Cl (g/ L) | B7: 0.764
A8: Nitrogen (mg/ L) | B8: =B7/(18+35.5)*14*1000 -> 199.92523
F9: =2600+1400 -> 4000 | G9: =F9-2400 -> 1600
A10: Adjusted pH: | B10: 7.2 | F10: =F9/2 -> 2000 | G10: =G9/4 -> 400
A11: Vol of media prepared (mL) | B11: 2600 | G11: =G10-120-20 -> 260
A12: Vol of media used (mL) | B12: 2400 | G12: =G11-40 -> 220
A14: Glucose Stock Soln (20%) - 50 ml
A15: Glucose (g)
A18: Acetate weight | H18: 14 | J18: Adjusted pH to 7.2, sterile filtered 0.2 um
A19: Carbon Sources | B19: Soluble Carbon Conc (g/ L) | C19: Vol prepared (mL) | D19: Mass substrate (g) | E19: Vol added / culture (mL) | F19: Final conc (g/ L)
A20: Glucose Soln 1 | B20: =H18/C20*1000 -> 200 | C20: 70 | D20: =H18 -> 14 | E20: =F20*200/1000/B20*1000 -> 10 | F20: 10
A22: Total needed: | E22: =E20*12 -> 120
A24: Antibiotics | B24: Added to | C24: Conc (mg/ ml) | D24: Vol added (ul) | E24: Final conc (ug/ ml) | F24: Volume of DI (ml)
A25: None

Sheet Sampling
B3: Date | C3: Metabolomics quench | D3: RNA | E3: Thiamine | F3: OD/ pH sample
B4: 41745 | C4: 1 ml + 1 ml MeOH | D4: 2 ml | F4: 1 ml
B5: 41746 | C5: 1 ml + 1 ml MeOH | D5: 2 ml | F5: 1 ml
B6: 41747 | C6: 1 ml + 1 ml MeOH | E6: 10 ml | F6: 1 ml
B7: 41748 | C7: 1 ml + 1 ml MeOH | D7: 2 ml | F7: 1 ml
B8: 41749 | C8: 1 ml + 1 ml MeOH | F8: 1 ml
B9: 41750 | C9: 1 ml + 1 ml MeOH | E9: Final harvest | F9: 1 ml

Sheet Summary OD
D3: OD 550 | Q3: OD 680
A4: Date | B4: Time | C4: Hour | D4: Culture 1 | E4: Culture 2 | F4: Culture 3 | G4: Culture 4 | H4: Culture 5 | I4: Culture 6 | J4: Culture 7 | K4: Culture 8 | L4: Culture 9 | M4: Culture 10 | N4: Culture 11 | O4: Culture 12 | Q4: Culture 1 | R4: Culture 2 | S4: Culture 3 | T4: Culture 4 | U4: Culture 5 | V4: Culture 6 | W4: Culture 7 | X4: Culture 8 | Y4: Culture 9 | Z4: Culture 10 | AA4: Culture 11 | AB4: Culture 12
A5: 41661 | B5: =OD!A5 -> 0.4375 | C5: 0 | D5: =OD!C8 -> 0.14796667 | E5: =OD!D8 -> 0.13003333 | F5: =OD!E8 -> 0.12793333 | G5: =OD!F8 -> 0.1309 | H5: =OD!G8 -> 0.12156667 | I5: =OD!H8 -> 0.1296 | J5: =OD!I8 -> 0.12456667 | K5: =OD!J8 -> 0.12926667 | ... O5: =OD!N8 -> 0.1274 | Q5: =#REF! -> #REF! | R5: =#REF! -> #REF! | S5: =#REF! -> #REF! | T5: =#REF! -> #REF! | U5: =#REF! -> #REF! | V5: =#REF! -> #REF! | W5: =#REF! -> #REF! | X5: =#REF! -> #REF! | ... AB5: =#REF! -> #REF!
A6: 41662 | B6: =OD!A11 -> 0.4375 | C6: =C5+B6-B5+24 -> 24 | D6: =OD!C17 -> 0.23773333 | E6: =OD!D17 -> 0.24133333 | F6: =OD!E17 -> 0.24186667 | G6: =OD!F17 -> 0.22946667 | H6: =OD!G17 -> 0.2374 | I6: =OD!H17 -> 0.23913333 | J6: =OD!I17 -> 0.13126667 | K6: =OD!J17 -> 0.1339 | ... O6: =OD!N17 -> 0.1307 | Q6: =#REF! -> #REF! | R6: =#REF! -> #REF! | S6: =#REF! -> #REF! | T6: =#REF! -> #REF! | U6: =#REF! -> #REF! | V6: =#REF! -> #REF! | W6: =#REF! -> #REF! | X6: =#REF! -> #REF! | ... AB6: =#REF! -> #REF!
A7: 41663 | B7: =OD!A20 -> 0.45833333 | C7: =C6+B7-B6+24 -> 48.020833 | D7: =OD!C23 -> 0.2906 | E7: =OD!D23 -> 0.28673333 | F7: =OD!E23 -> 0.29816667 | G7: =OD!F23 -> 0.3104 | H7: =OD!G23 -> 0.3324 | I7: =OD!H23 -> 0.2926 | J7: =OD!I23 -> 0.14133333 | K7: =OD!J23 -> 0.14413333 | ... O7: =OD!N23 -> 0.13496667 | Q7: =#REF! -> #REF! | R7: =#REF! -> #REF! | S7: =#REF! -> #REF! | T7: =#REF! -> #REF! | U7: =#REF! -> #REF! | V7: =#REF! -> #REF! | W7: =#REF! -> #REF! | X7: =#REF! -> #REF! | ... AB7: =#REF! -> #REF!
A8: 41664 | B8: =OD!A26 -> 0.4375 | C8: =C7+B8-B7+24 -> 72 | D8: =OD!C32 -> 0.31776667 | E8: =OD!D32 -> 0.33083333 | F8: =OD!E32 -> 0.31156667 | G8: =OD!F32 -> 0.32036667 | H8: =OD!G32 -> 0.30796667 | I8: =OD!H32 -> 0.31406667 | J8: =OD!I32 -> 0.146 | K8: =OD!J32 -> 0.14573333 | ... O8: =OD!N32 -> 0.1447 | Q8: =#REF! -> #REF! | R8: =#REF! -> #REF! | S8: =#REF! -> #REF! | T8: =#REF! -> #REF! | U8: =#REF! -> #REF! | V8: =#REF! -> #REF! | W8: =#REF! -> #REF! | X8: =#REF! -> #REF! | ... AB8: =#REF! -> #REF!
A9: 41665 | B9: =OD!A35 -> 0.4375 | C9: =C8+B9-B8+24 -> 96 | D9: =OD!C38 -> 0.34693333 | E9: =OD!D38 -> 0.34393333 | F9: =OD!E38 -> 0.32823333 | G9: =OD!F38 -> 0.32143333 | H9: =OD!G38 -> 0.3062 | I9: =OD!H38 -> 0.29536667 | J9: =OD!I38 -> 0.15026667 | K9: =OD!J38 -> 0.15733333 | ... O9: =OD!N38 -> 0.1514 | Q9: =#REF! -> #REF! | R9: =#REF! -> #REF! | S9: =#REF! -> #REF! | T9: =#REF! -> #REF! | U9: =#REF! -> #REF! | V9: =#REF! -> #REF! | W9: =#REF! -> #REF! | X9: =#REF! -> #REF! | ... AB9: =#REF! -> #REF!
A10: 41666 | B10: =OD!A41 -> 0.41666667 | C10: =C9+B10-B9+24 -> 119.97917 | D10: =OD!C44 -> 0.31656667 | E10: =OD!D44 -> 0.33166667 | F10: =OD!E44 -> 0.31003333 | G10: =OD!F44 -> 0.3108 | H10: =OD!G44 -> 0.2937 | I10: =OD!H44 -> 0.28936667 | J10: =OD!I44 -> 0.15763333 | K10: =OD!J44 -> 0.1592 | ... O10: =OD!N44 -> 0.1562 | Q10: =#REF! -> #REF! | R10: =#REF! -> #REF! | S10: =#REF! -> #REF! | T10: =#REF! -> #REF! | U10: =#REF! -> #REF! | V10: =#REF! -> #REF! | W10: =#REF! -> #REF! | X10: =#REF! -> #REF! | ... AB10: =#REF! -> #REF!
D12: Average | H12: SD | L12: SE
A13: =A4 -> Date | B13: =B4 -> Time | C13: =C4 -> Hour | D13: 10 g/L Glc | E13: 0 g/L Glc | F13: Pantothenic | G13: Thiamine and Pantothenic | H13: Control | I13: Thiamine | J13: Pantothenic | K13: Thiamine and Pantothenic | L13: Control | M13: Thiamine | N13: Pantothenic | O13: Thiamine and Pantothenic
A14: =A5 -> 41661 | B14: =B5 -> 0.4375 | C14: =C5 -> 0 | D14: =AVERAGE(D5:I5) -> 0.13133333 | E14: =AVERAGE(J5:O5) -> 0.12911667 | H14: =STDEV(D5:I5) -> 0.0088147351 | I14: =STDEV(J5:O5) -> 0.0032235763 | L14: =H14/SQRT(3) -> 0.0050891897 | M14: =I14/SQRT(3) -> 0.0018611327 | N14: =J14/SQRT(3) -> 0 | O14: =K14/SQRT(3) -> 0
A15: =A6 -> 41662 | B15: =B6 -> 0.4375 | C15: =C6 -> 24 | D15: =AVERAGE(D6:I6) -> 0.23782222 | E15: =AVERAGE(J6:O6) -> 0.1328 | H15: =STDEV(D6:I6) -> 0.0044812035 | I15: =STDEV(J6:O6) -> 0.0015891297 | L15: =H15/SQRT(3) -> 0.0025872241 | M15: =I15/SQRT(3) -> 0.00091748448 | N15: =J15/SQRT(3) -> 0 | O15: =K15/SQRT(3) -> 0
A16: =A7 -> 41663 | B16: =B7 -> 0.45833333 | C16: =C7 -> 48.020833 | D16: =AVERAGE(D7:I7) -> 0.30181667 | E16: =AVERAGE(J7:O7) -> 0.13817222 | H16: =STDEV(D7:I7) -> 0.017091541 | I16: =STDEV(J7:O7) -> 0.0041065485 | L16: =H16/SQRT(3) -> 0.0098678059 | M16: =I16/SQRT(3) -> 0.0023709169 | N16: =J16/SQRT(3) -> 0 | O16: =K16/SQRT(3) -> 0
A17: =A8 -> 41664 | B17: =B8 -> 0.4375 | C17: =C8 -> 72 | D17: =AVERAGE(D8:I8) -> 0.31709444 | E17: =AVERAGE(J8:O8) -> 0.14432222 | H17: =STDEV(D8:I8) -> 0.0080368711 | I17: =STDEV(J8:O8) -> 0.0022545427 | L17: =H17/SQRT(3) -> 0.0046400897 | M17: =I17/SQRT(3) -> 0.0013016609 | N17: =J17/SQRT(3) -> 0 | O17: =K17/SQRT(3) -> 0
A18: =A9 -> 41665 | B18: =B9 -> 0.4375 | C18: =C9 -> 96 | D18: =AVERAGE(D9:I9) -> 0.32368333 | E18: =AVERAGE(J9:O9) -> 0.15119444 | H18: =STDEV(D9:I9) -> 0.020415144 | I18: =STDEV(J9:O9) -> 0.0031487858 | L18: =H18/SQRT(3) -> 0.011786689 | M18: =I18/SQRT(3) -> 0.0018179523 | N18: =J18/SQRT(3) -> 0 | O18: =K18/SQRT(3) -> 0
A19: =A10 -> 41666 | B19: =B10 -> 0.41666667 | C19: =C10 -> 119.97917 | D19: =AVERAGE(D10:I10) -> 0.30868889 | E19: =AVERAGE(J10:O10) -> 0.1578 | H19: =STDEV(D10:I10) -> 0.015455206 | I19: =STDEV(J10:O10) -> 0.0020873162 | L19: =H19/SQRT(3) -> 0.0089230676 | M19: =I19/SQRT(3) -> 0.0012051126 | N19: =J19/SQRT(3) -> 0 | O19: =K19/SQRT(3) -> 0
L21: Upper CI
L22: =D14+3.182*L14 -> 0.14752713 | M22: =E14+3.182*M14 -> 0.13503879 | N22: =F14+3.182*N14 -> 0 | O22: =G14+3.182*O14 -> 0
L23: =D15+3.182*L15 -> 0.24605477 | M23: =E15+3.182*M15 -> 0.13571944 | N23: =F15+3.182*N15 -> 0 | O23: =G15+3.182*O15 -> 0
L24: =D16+3.182*L16 -> 0.33321602 | M24: =E16+3.182*M16 -> 0.14571648 | N24: =F16+3.182*N16 -> 0 | O24: =G16+3.182*O16 -> 0
L25: =D17+3.182*L17 -> 0.33185921 | M25: =E17+3.182*M17 -> 0.14846411 | N25: =F17+3.182*N17 -> 0 | O25: =G17+3.182*O17 -> 0
L26: =D18+3.182*L18 -> 0.36118858 | M26: =E18+3.182*M18 -> 0.15697917 | N26: =F18+3.182*N18 -> 0 | O26: =G18+3.182*O18 -> 0
L27: =D19+3.182*L19 -> 0.33708209 | M27: =E19+3.182*M19 -> 0.16163467 | N27: =F19+3.182*N19 -> 0 | O27: =G19+3.182*O19 -> 0
L29: Lower CI
L30: =D14-L14 -> 0.12624414 | M30: =E14-M14 -> 0.12725553 | N30: =F14-N14 -> 0 | O30: =G14-O14 -> 0
L31: =D15-L15 -> 0.235235 | M31: =E15-M15 -> 0.13188252 | N31: =F15-N15 -> 0 | O31: =G15-O15 -> 0
L32: =D16-L16 -> 0.29194886 | M32: =E16-M16 -> 0.13580131 | N32: =F16-N16 -> 0 | O32: =G16-O16 -> 0
L33: =D17-L17 -> 0.31245435 | M33: =E17-M17 -> 0.14302056 | N33: =F17-N17 -> 0 | O33: =G17-O17 -> 0
L34: =D18-L18 -> 0.31189664 | M34: =E18-M18 -> 0.14937649 | N34: =F18-N18 -> 0 | O34: =G18-O18 -> 0
L35: =D19-L19 -> 0.29976582 | M35: =E19-M19 -> 0.15659489 | N35: =F19-N19 -> 0 | O35: =G19-O19 -> 0
A51: OD-DW Correlation | C51: OD 550
O52: Ending DW conc (g/ L)
A53: Dilution factor | B53: =D4 -> Culture 1 | C53: =E4 -> Culture 2 | D53: =F4 -> Culture 3 | E53: =G4 -> Culture 4 | F53: =H4 -> Culture 5 | G53: =I4 -> Culture 6 | H53: =J4 -> Culture 7 | I53: =K4 -> Culture 8 | ... M53: =O4 -> Culture 12 | N53: Conc Factor | O53: Culture 1 | P53: Culture 2 | Q53: Culture 3 | R53: Culture 4 | S53: Culture 5 | T53: Culture 6 | U53: Culture 7 | V53: Culture 8 | W53: Culture 9 | X53: Culture 10 | Y53: Culture 11 | Z53: Culture 12
A54: 1 | B54: =OD!C41 -> 0.318 | C54: =OD!D41 -> 0.3301 | D54: =OD!E41 -> 0.3112 | E54: =OD!F41 -> 0.3109 | F54: =OD!G41 -> 0.2981 | G54: =OD!H41 -> 0.3111 | H54: =OD!I41 -> 0.1594 | I54: =OD!J41 -> 0.1614 | ... M54: =OD!N41 -> 0.1589 | N54: =1/A54 -> 1 | O54: =I86 -> 0.4328125 | P54: =I87 -> 0.428125 | Q54: =I88 -> 0.398125 | R54: =I89 -> 0.3940625 | S54: =I90 -> 0.39125 | T54: =I91 -> 0.388125 | U54: =I92 -> 0.09625 | V54: =I93 -> 0.1053125 | W54: =I94 -> 0.0975 | X54: =I95 -> 0.1009375 | Y54: =I96 -> 0.0984375 | Z54: =I97 -> 0.0996875
A55: 1 | B55: =OD!C42 -> 0.3172 | C55: =OD!D42 -> 0.33 | D55: =OD!E42 -> 0.3091 | E55: =OD!F42 -> 0.3101 | F55: =OD!G42 -> 0.2963 | G55: =OD!H42 -> 0.2807 | H55: =OD!I42 -> 0.1574 | I55: =OD!J42 -> 0.1594 | ... M55: =OD!N42 -> 0.1563 | N55: =1/A55 -> 1 | O55: =O54*$N55 -> 0.4328125 | P55: =P54*$N55 -> 0.428125 | Q55: =Q54*$N55 -> 0.398125 | R55: =R54*$N55 -> 0.3940625 | S55: =S54*$N55 -> 0.39125 | T55: =T54*$N55 -> 0.388125 | U55: =U54*$N55 -> 0.09625 | V55: =V54*$N55 -> 0.1053125 | ... Z55: =Z54*$N55 -> 0.0996875
A56: 1 | B56: =OD!C43 -> 0.3145 | C56: =OD!D43 -> 0.3349 | D56: =OD!E43 -> 0.3098 | E56: =OD!F43 -> 0.3114 | F56: =OD!G43 -> 0.2867 | G56: =OD!H43 -> 0.2763 | H56: =OD!I43 -> 0.1561 | I56: =OD!J43 -> 0.1568 | ... M56: =OD!N43 -> 0.1534 | N56: =1/A56 -> 1 | O56: =O55*$N56 -> 0.4328125 | P56: =P55*$N56 -> 0.428125 | Q56: =Q55*$N56 -> 0.398125 | R56: =R55*$N56 -> 0.3940625 | S56: =S55*$N56 -> 0.39125 | T56: =T55*$N56 -> 0.388125 | U56: =U55*$N56 -> 0.09625 | V56: =V55*$N56 -> 0.1053125 | ... Z56: =Z55*$N56 -> 0.0996875
A57: 2 | B57: =OD!C50 -> 0.1302 | C57: =OD!D50 -> 0.1438 | D57: =OD!E50 -> 0.1407 | E57: =OD!F50 -> 0.1325 | F57: =OD!G50 -> 0.1307 | G57: =OD!H50 -> 0.1232 | H57: =OD!I50 -> 0.085 | I57: =OD!J50 -> 0.0863 | ... M57: =OD!N50 -> 0.0889 | N57: =1/A57 -> 0.5 | O57: =O$56*$N57 -> 0.21640625 | P57: =P$56*$N57 -> 0.2140625 | Q57: =Q$56*$N57 -> 0.1990625 | R57: =R$56*$N57 -> 0.19703125 | S57: =S$56*$N57 -> 0.195625 | T57: =T$56*$N57 -> 0.1940625 | U57: =U$56*$N57 -> 0.048125 | V57: =V$56*$N57 -> 0.05265625 | ... Z57: =Z$56*$N57 -> 0.04984375
A58: 4 | B58: =OD!C51 -> 0.0775 | C58: =OD!D51 -> 0.0808 | D58: =OD!E51 -> 0.0778 | E58: =OD!F51 -> 0.0764 | F58: =OD!G51 -> 0.0762 | G58: =OD!H51 -> 0.0726 | H58: =OD!I51 -> 0.054 | I58: =OD!J51 -> 0.0552 | ... M58: =OD!N51 -> 0.056 | N58: =1/A58 -> 0.25 | O58: =O$56*$N58 -> 0.10820313 | P58: =P$56*$N58 -> 0.10703125 | Q58: =Q$56*$N58 -> 0.09953125 | R58: =R$56*$N58 -> 0.098515625 | S58: =S$56*$N58 -> 0.0978125 | T58: =T$56*$N58 -> 0.09703125 | U58: =U$56*$N58 -> 0.0240625 | V58: =V$56*$N58 -> 0.026328125 | ... Z58: =Z$56*$N58 -> 0.024921875
A59: 8 | B59: =OD!C52 -> 0.0528 | C59: =OD!D52 -> 0.054 | D59: =OD!E52 -> 0.0525 | E59: =OD!F52 -> 0.0531 | F59: =OD!G52 -> 0.0529 | G59: =OD!H52 -> 0.0498 | H59: =OD!I52 -> 0.0409 | I59: =OD!J52 -> 0.0412 | ... M59: =OD!N52 -> 0.043 | N59: =1/A59 -> 0.125 | O59: =O$56*$N59 -> 0.054101563 | P59: =P$56*$N59 -> 0.053515625 | Q59: =Q$56*$N59 -> 0.049765625 | R59: =R$56*$N59 -> 0.049257812 | S59: =S$56*$N59 -> 0.04890625 | T59: =T$56*$N59 -> 0.048515625 | U59: =U$56*$N59 -> 0.01203125 | V59: =V$56*$N59 -> 0.013164063 | ... Z59: =Z$56*$N59 -> 0.012460937
A60: 16 | B60: =OD!C53 -> 0.0426 | C60: =OD!D53 -> 0.0414 | D60: =OD!E53 -> 0.0413 | E60: =OD!F53 -> 0.0407 | F60: =OD!G53 -> 0.0411 | G60: =OD!H53 -> 0.0409 | H60: =OD!I53 -> 0.0376 | I60: =OD!J53 -> 0.0371 | ... M60: =OD!N53 -> 0.0361 | N60: =1/A60 -> 0.0625 | O60: =O$56*$N60 -> 0.027050781 | P60: =P$56*$N60 -> 0.026757813 | Q60: =Q$56*$N60 -> 0.024882812 | R60: =R$56*$N60 -> 0.024628906 | S60: =S$56*$N60 -> 0.024453125 | T60: =T$56*$N60 -> 0.024257813 | U60: =U$56*$N60 -> 0.006015625 | V60: =V$56*$N60 -> 0.0065820313 | ... Z60: =Z$56*$N60 -> 0.0062304687
A61: 32 | B61: =OD!C54 -> 0.0381 | C61: =OD!D54 -> 0.0386 | D61: =OD!E54 -> 0.038 | E61: =OD!F54 -> 0.039 | F61: =OD!G54 -> 0.0379 | G61: =OD!H54 -> 0.0379 | H61: =OD!I54 -> 0.0352 | I61: =OD!J54 -> 0.0381 | ... M61: =OD!N54 -> 0.0363 | N61: =1/A61 -> 0.03125 | O61: =O$56*$N61 -> 0.013525391 | P61: =P$56*$N61 -> 0.013378906 | Q61: =Q$56*$N61 -> 0.012441406 | R61: =R$56*$N61 -> 0.012314453 | S61: =S$56*$N61 -> 0.012226562 | T61: =T$56*$N61 -> 0.012128906 | U61: =U$56*$N61 -> 0.0030078125 | V61: =V$56*$N61 -> 0.0032910156 | ... Z61: =Z$56*$N61 -> 0.0031152344
N63: OD 550 | R63: Ending DW conc (g/ L)
M64: Conce Factor | N64: Cultures 1-6 | O64: Cultures 7-12 | P64: Cultures 7-9 | Q64: Cultures 10-12 | R64: Cultures 1-3 | S64: Cultures 4-6 | T64: Cultures 7-9 | U64: Cultures 10-12
M65: 1 | N65: =B54 -> 0.318 | O65: =E54 -> 0.3109 | P65: =H54 -> 0.1594 | Q65: =K54 -> 0.1557 | R65: =O54 -> 0.4328125 | S65: =R54 -> 0.3940625 | T65: =U54 -> 0.09625 | U65: =X54 -> 0.1009375
M66: 1 | N66: =B55 -> 0.3172 | O66: =E55 -> 0.3101 | P66: =H55 -> 0.1574 | Q66: =K55 -> 0.1553 | R66: =O55 -> 0.4328125 | S66: =R55 -> 0.3940625 | T66: =U55 -> 0.09625 | U66: =X55 -> 0.1009375
M67: 1 | N67: =B56 -> 0.3145 | O67: =E56 -> 0.3114 | P67: =H56 -> 0.1561 | Q67: =K56 -> 0.1535 | R67: =O56 -> 0.4328125 | S67: =R56 -> 0.3940625 | T67: =U56 -> 0.09625 | U67: =X56 -> 0.1009375
M68: 0.5 | N68: =B57 -> 0.1302 | O68: =E57 -> 0.1325 | P68: =H57 -> 0.085 | Q68: =K57 -> 0.0865 | R68: =O57 -> 0.21640625 | S68: =R57 -> 0.19703125 | T68: =U57 -> 0.048125 | U68: =X57 -> 0.05046875
M69: 0.25 | N69: =B58 -> 0.0775 | O69: =E58 -> 0.0764 | P69: =H58 -> 0.054 | Q69: =K58 -> 0.0559 | R69: =O58 -> 0.10820313 | S69: =R58 -> 0.098515625 | T69: =U58 -> 0.0240625 | U69: =X58 -> 0.025234375
M70: 0.125 | N70: =B59 -> 0.0528 | O70: =E59 -> 0.0531 | P70: =H59 -> 0.0409 | Q70: =K59 -> 0.0424 | R70: =O59 -> 0.054101563 | S70: =R59 -> 0.049257812 | T70: =U59 -> 0.01203125 | U70: =X59 -> 0.012617187
M71: 0.0625 | N71: =B60 -> 0.0426 | O71: =E60 -> 0.0407 | P71: =H60 -> 0.0376 | Q71: =K60 -> 0.0363 | R71: =O60 -> 0.027050781 | S71: =R60 -> 0.024628906 | T71: =U60 -> 0.006015625 | U71: =X60 -> 0.0063085937
M72: 0.03125 | N72: =B61 -> 0.0381 | O72: =E61 -> 0.039 | P72: =H61 -> 0.0352 | Q72: =K61 -> 0.0359 | R72: =O61 -> 0.013525391 | S72: =R61 -> 0.012314453 | T72: =U61 -> 0.0030078125 | U72: =X61 -> 0.0031542969
M73: 1 | N73: =C54 -> 0.3301 | O73: =F54 -> 0.2981 | P73: =I54 -> 0.1614 | Q73: =L54 -> 0.1623 | R73: =P54 -> 0.428125 | S73: =S54 -> 0.39125 | T73: =V54 -> 0.1053125 | U73: =Y54 -> 0.0984375
M74: 1 | N74: =C55 -> 0.33 | O74: =F55 -> 0.2963 | P74: =I55 -> 0.1594 | Q74: =L55 -> 0.1583 | R74: =P55 -> 0.428125 | S74: =S55 -> 0.39125 | T74: =V55 -> 0.1053125 | U74: =Y55 -> 0.0984375
M75: 1 | N75: =C56 -> 0.3349 | O75: =F56 -> 0.2867 | P75: =I56 -> 0.1568 | Q75: =L56 -> 0.1542 | R75: =P56 -> 0.428125 | S75: =S56 -> 0.39125 | T75: =V56 -> 0.1053125 | U75: =Y56 -> 0.0984375
M76: 0.5 | N76: =C57 -> 0.1438 | O76: =F57 -> 0.1307 | P76: =I57 -> 0.0863 | Q76: =L57 -> 0.0879 | R76: =P57 -> 0.2140625 | S76: =S57 -> 0.195625 | T76: =V57 -> 0.05265625 | U76: =Y57 -> 0.04921875
M77: 0.25 | N77: =C58 -> 0.0808 | O77: =F58 -> 0.0762 | P77: =I58 -> 0.0552 | Q77: =L58 -> 0.0565 | R77: =P58 -> 0.10703125 | S77: =S58 -> 0.0978125 | T77: =V58 -> 0.026328125 | U77: =Y58 -> 0.024609375
M78: 0.125 | N78: =C59 -> 0.054 | O78: =F59 -> 0.0529 | P78: =I59 -> 0.0412 | Q78: =L59 -> 0.043 | R78: =P59 -> 0.053515625 | S78: =S59 -> 0.04890625 | T78: =V59 -> 0.013164063 | U78: =Y59 -> 0.012304687
M79: 0.0625 | N79: =C60 -> 0.0414 | O79: =F60 -> 0.0411 | P79: =I60 -> 0.0371 | Q79: =L60 -> 0.0378 | R79: =P60 -> 0.026757813 | S79: =S60 -> 0.024453125 | T79: =V60 -> 0.0065820313 | U79: =Y60 -> 0.0061523437
M80: 0.03125 | N80: =C61 -> 0.0386 | O80: =F61 -> 0.0379 | P80: =I61 -> 0.0381 | Q80: =L61 -> 0.0362 | R80: =P61 -> 0.013378906 | S80: =S61 -> 0.012226562 | T80: =V61 -> 0.0032910156 | U80: =Y61 -> 0.0030761719
M81: 1 | N81: =D54 -> 0.3112 | O81: =G54 -> 0.3111 | P81: =J54 -> 0.1632 | Q81: =M54 -> 0.1589 | R81: =Q54 -> 0.398125 | S81: =T54 -> 0.388125 | T81: =W54 -> 0.0975 | U81: =Z54 -> 0.0996875
M82: 1 | N82: =D55 -> 0.3091 | O82: =G55 -> 0.2807 | P82: =J55 -> 0.1601 | Q82: =M55 -> 0.1563 | R82: =Q55 -> 0.398125 | S82: =T55 -> 0.388125 | T82: =W55 -> 0.0975 | U82: =Z55 -> 0.0996875
A83: DW for lipid/ starch | M83: 1 | N83: =D56 -> 0.3098 | O83: =G56 -> 0.2763 | P83: =J56 -> 0.1587 | Q83: =M56 -> 0.1534 | R83: =Q56 -> 0.398125 | S83: =T56 -> 0.388125 | T83: =W56 -> 0.0975 | U83: =Z56 -> 0.0996875
M84: 0.5 | N84: =D57 -> 0.1407 | O84: =G57 -> 0.1232 | P84: =J57 -> 0.0893 | Q84: =M57 -> 0.0889 | R84: =Q57 -> 0.1990625 | S84: =T57 -> 0.1940625 | T84: =W57 -> 0.04875 | U84: =Z57 -> 0.04984375
A85: Stage 2 | B85: empty 15 ml tube | E85: w/ algae | H85: DW (mg) | I85: Conc (g/ L) | M85: 0.25 | N85: =D58 -> 0.0778 | O85: =G58 -> 0.0726 | P85: =J58 -> 0.057 | Q85: =M58 -> 0.056 | R85: =Q58 -> 0.09953125 | S85: =T58 -> 0.09703125 | T85: =W58 -> 0.024375 | U85: =Z58 -> 0.024921875
A86: 1 | B86: 6.7164 | C86: 6.7165 | E86: 6.7857 | F86: 6.7857 | H86: =(AVERAGE(E86:G86)-AVERAGE(B86:D86))*1000 -> 69.25 | I86: =H86/160 -> 0.4328125 | M86: 0.125 | N86: =D59 -> 0.0525 | O86: =G59 -> 0.0498 | P86: =J59 -> 0.0424 | Q86: =M59 -> 0.043 | R86: =Q59 -> 0.049765625 | S86: =T59 -> 0.048515625 | T86: =W59 -> 0.0121875 | U86: =Z59 -> 0.012460937
A87: 2 | B87: 6.6666 | C87: 6.6664 | E87: 6.735 | F87: 6.735 | H87: =(AVERAGE(E87:G87)-AVERAGE(B87:D87))*1000 -> 68.5 | I87: =H87/160 -> 0.428125 | M87: 0.0625 | N87: =D60 -> 0.0413 | O87: =G60 -> 0.0409 | P87: =J60 -> 0.0366 | Q87: =M60 -> 0.0361 | R87: =Q60 -> 0.024882812 | S87: =T60 -> 0.024257813 | T87: =W60 -> 0.00609375 | U87: =Z60 -> 0.0062304687
A88: 3 | B88: 6.6825 | C88: 6.6826 | E88: 6.7463 | F88: 6.7462 | H88: =(AVERAGE(E88:G88)-AVERAGE(B88:D88))*1000 -> 63.7 | I88: =H88/160 -> 0.398125 | M88: 0.03125 | N88: =D61 -> 0.038 | O88: =G61 -> 0.0379 | P88: =J61 -> 0.0358 | Q88: =M61 -> 0.0363 | R88: =Q61 -> 0.012441406 | S88: =T61 -> 0.012128906 | T88: =W61 -> 0.003046875 | U88: =Z61 -> 0.0031152344
A89: 4 | B89: 6.7124 | C89: 6.7125 | E89: 6.7755 | F89: 6.7755 | H89: =(AVERAGE(E89:G89)-AVERAGE(B89:D89))*1000 -> 63.05 | I89: =H89/160 -> 0.3940625
A90: 5 | B90: 6.6455 | C90: 6.6455 | E90: 6.7081 | F90: 6.7081 | H90: =(AVERAGE(E90:G90)-AVERAGE(B90:D90))*1000 -> 62.6 | I90: =H90/160 -> 0.39125
A91: 6 | B91: 6.6852 | C91: 6.6852 | E91: 6.7473 | F91: 6.7473 | H91: =(AVERAGE(E91:G91)-AVERAGE(B91:D91))*1000 -> 62.1 | I91: =H91/160 -> 0.388125
A92: 7 | B92: 6.6873 | C92: 6.6874 | E92: 6.7023 | F92: 6.7032 | H92: =(AVERAGE(E92:G92)-AVERAGE(B92:D92))*1000 -> 15.4 | I92: =H92/160 -> 0.09625
A93: 8 | B93: 6.6728 | C93: 6.6728 | E93: 6.6897 | F93: 6.6896 | H93: =(AVERAGE(E93:G93)-AVERAGE(B93:D93))*1000 -> 16.85 | I93: =H93/160 -> 0.1053125
A94: 9 | B94: 6.6623 | C94: 6.6623 | E94: 6.6779 | F94: 6.6779 | H94: =(AVERAGE(E94:G94)-AVERAGE(B94:D94))*1000 -> 15.6 | I94: =H94/160 -> 0.0975
A95: 10 | B95: 6.6601 | C95: 6.6601 | E95: 6.6763 | F95: 6.6762 | H95: =(AVERAGE(E95:G95)-AVERAGE(B95:D95))*1000 -> 16.15 | I95: =H95/160 -> 0.1009375
A96: 11 | B96: 6.6917 | C96: 6.6917 | E96: 6.7074 | F96: 6.7075 | H96: =(AVERAGE(E96:G96)-AVERAGE(B96:D96))*1000 -> 15.75 | I96: =H96/160 -> 0.0984375
A97: 12 | B97: 6.6752 | C97: 6.6751 | E97: 6.6911 | F97: 6.6911 | H97: =(AVERAGE(E97:G97)-AVERAGE(B97:D97))*1000 -> 15.95 | I97: =H97/160 -> 0.0996875
A99: Dry Weight Curves
A101: =A4 -> Date | B101: =B4 -> Time | C101: =C4 -> Hour | D101: =D4 -> Culture 1 | E101: =E4 -> Culture 2 | F101: =F4 -> Culture 3 | G101: =G4 -> Culture 4 | H101: =H4 -> Culture 5 | ... O101: =O4 -> Culture 12
A102: =A5 -> 41661 | B102: =B5 -> 0.4375 | C102: =C5 -> 0 | D102: =0.7565*D5-0.02 -> 0.091936783 | E102: =0.7565*E5-0.02 -> 0.078370217 | F102: =0.7565*F5-0.02 -> 0.076781567 | G102: =0.7565*G5-0.02 -> 0.07902585 | H102: =0.7565*H5-0.02 -> 0.071965183 | I102: =0.7565*I5-0.02 -> 0.0780424 | J102: =0.7565*J5-0.02 -> 0.074234683 | K102: =0.7565*K5-0.02 -> 0.077790233 | ... O102: =0.7565*O5-0.02 -> 0.0763781
A103: =A6 -> 41662 | B103: =B6 -> 0.4375 | C103: =C6 -> 24 | D103: =1.3872*D6-0.0187 -> 0.31108368 | E103: =1.3872*E6-0.0187 -> 0.3160776 | F103: =1.3872*F6-0.0187 -> 0.31681744 | G103: =1.3872*G6-0.0187 -> 0.29961616 | H103: =1.3872*H6-0.0187 -> 0.31062128 | I103: =1.3872*I6-0.0187 -> 0.31302576 | J103: =0.7565*J6-0.02 -> 0.079303233 | K103: =0.7565*K6-0.02 -> 0.08129535 | L103: =0.7565*L6-0.02 -> 0.08190055 | M103: =0.7565*M6-0.02 -> 0.080211033 | N103: =0.7565*N6-0.02 -> 0.081194483 | O103: =0.7565*O6-0.02 -> 0.07887455
A104: =A7 -> 41663 | B104: =B7 -> 0.45833333 | C104: =C7 -> 48.020833 | D104: =1.3872*D7-0.0187 -> 0.38442032 | E104: =1.3872*E7-0.0187 -> 0.37905648 | F104: =1.3872*F7-0.0187 -> 0.3949168 | G104: =1.3872*G7-0.0187 -> 0.41188688 | H104: =1.3872*H7-0.0187 -> 0.44240528 | I104: =1.3872*I7-0.0187 -> 0.38719472 | J104: =0.7565*J7-0.02 -> 0.086918667 | K104: =0.7565*K7-0.02 -> 0.089036867 | L104: =0.7565*L7-0.02 -> 0.080891883 | M104: =0.7565*M7-0.02 -> 0.082934433 | N104: =0.7565*N7-0.02 -> 0.085279583 | O104: =0.7565*O7-0.02 -> 0.082102283
A105: =A8 -> 41664 | B105: =B8 -> 0.4375 | C105: =C8 -> 72 | D105: =1.3872*D8-0.0187 -> 0.42210592 | E105: =1.3872*E8-0.0187 -> 0.440232 | F105: =1.3872*F8-0.0187 -> 0.41350528 | G105: =1.3872*G8-0.0187 -> 0.42571264 | H105: =1.3872*H8-0.0187 -> 0.40851136 | I105: =1.3872*I8-0.0187 -> 0.41697328 | J105: =0.7565*J8-0.02 -> 0.090449 | K105: =0.7565*K8-0.02 -> 0.090247267 | L105: =0.7565*L8-0.02 -> 0.085809133 | M105: =0.7565*M8-0.02 -> 0.089742933 | N105: =0.7565*N8-0.02 -> 0.089364683 | O105: =0.7565*O8-0.02 -> 0.08946555
A106: =A9 -> 41665 | B106: =B9 -> 0.4375 | C106: =C9 -> 96 | D106: =1.3872*D9-0.0187 -> 0.46256592 | E106: =1.3872*E9-0.0187 -> 0.45840432 | F106: =1.3872*F9-0.0187 -> 0.43662528 | G106: =1.3872*G9-0.0187 -> 0.42719232 | H106: =1.3872*H9-0.0187 -> 0.40606064 | I106: =1.3872*I9-0.0187 -> 0.39103264 | J106: =0.7565*J9-0.02 -> 0.093676733 | K106: =0.7565*K9-0.02 -> 0.099022667 | L106: =0.7565*L9-0.02 -> 0.093273267 | M106: =0.7565*M9-0.02 -> 0.093424567 | N106: =0.7565*N9-0.02 -> 0.09234025 | O106: =0.7565*O9-0.02 -> 0.0945341
A107: =A10 -> 41666 | B107: =B10 -> 0.41666667 | C107: =C10 -> 119.97917 | D107: =1.3872*D10-0.0187 -> 0.42044128 | E107: =1.3872*E10-0.0187 -> 0.441388 | F107: =1.3872*F10-0.0187 -> 0.41137824 | G107: =1.3872*G10-0.0187 -> 0.41244176 | H107: =1.3872*H10-0.0187 -> 0.38872064 | I107: =1.3872*I10-0.0187 -> 0.38270944 | J107: =0.7565*J10-0.02 -> 0.099249617 | K107: =0.7565*K10-0.02 -> 0.1004348 | L107: =0.7565*L10-0.02 -> 0.10154433 | M107: =0.7565*M10-0.02 -> 0.097131417 | N107: =0.7565*N10-0.02 -> 0.099728733 | O107: =0.7565*O10-0.02 -> 0.0981653
A108: Final | D108: =I86 -> 0.4328125 | E108: =I87 -> 0.428125 | F108: =I88 -> 0.398125 | G108: =I89 -> 0.3940625 | H108: =I90 -> 0.39125 | I108: =I91 -> 0.388125 | J108: =I92 -> 0.09625 | K108: =I93 -> 0.1053125 | L108: =I94 -> 0.0975 | M108: =I95 -> 0.1009375 | N108: =I96 -> 0.0984375 | O108: =I97 -> 0.0996875
D110: Average | H110: SD | L110: SE | P110: 95% CI
A111: =A101 -> Date | B111: =B101 -> Time | C111: =C101 -> Hour | D111: 10 g/L Glc | E111: 0 g/L Glc | H111: Control | I111: Thiamine | L111: Control | M111: Thiamine | N111: Pantothenic | O111: Thiamine and Pantothenic | P111: Control | Q111: Thiamine | R111: Pantothenic | S111: Thiamine and Pantothenic
A112: =A102 -> 41661 | B112: =B102 -> 0.4375 | C112: =C102 -> 0 | D112: =AVERAGE(D102:I102) -> 0.079353667 | E112: =AVERAGE(J102:O102) -> 0.077676758 | H112: =STDEV(D102:I102) -> 0.0066683471 | I112: =STDEV(J102:O102) -> 0.0024386355 | L112: =H112/SQRT(3) -> 0.003849972 | M112: =I112/SQRT(3) -> 0.0014079469 | N112: =J112/SQRT(3) -> 0 | O112: =K112/SQRT(3) -> 0 | P112: =L112*4.303 -> 0.01656643 | Q112: =M112*4.303 -> 0.0060583954 | R112: =N112*4.303 -> 0 | S112: =O112*4.303 -> 0
A113: =A103 -> 41662 | B113: =B103 -> 0.4375 | C113: =C103 -> 24 | D113: =AVERAGE(D103:I103) -> 0.31120699 | E113: =AVERAGE(J103:O103) -> 0.0804632 | H113: =STDEV(D103:I103) -> 0.0062163256 | I113: =STDEV(J103:O103) -> 0.0012021766 | L113: =H113/SQRT(3) -> 0.0035889972 | M113: =I113/SQRT(3) -> 0.00069407701 | N113: =J113/SQRT(3) -> 0 | O113: =K113/SQRT(3) -> 0 | P113: =L113*4.303 -> 0.015443455 | Q113: =M113*4.303 -> 0.0029866134 | R113: =N113*4.303 -> 0 | S113: =O113*4.303 -> 0
A114: =A104 -> 41663 | B114: =B104 -> 0.45833333 | C114: =C104 -> 48.020833 | D114: =AVERAGE(D104:I104) -> 0.39998008 | E114: =AVERAGE(J104:O104) -> 0.084527286 | H114: =STDEV(D104:I104) -> 0.023709386 | I114: =STDEV(J104:O104) -> 0.003106604 | L114: =H114/SQRT(3) -> 0.01368862 | M114: =I114/SQRT(3) -> 0.0017935986 | N114: =J114/SQRT(3) -> 0 | O114: =K114/SQRT(3) -> 0 | P114: =L114*4.303 -> 0.058902133 | Q114: =M114*4.303 -> 0.0077178549 | R114: =N114*4.303 -> 0 | S114: =O114*4.303 -> 0
A115: =A105 -> 41664 | B115: =B105 -> 0.4375 | C115: =C105 -> 72 | D115: =AVERAGE(D105:I105) -> 0.42117341 | E115: =AVERAGE(J105:O105) -> 0.089179761 | H115: =STDEV(D105:I105) -> 0.011148748 | I115: =STDEV(J105:O105) -> 0.0017055616 | L115: =H115/SQRT(3) -> 0.0064367324 | M115: =I115/SQRT(3) -> 0.00098470644 | N115: =J115/SQRT(3) -> 0 | O115: =K115/SQRT(3) -> 0 | P115: =L115*4.303 -> 0.027697259 | Q115: =M115*4.303 -> 0.0042371918 | R115: =N115*4.303 -> 0 | S115: =O115*4.303 -> 0
A116: =A106 -> 41665 | B116: =B106 -> 0.4375 | C116: =C106 -> 96 | D116: =AVERAGE(D106:I106) -> 0.43031352 | E116: =AVERAGE(J106:O106) -> 0.094378597 | H116: =STDEV(D106:I106) -> 0.028319888 | I116: =STDEV(J106:O106) -> 0.0023820564 | L116: =H116/SQRT(3) -> 0.016350495 | M116: =I116/SQRT(3) -> 0.0013752809 | N116: =J116/SQRT(3) -> 0 | O116: =K116/SQRT(3) -> 0 | P116: =L116*4.303 -> 0.07035618 | Q116: =M116*4.303 -> 0.0059178338 | R116: =N116*4.303 -> 0 | S116: =O116*4.303 -> 0
A117: =A107 -> 41666 | B117: =B107 -> 0.41666667 | C117: =C107 -> 119.97917 | D117: =AVERAGE(D107:I107) -> 0.40951323 | E117: =AVERAGE(J107:O107) -> 0.0993757 | H117: =STDEV(D107:I107) -> 0.021439462 | I117: =STDEV(J107:O107) -> 0.0015790547 | L117: =H117/SQRT(3) -> 0.012378079 | M117: =I117/SQRT(3) -> 0.00091166766 | N117: =J117/SQRT(3) -> 0 | O117: =K117/SQRT(3) -> 0 | P117: =L117*4.303 -> 0.053262876 | Q117: =M117*4.303 -> 0.0039229059 | R117: =N117*4.303 -> 0 | S117: =O117*4.303 -> 0
A144: Biomass composition sample
A145: Sample | B145: Empty | E145: w/ algae | H145: Algae weight (mg)
A146: 1 | B146: 1.5322 | C146: 1.5323 | D146: 1.5323 | E146: 1.5526 | F146: 1.5524 | G146: 1.5526 | H146: =(AVERAGE(E146:G146)-AVERAGE(B146:D146))*1000 -> 20.266667
A147: 2 | B147: 1.5039 | C147: 1.5039 | D147: 1.5038 | E147: 1.5241 | F147: 1.5244 | G147: 1.5242 | H147: =(AVERAGE(E147:G147)-AVERAGE(B147:D147))*1000 -> 20.366667
A148: 3 | B148: 1.5023 | C148: 1.5024 | D148: 1.5024 | E148: 1.5217 | F148: 1.5215 | G148: 1.5219 | H148: =(AVERAGE(E148:G148)-AVERAGE(B148:D148))*1000 -> 19.333333
A149: 4 | B149: 1.5047 | C149: 1.5047 | D149: 1.5047 | E149: 1.5247 | F149: 1.5248 | G149: 1.5247 | H149: =(AVERAGE(E149:G149)-AVERAGE(B149:D149))*1000 -> 20.033333
A150: 5 | B150: 1.5045 | C150: 1.5046 | D150: 1.5043 | E150: 1.5245 | F150: 1.5247 | G150: 1.5249 | H150: =(AVERAGE(E150:G150)-AVERAGE(B150:D150))*1000 -> 20.233333
...

Sheet Kinetics
A1: Growth Kinetics
A3: Dry Weight Curves
A5: Date | B5: Time | C5: Hour | D5: Culture 1 | E5: Culture 2 | F5: Culture 3 | G5: Culture 4 | H5: Culture 5 | I5: Culture 6 | J5: Culture 7 | K5: Culture 8 | L5: Culture 9 | M5: Culture 10 | N5: Culture 11 | O5: Culture 12
A6: ='Summary OD'!A102 -> 41661 | B6: ='Summary OD'!B102 -> 0.4375 | C6: ='Summary OD'!C102 -> 0 | D6: ='Summary OD'!D102 -> 0.091936783 | E6: ='Summary OD'!E102 -> 0.078370217 | F6: ='Summary OD'!F102 -> 0.076781567 | G6: ='Summary OD'!G102 -> 0.07902585 | H6: ='Summary OD'!H102 -> 0.071965183 | ... O6: ='Summary OD'!O102 -> 0.0763781
A7: ='Summary OD'!A103 -> 41662 | B7: ='Summary OD'!B103 -> 0.4375 | C7: ='Summary OD'!C103 -> 24 | D7: ='Summary OD'!D103 -> 0.31108368 | E7: ='Summary OD'!E103 -> 0.3160776 | F7: ='Summary OD'!F103 -> 0.31681744 | G7: ='Summary OD'!G103 -> 0.29961616 | H7: ='Summary OD'!H103 -> 0.31062128 | ... O7: ='Summary OD'!O103 -> 0.07887455
A8: ='Summary OD'!A104 -> 41663 | B8: ='Summary OD'!B104 -> 0.45833333 | C8: ='Summary OD'!C104 -> 48.020833 | D8: ='Summary OD'!D104 -> 0.38442032 | E8: ='Summary OD'!E104 -> 0.37905648 | F8: ='Summary OD'!F104 -> 0.3949168 | G8: ='Summary OD'!G104 -> 0.41188688 | H8: ='Summary OD'!H104 -> 0.44240528 | ... O8: ='Summary OD'!O104 -> 0.082102283
A9: ='Summary OD'!A105 -> 41664 | B9: ='Summary OD'!B105 -> 0.4375 | C9: ='Summary OD'!C105 -> 72 | D9: ='Summary OD'!D105 -> 0.42210592 | E9: ='Summary OD'!E105 -> 0.440232 | F9: ='Summary OD'!F105 -> 0.41350528 | G9: ='Summary OD'!G105 -> 0.42571264 | H9: ='Summary OD'!H105 -> 0.40851136 | ... O9: ='Summary OD'!O105 -> 0.08946555
A10: ='Summary OD'!A106 -> 41665 | B10: ='Summary OD'!B106 -> 0.4375 | C10: ='Summary OD'!C106 -> 96 | D10: ='Summary OD'!D106 -> 0.46256592 | E10: ='Summary OD'!E106 -> 0.45840432 | F10: ='Summary OD'!F106 -> 0.43662528 | G10: ='Summary OD'!G106 -> 0.42719232 | H10: ='Summary OD'!H106 -> 0.40606064 | ... O10: ='Summary OD'!O106 -> 0.0945341
A11: ='Summary OD'!A107 -> 41666 | B11: ='Summary OD'!B107 -> 0.41666667 | C11: ='Summary OD'!C107 -> 119.97917 | D11: ='Summary OD'!D107 -> 0.42044128 | E11: ='Summary OD'!E107 -> 0.441388 | F11: ='Summary OD'!F107 -> 0.41137824 | G11: ='Summary OD'!G107 -> 0.41244176 | H11: ='Summary OD'!H107 -> 0.38872064 | ... O11: ='Summary OD'!O107 -> 0.0981653
A12: ='Summary OD'!A108 -> Final | D12: ='Summary OD'!D108 -> 0.4328125 | E12: ='Summary OD'!E108 -> 0.428125 | F12: ='Summary OD'!F108 -> 0.398125 | G12: ='Summary OD'!G108 -> 0.3940625 | H12: ='Summary OD'!H108 -> 0.39125 | I12: ='Summary OD'!I108 -> 0.388125 | J12: ='Summary OD'!J108 -> 0.09625 | K12: ='Summary OD'!K108 -> 0.1053125 | ... O12: ='Summary OD'!O108 -> 0.0996875
A14: Substrate concentration
A16: Date | B16: Time | C16: Hour | D16: Culture 1 | E16: Culture 2 | F16: Culture 3 | G16: Culture 4 | H16: Culture 5 | I16: Culture 6 | J16: Culture 7 | K16: Culture 8 | L16: Culture 9 | M16: Culture 10 | N16: Culture 11 | O16: Culture 12
A17: =A6 -> 41661 | B17: =B6 -> 0.4375 | C17: =C6 -> 0
A18: =A7 -> 41662 | B18: =B7 -> 0.4375 | C18: =C7 -> 24
A19: =A8 -> 41663 | B19: =B8 -> 0.45833333 | C19: =C8 -> 48.020833
A20: =A9 -> 41664 | B20: =B9 -> 0.4375 | C20: =C9 -> 72
A21: =A10 -> 41665 | B21: =B10 -> 0.4375 | C21: =C10 -> 96
A22: =A11 -> 41666 | B22: =B11 -> 0.41666667 | C22: =C11 -> 119.97917
A25: Day 1 only | C25: Time interval: 1 day
D27: Culture 1 | E27: Culture 2 | F27: Culture 3 | G27: Culture 4 | H27: Culture 5 | I27: Culture 6 | J27: Culture 7 | K27: Culture 8 | L27: Culture 9 | M27: Culture 10 | N27: Culture 11 | O27: Culture 12
A28: Productivity (g/ L/ day) | D28: =(D7-D6)/1 -> 0.2191469 | E28: =(E7-E6)/1 -> 0.23770738 | F28: =(F7-F6)/1 -> 0.24003587 | G28: =(G7-G6)/1 -> 0.22059031 | H28: =(H7-H6)/1 -> 0.2386561 | I28: =(I7-I6)/1 -> 0.23498336 | J28: =(J7-J6)/1 -> 0.00506855 | K28: =(K7-K6)/1 -> 0.0035051167 | ... O28: =(O7-O6)/1 -> 0.00249645
A29: Average conc (g/ L) | D29: =AVERAGE(D6:D7) -> 0.20151023 | E29: =AVERAGE(E6:E7) -> 0.19722391 | F29: =AVERAGE(F6:F7) -> 0.1967995 | G29: =AVERAGE(G6:G7) -> 0.189321 | H29: =AVERAGE(H6:H7) -> 0.19129323 | I29: =AVERAGE(I6:I7) -> 0.19553408 | J29: =AVERAGE(J6:J7) -> 0.076768958 | K29: =AVERAGE(K6:K7) -> 0.079542792 | ... O29: =AVERAGE(O6:O7) -> 0.077626325
A30: Specific growth (1/ day) | D30: =D28/D29 -> 1.0875224 | E30: =E28/E29 -> 1.2052666 | F30: =F28/F29 -> 1.2196976 | G30: =G28/G29 -> 1.1651655 | H30: =H28/H29 -> 1.247593 | I30: =I28/I29 -> 1.2017514 | J30: =J28/J29 -> 0.066023431 | K30: =K28/K29 -> 0.044065799 | ... O30: =O28/O29 -> 0.032159838
A31: 1/ mu (day) | D31: =1/D30 -> 0.91952127 | E31: =1/E30 -> 0.82969197 | F31: =1/F30 -> 0.81987538 | G31: =1/G30 -> 0.85824715 | H31: =1/H30 -> 0.80154345 | I31: =1/I30 -> 0.83211884 | J31: =1/J30 -> 15.146138 | K31: =1/K30 -> 22.693336 | ... O31: =1/O30 -> 31.094684
A32: [S] (g/ L) | D32: =AVERAGE(D17:D18) -> #DIV/0! | E32: =AVERAGE(E17:E18) -> #DIV/0! | F32: =AVERAGE(F17:F18) -> #DIV/0! | G32: =AVERAGE(G17:G18) -> #DIV/0! | H32: =AVERAGE(H17:H18) -> #DIV/0! | I32: =AVERAGE(I17:I18) -> #DIV/0! | J32: =AVERAGE(J17:J18) -> #DIV/0! | K32: =AVERAGE(K17:K18) -> #DIV/0! | ... O32: =AVERAGE(O17:O18) -> #DIV/0!
A33: 1/ [S] (L/ g) | G33: =1/G32 -> #DIV/0! | H33: =1/H32 -> #DIV/0! | I33: =1/I32 -> #DIV/0! | J33: =1/J32 -> #DIV/0! | K33: =1/K32 -> #DIV/0! | L33: =1/L32 -> #DIV/0! | M33: =1/M32 -> #DIV/0! | N33: =1/N32 -> #DIV/0! | O33: =1/O32 -> #DIV/0!
A35: neg 1/ km = | C35: =-0.07684/0.0479 -> -1.6041754
A36: 1/ vmax = | C36: 0.7684
A37: km = | C37: =-1/C35 -> 0.62337324
A38: vmax = | C38: =1/C36 -> 1.3014055
A40: Predicted growth rates (mu) based on Monod kinetics
C42: Day | D42: Culture 1 | E42: Culture 2 | F42: Culture 3 | G42: Culture 4 | H42: Culture 5 | I42: Culture 6 | J42: Culture 7 | K42: Culture 8 | L42: Culture 9 | M42: Culture 10 | N42: Culture 11 | O42: Culture 12
C43: 0 | D43: =$C$38*D17/($C$37+D17) -> 0 | E43: =$C$38*E17/($C$37+E17) -> 0 | F43: =$C$38*F17/($C$37+F17) -> 0 | G43: =$C$38*G17/($C$37+G17) -> 0 | H43: =$C$38*H17/($C$37+H17) -> 0 | I43: =$C$38*I17/($C$37+I17) -> 0 | J43: =$C$38*J17/($C$37+J17) -> 0 | K43: =$C$38*K17/($C$37+K17) -> 0 | ... O43: =$C$38*O17/($C$37+O17) -> 0
C44: 1 | D44: =$C$38*D18/($C$37+D18) -> 0 | E44: =$C$38*E18/($C$37+E18) -> 0 | F44: =$C$38*F18/($C$37+F18) -> 0 | G44: =$C$38*G18/($C$37+G18) -> 0 | H44: =$C$38*H18/($C$37+H18) -> 0 | I44: =$C$38*I18/($C$37+I18) -> 0 | J44: =$C$38*J18/($C$37+J18) -> 0 | K44: =K43 -> 0 | L44: =$C$38*L18/($C$37+L18) -> 0 | M44: =$C$38*M18/($C$37+M18) -> 0 | N44: =$C$38*N18/($C$37+N18) -> 0 | O44: =$C$38*O18/($C$37+O18) -> 0
C45: 2 | D45: =$C$38*D19/($C$37+D19) -> 0 | E45: =$C$38*E19/($C$37+E19) -> 0 | F45: =$C$38*F19/($C$37+F19) -> 0 | G45: =$C$38*G19/($C$37+G19) -> 0 | H45: =H44 -> 0 | I45: =$C$38*I19/($C$37+I19) -> 0 | J45: =$C$38*J19/($C$37+J19) -> 0 | K45: =$C$38*K19/($C$37+K19) -> 0 | L45: =$C$38*L19/($C$37+L19) -> 0 | M45: =$C$38*M19/($C$37+M19) -> 0 | N45: =$C$38*N19/($C$37+N19) -> 0 | O45: =$C$38*O19/($C$37+O19) -> 0
C46: 3 | D46: =$C$38*D20/($C$37+D20) -> 0 | E46: =$C$38*E20/($C$37+E20) -> 0 | F46: =$C$38*F20/($C$37+F20) -> 0 | G46: =$C$38*G20/($C$37+G20) -> 0 | H46: =$C$38*H20/($C$37+H20) -> 0 | I46: =$C$38*I20/($C$37+I20) -> 0 | J46: =$C$38*J20/($C$37+J20) -> 0 | K46: =$C$38*K20/($C$37+K20) -> 0 | ... O46: =$C$38*O20/($C$37+O20) -> 0
C47: 4 | D47: =$C$38*D21/($C$37+D21) -> 0 | E47: =$C$38*E21/($C$37+E21) -> 0 | F47: =$C$38*F21/($C$37+F21) -> 0 | G47: =$C$38*G21/($C$37+G21) -> 0 | H47: =$C$38*H21/($C$37+H21) -> 0 | I47: =$C$38*I21/($C$37+I21) -> 0 | J47: =$C$38*J21/($C$37+J21) -> 0 | K47: =$C$38*K21/($C$37+K21) -> 0 | ... O47: =$C$38*O21/($C$37+O21) -> 0
C48: 5 | D48: =$C$38*D22/($C$37+D22) -> 0 | E48: =$C$38*E22/($C$37+E22) -> 0 | F48: =$C$38*F22/($C$37+F22) -> 0 | G48: =$C$38*G22/($C$37+G22) -> 0 | H48: =$C$38*H22/($C$37+H22) -> 0 | I48: =$C$38*I22/($C$37+I22) -> 0 | J48: =$C$38*J22/($C$37+J22) -> 0 | K48: =$C$38*K22/($C$37+K22) -> 0 | ... O48: =$C$38*O22/($C$37+O22) -> 0
C50: Iteration 1 | Q50: Iteration 2 | AE50: Iteration 3 | AS50: Iteration 4 | BG50: Iteration 5
C51: Day | D51: Culture 1 | E51: Culture 2 | F51: Culture 3 | G51: Culture 4 | H51: Culture 5 | I51: Culture 6 | J51: Culture 7 | K51: Culture 8 | L51: Culture 9 | M51: Culture 10 | N51: Culture 11 | O51: Culture 12 | Q51: Day | R51: Culture 1 | S51: Culture 2 | T51: Culture 3 | U51: Culture 4 | V51: Culture 5 | W51: Culture 6 | X51: Culture 7 | Y51: Culture 8 | Z51: Culture 9 | AA51: Culture 10 | AB51: Culture 11 | AC51: Culture 12 | AE51: Day | AF51: Culture 1 | AG51: Culture 2 | AH51: Culture 3 | AI51: Culture 4 | AJ51: Culture 5 | AK51: Culture 6 | AL51: Culture 7 | AM51: Culture 8 | AN51: Culture 9 | AO51: Culture 10 | AP51: Culture 11 | AQ51: Culture 12 | AS51: Day | AT51: Culture 1 | AU51: Culture 2 | AV51: Culture 3 | AW51: Culture 4 | AX51: Culture 5 | AY51: Culture 6 | AZ51: Culture 7 | BA51: Culture 8 | BB51: Culture 9 | BC51: Culture 10 | BD51: Culture 11 | BE51: Culture 12 | BG51: =AS51 -> Day | BH51: =AT51 -> Culture 1 | BI51: =AU51 -> Culture 2 | BJ51: =AV51 -> Culture 3 | BK51: =AW51 -> Culture 4 | BL51: =AX51 -> Culture 5 | BM51: =AY51 -> Culture 6 | BN51: =AZ51 -> Culture 7 | ... BS51: =BE51 -> Culture 12
C52: 0 | D52: =D6 -> 0.091936783 | E52: =E6 -> 0.078370217 | F52: =F6 -> 0.076781567 | G52: =G6 -> 0.07902585 | H52: =H6 -> 0.071965183 | I52: =I6 -> 0.0780424 | J52: =J6 -> 0.074234683 | K52: =K6 -> 0.077790233 | ... O52: =O6 -> 0.0763781 | Q52: 0 | R52: =D52 -> 0.091936783 | S52: =E52 -> 0.078370217 | T52: =F52 -> 0.076781567 | U52: =G52 -> 0.07902585 | V52: =H52 -> 0.071965183 | W52: =I52 -> 0.0780424 | X52: =J52 -> 0.074234683 | Y52: =K52 -> 0.077790233 | ... AC52: =O52 -> 0.0763781 | AE52: 0 | AF52: =R52 -> 0.091936783 | AG52: =S52 -> 0.078370217 | AH52: =T52 -> 0.076781567 | AI52: =U52 -> 0.07902585 | AJ52: =V52 -> 0.071965183 | AK52: =W52 -> 0.0780424 | AL52: =X52 -> 0.074234683 | AM52: =Y52 -> 0.077790233 | ... AQ52: =AC52 -> 0.0763781 | AS52: 0 | AT52: =AF52 -> 0.091936783 | AU52: =AG52 -> 0.078370217 | AV52: =AH52 -> 0.076781567 | AW52: =AI52 -> 0.07902585 | AX52: =AJ52 -> 0.071965183 | AY52: =AK52 -> 0.0780424 | AZ52: =AL52 -> 0.074234683 | BA52: =AM52 -> 0.077790233 | ... BE52: =AQ52 -> 0.0763781 | BG52: =AS52 -> 0 | BH52: =AT52 -> 0.091936783 | BI52: =AU52 -> 0.078370217 | BJ52: =AV52 -> 0.076781567 | BK52: =AW52 -> 0.07902585 | BL52: =AX52 -> 0.071965183 | BM52: =AY52 -> 0.0780424 | BN52: =AZ52 -> 0.074234683 | ... BS52: =BE52 -> 0.0763781
C53: 1 | D53: =D52+D52*D43 -> 0.091936783 | E53: =E52+E52*E43 -> 0.078370217 | F53: =F52+F52*F43 -> 0.076781567 | G53: =G52+G52*G43 -> 0.07902585 | H53: =H52+H52*H43 -> 0.071965183 | I53: =I52+I52*I43 -> 0.0780424 | J53: =J52+J52*J43 -> 0.074234683 | K53: =K52+K52*K43 -> 0.077790233 | ... O53: =O52+O52*O43 -> 0.0763781 | Q53: 1 | R53: =R52+AVERAGE(D52:D53)*D43 -> 0.091936783 | S53: =S52+AVERAGE(E52:E53)*E43 -> 0.078370217 | T53: =T52+AVERAGE(F52:F53)*F43 -> 0.076781567 | U53: =U52+AVERAGE(G52:G53)*G43 -> 0.07902585 | V53: =V52+AVERAGE(H52:H53)*H43 -> 0.071965183 | W53: =W52+AVERAGE(I52:I53)*I43 -> 0.0780424 | X53: =X52+AVERAGE(J52:J53)*J43 -> 0.074234683 | Y53: =Y52+AVERAGE(K52:K53)*K43 -> 0.077790233 | ... AC53: =AC52+AVERAGE(O52:O53)*O43 -> 0.0763781 | AE53: 1 | AF53: =AF52+AVERAGE(R52:R53)*D43 -> 0.091936783 | AG53: =AG52+AVERAGE(S52:S53)*E43 -> 0.078370217 | AH53: =AH52+AVERAGE(T52:T53)*F43 -> 0.076781567 | AI53: =AI52+AVERAGE(U52:U53)*G43 -> 0.07902585 | AJ53: =AJ52+AVERAGE(V52:V53)*H43 -> 0.071965183 | AK53: =AK52+AVERAGE(W52:W53)*I43 -> 0.0780424 | AL53: =AL52+AVERAGE(X52:X53)*J43 -> 0.074234683 | AM53: =AM52+AVERAGE(Y52:Y53)*K43 -> 0.077790233 | ... AQ53: =AQ52+AVERAGE(AC52:AC53)*O43 -> 0.0763781 | AS53: 1 | AT53: =AT52+AVERAGE(AF52:AF53)*D43 -> 0.091936783 | AU53: =AU52+AVERAGE(AG52:AG53)*E43 -> 0.078370217 | AV53: =AV52+AVERAGE(AH52:AH53)*F43 -> 0.076781567 | AW53: =AW52+AVERAGE(AI52:AI53)*G43 -> 0.07902585 | AX53: =AX52+AVERAGE(AJ52:AJ53)*H43 -> 0.071965183 | AY53: =AY52+AVERAGE(AK52:AK53)*I43 -> 0.0780424 | AZ53: =AZ52+AVERAGE(AL52:AL53)*J43 -> 0.074234683 | BA53: =BA52+AVERAGE(AM52:AM53)*K43 -> 0.077790233 | ... BE53: =BE52+AVERAGE(AQ52:AQ53)*O43 -> 0.0763781 | BG53: 1 | BH53: =BH52+AVERAGE(AT52:AT53)*D43 -> 0.091936783 | BI53: =BI52+AVERAGE(AU52:AU53)*E43 -> 0.078370217 | BJ53: =BJ52+AVERAGE(AV52:AV53)*F43 -> 0.076781567 | BK53: =BK52+AVERAGE(AW52:AW53)*G43 -> 0.07902585 | BL53: =BL52+AVERAGE(AX52:AX53)*H43 -> 0.071965183 | BM53: =BM52+AVERAGE(AY52:AY53)*I43 -> 0.0780424 | BN53: =BN52+AVERAGE(AZ52:AZ53)*J43 -> 0.074234683 | BO53: =BO52+AVERAGE(BA52:BA53)*K43 -> 0.077790233 | ... BS53: =BS52+AVERAGE(BE52:BE53)*O43 -> 0.0763781
C54: 2 | D54: =D53+D53*D44 -> 0.091936783 | E54: =E53+E53*E44 -> 0.078370217 | F54: =F53+F53*F44 -> 0.076781567 | G54: =G53+G53*G44 -> 0.07902585 | H54: =H53+H53*H44 -> 0.071965183 | I54: =I53+I53*I44 -> 0.0780424 | J54: =J53+J53*J44 -> 0.074234683 | K54: =K53+K53*K44 -> 0.077790233 | ... O54: =O53+O53*O44 -> 0.0763781 | Q54: 2 | R54: =R53+AVERAGE(D53:D54)*D44 -> 0.091936783 | S54: =S53+AVERAGE(E53:E54)*E44 -> 0.078370217 | T54: =T53+AVERAGE(F53:F54)*F44 -> 0.076781567 | U54: =U53+AVERAGE(G53:G54)*G44 -> 0.07902585 | V54: =V53+AVERAGE(H53:H54)*H44 -> 0.071965183 | W54: =W53+AVERAGE(I53:I54)*I44 -> 0.0780424 | X54: =X53+AVERAGE(J53:J54)*J44 -> 0.074234683 | Y54: =Y53+AVERAGE(K53:K54)*K44 -> 0.077790233 | ... AC54: =AC53+AVERAGE(O53:O54)*O44 -> 0.0763781 | AE54: 2 | AF54: =AF53+AVERAGE(R53:R54)*D44 -> 0.091936783 | AG54: =AG53+AVERAGE(S53:S54)*E44 -> 0.078370217 | AH54: =AH53+AVERAGE(T53:T54)*F44 -> 0.076781567 | AI54: =AI53+AVERAGE(U53:U54)*G44 -> 0.07902585 | AJ54: =AJ53+AVERAGE(V53:V54)*H44 -> 0.071965183 | AK54: =AK53+AVERAGE(W53:W54)*I44 -> 0.0780424 | AL54: =AL53+AVERAGE(X53:X54)*J44 -> 0.074234683 | AM54: =AM53+AVERAGE(Y53:Y54)*K44 -> 0.077790233 | ... AQ54: =AQ53+AVERAGE(AC53:AC54)*O44 -> 0.0763781 | AS54: 2 | AT54: =AT53+AVERAGE(AF53:AF54)*D44 -> 0.091936783 | AU54: =AU53+AVERAGE(AG53:AG54)*E44 -> 0.078370217 | AV54: =AV53+AVERAGE(AH53:AH54)*F44 -> 0.076781567 | AW54: =AW53+AVERAGE(AI53:AI54)*G44 -> 0.07902585 | AX54: =AX53+AVERAGE(AJ53:AJ54)*H44 -> 0.071965183 | AY54: =AY53+AVERAGE(AK53:AK54)*I44 -> 0.0780424 | AZ54: =AZ53+AVERAGE(AL53:AL54)*J44 -> 0.074234683 | BA54: =BA53+AVERAGE(AM53:AM54)*K44 -> 0.077790233 | ... BE54: =BE53+AVERAGE(AQ53:AQ54)*O44 -> 0.0763781 | BG54: 2 | BH54: =BH53+AVERAGE(AT53:AT54)*D44 -> 0.091936783 | BI54: =BI53+AVERAGE(AU53:AU54)*E44 -> 0.078370217 | BJ54: =BJ53+AVERAGE(AV53:AV54)*F44 -> 0.076781567 | BK54: =BK53+AVERAGE(AW53:AW54)*G44 -> 0.07902585 | BL54: =BL53+AVERAGE(AX53:AX54)*H44 -> 0.071965183 | BM54: =BM53+AVERAGE(AY53:AY54)*I44 -> 0.0780424 | BN54: =BN53+AVERAGE(AZ53:AZ54)*J44 -> 0.074234683 | BO54: =BO53+AVERAGE(BA53:BA54)*K44 -> 0.077790233 | ... BS54: =BS53+AVERAGE(BE53:BE54)*O44 -> 0.0763781
C55: 3 | D55: =D54+D54*D45 -> 0.091936783 | E55: =E54+E54*E45 -> 0.078370217 | F55: =F54+F54*F45 -> 0.076781567 | G55: =G54+G54*G45 -> 0.07902585 | H55: =H54+H54*H45 -> 0.071965183 | I55: =I54+I54*I45 -> 0.0780424 | J55: =J54+J54*J45 -> 0.074234683 | K55: =K54+K54*K45 -> 0.077790233 | ... O55: =O54+O54*O45 -> 0.0763781 | Q55: 3 | R55: =R54+AVERAGE(D54:D55)*D45 -> 0.091936783 | S55: =S54+AVERAGE(E54:E55)*E45 -> 0.078370217 | T55: =T54+AVERAGE(F54:F55)*F45 -> 0.076781567 | U55: =U54+AVERAGE(G54:G55)*G45 -> 0.07902585 | V55: =V54+AVERAGE(H54:H55)*H45 -> 0.071965183 | W55: =W54+AVERAGE(I54:I55)*I45 -> 0.0780424 | X55: =X54+AVERAGE(J54:J55)*J45 -> 0.074234683 | Y55: =Y54+AVERAGE(K54:K55)*K45 -> 0.077790233 | ... AC55: =AC54+AVERAGE(O54:O55)*O45 -> 0.0763781 | AE55: 3 | AF55: =AF54+AVERAGE(R54:R55)*D45 -> 0.091936783 | AG55: =AG54+AVERAGE(S54:S55)*E45 -> 0.078370217 | AH55: =AH54+AVERAGE(T54:T55)*F45 -> 0.076781567 | AI55: =AI54+AVERAGE(U54:U55)*G45 -> 0.07902585 | AJ55: =AJ54+AVERAGE(V54:V55)*H45 -> 0.071965183 | AK55: =AK54+AVERAGE(W54:W55)*I45 -> 0.0780424 | AL55: =AL54+AVERAGE(X54:X55)*J45 -> 0.074234683 | AM55: =AM54+AVERAGE(Y54:Y55)*K45 -> 0.077790233 | ... AQ55: =AQ54+AVERAGE(AC54:AC55)*O45 -> 0.0763781 | AS55: 3 | AT55: =AT54+AVERAGE(AF54:AF55)*D45 -> 0.091936783 | AU55: =AU54+AVERAGE(AG54:AG55)*E45 -> 0.078370217 | AV55: =AV54+AVERAGE(AH54:AH55)*F45 -> 0.076781567 | AW55: =AW54+AVERAGE(AI54:AI55)*G45 -> 0.07902585 | AX55: =AX54+AVERAGE(AJ54:AJ55)*H45 -> 0.071965183 | AY55: =AY54+AVERAGE(AK54:AK55)*I45 -> 0.0780424 | AZ55: =AZ54+AVERAGE(AL54:AL55)*J45 -> 0.074234683 | BA55: =BA54+AVERAGE(AM54:AM55)*K45 -> 0.077790233 | ... BE55: =BE54+AVERAGE(AQ54:AQ55)*O45 -> 0.0763781 | BG55: 3 | BH55: =BH54+AVERAGE(AT54:AT55)*D45 -> 0.091936783 | BI55: =BI54+AVERAGE(AU54:AU55)*E45 -> 0.078370217 | BJ55: =BJ54+AVERAGE(AV54:AV55)*F45 -> 0.076781567 | BK55: =BK54+AVERAGE(AW54:AW55)*G45 -> 0.07902585 | BL55: =BL54+AVERAGE(AX54:AX55)*H45 -> 0.071965183 | BM55: =BM54+AVERAGE(AY54:AY55)*I45 -> 0.0780424 | BN55: =BN54+AVERAGE(AZ54:AZ55)*J45 -> 0.074234683 | BO55: =BO54+AVERAGE(BA54:BA55)*K45 -> 0.077790233 | ... BS55: =BS54+AVERAGE(BE54:BE55)*O45 -> 0.0763781
C56: 4 | D56: =D55+D55*D46 -> 0.091936783 | E56: =E55+E55*E46 -> 0.078370217 | F56: =F55+F55*F46 -> 0.076781567 | G56: =G55+G55*G46 -> 0.07902585 | H56: =H55+H55*H46 -> 0.071965183 | I56: =I55+I55*I46 -> 0.0780424 | J56: =J55+J55*J46 -> 0.074234683 | K56: =K55+K55*K46 -> 0.077790233 | ... O56: =O55+O55*O46 -> 0.0763781 | Q56: 4 | R56: =R55+AVERAGE(D55:D56)*D46 -> 0.091936783 | S56: =S55+AVERAGE(E55:E56)*E46 -> 0.078370217 | T56: =T55+AVERAGE(F55:F56)*F46 -> 0.076781567 | U56: =U55+AVERAGE(G55:G56)*G46 -> 0.07902585 | V56: =V55+AVERAGE(H55:H56)*H46 -> 0.071965183 | W56: =W55+AVERAGE(I55:I56)*I46 -> 0.0780424 | X56: =X55+AVERAGE(J55:J56)*J46 -> 0.074234683 | Y56: =Y55+AVERAGE(K55:K56)*K46 -> 0.077790233 | ... AC56: =AC55+AVERAGE(O55:O56)*O46 -> 0.0763781 | AE56: 4 | AF56: =AF55+AVERAGE(R55:R56)*D46 -> 0.091936783 | AG56: =AG55+AVERAGE(S55:S56)*E46 -> 0.078370217 | AH56: =AH55+AVERAGE(T55:T56)*F46 -> 0.076781567 | AI56: =AI55+AVERAGE(U55:U56)*G46 -> 0.07902585 | AJ56: =AJ55+AVERAGE(V55:V56)*H46 -> 0.071965183 | AK56: =AK55+AVERAGE(W55:W56)*I46 -> 0.0780424 | AL56: =AL55+AVERAGE(X55:X56)*J46 -> 0.074234683 | AM56: =AM55+AVERAGE(Y55:Y56)*K46 -> 0.077790233 | ... AQ56: =AQ55+AVERAGE(AC55:AC56)*O46 -> 0.0763781 | AS56: 4 | AT56: =AT55+AVERAGE(AF55:AF56)*D46 -> 0.091936783 | AU56: =AU55+AVERAGE(AG55:AG56)*E46 -> 0.078370217 | AV56: =AV55+AVERAGE(AH55:AH56)*F46 -> 0.076781567 | AW56: =AW55+AVERAGE(AI55:AI56)*G46 -> 0.07902585 | AX56: =AX55+AVERAGE(AJ55:AJ56)*H46 -> 0.071965183 | AY56: =AY55+AVERAGE(AK55:AK56)*I46 -> 0.0780424 | AZ56: =AZ55+AVERAGE(AL55:AL56)*J46 -> 0.074234683 | BA56: =BA55+AVERAGE(AM55:AM56)*K46 -> 0.077790233 | ... BE56: =BE55+AVERAGE(AQ55:AQ56)*O46 -> 0.0763781 | BG56: 4 | BH56: =BH55+AVERAGE(AT55:AT56)*D46 -> 0.091936783 | BI56: =BI55+AVERAGE(AU55:AU56)*E46 -> 0.078370217 | BJ56: =BJ55+AVERAGE(AV55:AV56)*F46 -> 0.076781567 | BK56: =BK55+AVERAGE(AW55:AW56)*G46 -> 0.07902585 | BL56: =BL55+AVERAGE(AX55:AX56)*H46 -> 0.071965183 | BM56: =BM55+AVERAGE(AY55:AY56)*I46 -> 0.0780424 | BN56: =BN55+AVERAGE(AZ55:AZ56)*J46 -> 0.074234683 | BO56: =BO55+AVERAGE(BA55:BA56)*K46 -> 0.077790233 | ... BS56: =BS55+AVERAGE(BE55:BE56)*O46 -> 0.0763781
C57: 5 | D57: =D56+D56*D47 -> 0.091936783 | E57: =E56+E56*E47 -> 0.078370217 | F57: =F56+F56*F47 -> 0.076781567 | G57: =G56+G56*G47 -> 0.07902585 | H57: =H56+H56*H47 -> 0.071965183 | I57: =I56+I56*I47 -> 0.0780424 | J57: =J56+J56*J47 -> 0.074234683 | K57: =K56+K56*K47 -> 0.077790233 | ... O57: =O56+O56*O47 -> 0.0763781 | Q57: 5 | R57: =R56+AVERAGE(D56:D57)*D47 -> 0.091936783 | S57: =S56+AVERAGE(E56:E57)*E47 -> 0.078370217 | T57: =T56+AVERAGE(F56:F57)*F47 -> 0.076781567 | U57: =U56+AVERAGE(G56:G57)*G47 -> 0.07902585 | V57: =V56+AVERAGE(H56:H57)*H47 -> 0.071965183 | W57: =W56+AVERAGE(I56:I57)*I47 -> 0.0780424 | X57: =X56+AVERAGE(J56:J57)*J47 -> 0.074234683 | Y57: =Y56+AVERAGE(K56:K57)*K47 -> 0.077790233 | ... AC57: =AC56+AVERAGE(O56:O57)*O47 -> 0.0763781 | AE57: 5 | AF57: =AF56+AVERAGE(R56:R57)*D47 -> 0.091936783 | AG57: =AG56+AVERAGE(S56:S57)*E47 -> 0.078370217 | AH57: =AH56+AVERAGE(T56:T57)*F47 -> 0.076781567 | AI57: =AI56+AVERAGE(U56:U57)*G47 -> 0.07902585 | AJ57: =AJ56+AVERAGE(V56:V57)*H47 -> 0.071965183 | AK57: =AK56+AVERAGE(W56:W57)*I47 -> 0.0780424 | AL57: =AL56+AVERAGE(X56:X57)*J47 -> 0.074234683 | AM57: =AM56+AVERAGE(Y56:Y57)*K47 -> 0.077790233 | ... AQ57: =AQ56+AVERAGE(AC56:AC57)*O47 -> 0.0763781 | AS57: 5 | AT57: =AT56+AVERAGE(AF56:AF57)*D47 -> 0.091936783 | AU57: =AU56+AVERAGE(AG56:AG57)*E47 -> 0.078370217 | AV57: =AV56+AVERAGE(AH56:AH57)*F47 -> 0.076781567 | AW57: =AW56+AVERAGE(AI56:AI57)*G47 -> 0.07902585 | AX57: =AX56+AVERAGE(AJ56:AJ57)*H47 -> 0.071965183 | AY57: =AY56+AVERAGE(AK56:AK57)*I47 -> 0.0780424 | AZ57: =AZ56+AVERAGE(AL56:AL57)*J47 -> 0.074234683 | BA57: =BA56+AVERAGE(AM56:AM57)*K47 -> 0.077790233 | ... BE57: =BE56+AVERAGE(AQ56:AQ57)*O47 -> 0.0763781 | BG57: 5 | BH57: =BH56+AVERAGE(AT56:AT57)*D47 -> 0.091936783 | BI57: =BI56+AVERAGE(AU56:AU57)*E47 -> 0.078370217 | BJ57: =BJ56+AVERAGE(AV56:AV57)*F47 -> 0.076781567 | BK57: =BK56+AVERAGE(AW56:AW57)*G47 -> 0.07902585 | BL57: =BL56+AVERAGE(AX56:AX57)*H47 -> 0.071965183 | BM57: =BM56+AVERAGE(AY56:AY57)*I47 -> 0.0780424 | BN57: =BN56+AVERAGE(AZ56:AZ57)*J47 -> 0.074234683 | BO57: =BO56+AVERAGE(BA56:BA57)*K47 -> 0.077790233 | ... BS57: =BS56+AVERAGE(BE56:BE57)*O47 -> 0.0763781
C59: Last iteration average | I59: Actual average
C60: Day | D60: 0 g/ L mod | E60: 0.5 g/ L mod | F60: 2 g/ L mod | G60: 10 g/ L mod | I60: Day | J60: 0 g/ L act | K60: 0.5 g/ L act | L60: 2 g/ L act | M60: 10 g/ L act
C61: 0 | D61: =AVERAGE(BH52:BJ52) -> 0.082362856 | E61: =AVERAGE(BK52:BM52) -> 0.076344478 | F61: =AVERAGE(BN52:BP52) -> 0.076571428 | G61: =AVERAGE(BQ52:BS52) -> 0.078782089 | I61: 0 | J61: =AVERAGE(D6:F6) -> 0.082362856 | K61: =AVERAGE(G6:I6) -> 0.076344478 | L61: =AVERAGE(J6:L6) -> 0.076571428 | M61: =AVERAGE(M6:O6) -> 0.078782089
C62: 1 | D62: =AVERAGE(BH53:BJ53) -> 0.082362856 | E62: =AVERAGE(BK53:BM53) -> 0.076344478 | F62: =AVERAGE(BN53:BP53) -> 0.076571428 | G62: =AVERAGE(BQ53:BS53) -> 0.078782089 | I62: 1 | J62: =AVERAGE(D7:F7) -> 0.31465957 | K62: =AVERAGE(G7:I7) -> 0.3077544 | L62: =AVERAGE(J7:L7) -> 0.080833044 | M62: =AVERAGE(M7:O7) -> 0.080093356
C63: 2 | D63: =AVERAGE(BH54:BJ54) -> 0.082362856 | E63: =AVERAGE(BK54:BM54) -> 0.076344478 | F63: =AVERAGE(BN54:BP54) -> 0.076571428 | G63: =AVERAGE(BQ54:BS54) -> 0.078782089 | I63: 2 | J63: =AVERAGE(D8:F8) -> 0.3861312 | K63: =AVERAGE(G8:I8) -> 0.41382896 | L63: =AVERAGE(J8:L8) -> 0.085615806 | M63: =AVERAGE(M8:O8) -> 0.083438767
C64: 3 | D64: =AVERAGE(BH55:BJ55) -> 0.082362856 | E64: =AVERAGE(BK55:BM55) -> 0.076344478 | F64: =AVERAGE(BN55:BP55) -> 0.076571428 | G64: =AVERAGE(BQ55:BS55) -> 0.078782089 | I64: 3 | J64: =AVERAGE(D9:F9) -> 0.42528107 | K64: =AVERAGE(G9:I9) -> 0.41706576 | L64: =AVERAGE(J9:L9) -> 0.088835133 | M64: =AVERAGE(M9:O9) -> 0.089524389
C65: 4 | D65: =AVERAGE(BH56:BJ56) -> 0.082362856 | E65: =AVERAGE(BK56:BM56) -> 0.076344478 | F65: =AVERAGE(BN56:BP56) -> 0.076571428 | G65: =AVERAGE(BQ56:BS56) -> 0.078782089 | I65: 4 | J65: =AVERAGE(D10:F10) -> 0.45253184 | K65: =AVERAGE(G10:I10) -> 0.4080952 | L65: =AVERAGE(J10:L10) -> 0.095324222 | M65: =AVERAGE(M10:O10) -> 0.093432972
C66: 5 | D66: =AVERAGE(BH57:BJ57) -> 0.082362856 | E66: =AVERAGE(BK57:BM57) -> 0.076344478 | F66: =AVERAGE(BN57:BP57) -> 0.076571428 | G66: =AVERAGE(BQ57:BS57) -> 0.078782089 | I66: 5 | J66: =AVERAGE(D11:F11) -> 0.42440251 | K66: =AVERAGE(G11:I11) -> 0.39462395 | L66: =AVERAGE(J11:L11) -> 0.10040958 | M66: =AVERAGE(M11:O11) -> 0.098341817
I67: Final | J67: =AVERAGE(D12:F12) -> 0.4196875 | K67: =AVERAGE(G12:I12) -> 0.39114583 | L67: =AVERAGE(J12:L12) -> 0.0996875 | M67: =AVERAGE(M12:O12) -> 0.0996875
A80: Predictive 5 Day Model (not Monod)
D82: Culture 1 | E82: Culture 2 | F82: Culture 3 | G82: Culture 4 | H82: Culture 5 | I82: Culture 6 | J82: Culture 7 | K82: Culture 8 | L82: Culture 9 | M82: Culture 10 | N82: Culture 11 | O82: Culture 12
A83: Productivity (g/ L/ day) | D83: =(D12-D6)/5 -> 0.068175143 | E83: =(E12-E6)/5 -> 0.069950957 | F83: =(F12-F6)/5 -> 0.064268687 | G83: =(G12-G6)/5 -> 0.06300733 | H83: =(H12-H6)/5 -> 0.063856963 | I83: =(I12-I6)/5 -> 0.06201652 | J83: =(J12-J6)/5 -> 0.0044030633 | K83: =(K12-K6)/5 -> 0.0055044533 | ... O83: =(O12-O6)/5 -> 0.00466188
A84: Initial conc (g/ L) | D84: =D6 -> 0.091936783 | E84: =E6 -> 0.078370217 | F84: =F6 -> 0.076781567 | G84: =G6 -> 0.07902585 | H84: =H6 -> 0.071965183 | I84: =I6 -> 0.0780424 | J84: =J6 -> 0.074234683 | K84: =K6 -> 0.077790233 | ... O84: =O6 -> 0.0763781
A85: Specific growth (1/ day) | D85: =D83/D84 -> 0.74154371 | E85: =E83/E84 -> 0.89257067 | F85: =F83/F84 -> 0.83703276 | G85: =G83/G84 -> 0.79730025 | H85: =H83/H84 -> 0.88733135 | I85: =I83/I84 -> 0.79465163 | J85: =J83/J84 -> 0.059312752 | K85: =K83/K84 -> 0.070760211 | ... O85: =O83/O84 -> 0.061036868
A86: 1/ mu (day) | D86: =1/D85 -> 1.3485382 | E86: =1/E85 -> 1.1203595 | F86: =1/F85 -> 1.1946964 | G86: =1/G85 -> 1.2542326 | H86: =1/H85 -> 1.1269747 | I86: =1/I85 -> 1.2584131 | J86: =1/J85 -> 16.859781 | K86: =1/K85 -> 14.132236 | ... O86: =1/O85 -> 16.383541
A87: initial [S] (g/ L) | D87: 0 | E87: 0 | F87: 0 | G87: 0.5 | H87: 0.5 | I87: 0.5 | J87: 2 | K87: 2 | L87: 2 | M87: 10 | N87: 10 | O87: 10
A88: 1/ [S] (L/ g) | G88: =1/G87 -> 2 | H88: =1/H87 -> 2 | I88: =1/I87 -> 2 | J88: =1/J87 -> 0.5 | K88: =1/K87 -> 0.5 | L88: =1/L87 -> 0.5 | M88: =1/M87 -> 0.1 | N88: =1/N87 -> 0.1 | O88: =1/O87 -> 0.1
A90: neg 1/ km = | C90: =-0.4334/0.8492 -> -0.51036269
A91: 1/ vmax = | C91: 0.4334
A92: km = | C92: =-1/C90 -> 1.9593909
A93: vmax = | C93: =1/C91 -> 2.3073373
D105: Culture 1 | E105: Culture 2 | F105: Culture 3 | G105: Culture 4 | H105: Culture 5 | I105: Culture 6 | J105: Culture 7 | K105: Culture 8 | L105: Culture 9 | M105: Culture 10 | N105: Culture 11 | O105: Culture 12
A106: Predicted specific growth | D106: =$C$93*D87/($C$92+D87) -> 0 | E106: =$C$93*E87/($C$92+E87) -> 0 | F106: =$C$93*F87/($C$92+F87) -> 0 | G106: =$C$93*G87/($C$92+G87) -> 0.46908716 | H106: =$C$93*H87/($C$92+H87) -> 0.46908716 | I106: =$C$93*I87/($C$92+I87) -> 0.46908716 | J106: =$C$93*J87/($C$92+J87) -> 1.1655012 | K106: =$C$93*K87/($C$92+K87) -> 1.1655012 | ... O106: =$C$93*O87/($C$92+O87) -> 1.9293101
A107: Initial biomass (g/ L) | D107: =D6 -> 0.091936783 | E107: =E6 -> 0.078370217 | F107: =F6 -> 0.076781567 | G107: =G6 -> 0.07902585 | H107: =H6 -> 0.071965183 | I107: =I6 -> 0.0780424 | J107: =J6 -> 0.074234683 | K107: =K6 -> 0.077790233 | ... O107: =O6 -> 0.0763781
A108: Estimated productivity | D108: =D106*D107 -> 0 | E108: =E106*E107 -> 0 | F108: =F106*F107 -> 0 | G108: =G106*G107 -> 0.037070011 | H108: =H106*H107 -> 0.033757943 | I108: =I106*I107 -> 0.036608687 | J108: =J106*J107 -> 0.08652061 | K108: =K106*K107 -> 0.090664608 | ... O108: =O106*O107 -> 0.14735704
A109: Estimated production | D109: =D108*5 -> 0 | E109: =E108*5 -> 0 | F109: =F108*5 -> 0 | G109: =G108*5 -> 0.18535006 | H109: =H108*5 -> 0.16878972 | I109: =I108*5 -> 0.18304344 | J109: =J108*5 -> 0.43260305 | K109: =K108*5 -> 0.45332304 | ... O109: =O108*5 -> 0.73678519
A110: Estiamted final biomass (g/ L) | D110: =D107+D109 -> 0.091936783 | E110: =E107+E109 -> 0.078370217 | F110: =F107+F109 -> 0.076781567 | G110: =G107+G109 -> 0.26437591 | H110: =H107+H109 -> 0.2407549 | I110: =I107+I109 -> 0.26108584 | J110: =J107+J109 -> 0.50683773 | K110: =K107+K109 -> 0.53111327 | ... O110: =O107+O109 -> 0.81316329
A111: Actual final biomass (g/ L) | D111: =D12 -> 0.4328125 | E111: =E12 -> 0.428125 | F111: =F12 -> 0.398125 | G111: =G12 -> 0.3940625 | H111: =H12 -> 0.39125 | I111: =I12 -> 0.388125 | J111: =J12 -> 0.09625 | K111: =K12 -> 0.1053125 | ... O111: =O12 -> 0.0996875
A113: Matlab Results
A115: For MichaelFitSubstrate | F115: Value | G115: 95% CI low | H115: 95% CI upper | M115: Value | N115: 95% CI low
A116: Equation: | B116: mu = muMax*S/(S + k + s^2/kS) | E116: k = | F116: 16.3559 | J116: v = vMax*S/(S + k + s^2/kS) | L116: km = | M116: 329.74
E117: muMax = | F117: 9.4538 | L117: vMax = | M117: 34
E118: kS = | F118: 0.4377 | L118: kS = | M118: 0.0188
M121: Value | N121: 95% CI low
J122: v = vMax*S/(S + k + s^2/kS) + A | L122: km = | M122: 1723.1
L123: vMax = | M123: 154.43 | N123: g/ L/ day
L124: kS = | M124: 0.0035
L125: A | M125: 0.013
J128: 0 | K128: =($M$123*J128)/(J128+$M$122+J128^2/$M$124)+$M$125 -> 0.013
J129: 0.5 | K129: =($M$123*J129)/(J129+$M$122+J129^2/$M$124)+$M$125 -> 0.056016028
J130: 2 | K130: =($M$123*J130)/(J130+$M$122+J130^2/$M$124)+$M$125 -> 0.12069338
J131: 10 | K131: =($M$123*J131)/(J131+$M$122+J131^2/$M$124)+$M$125 -> 0.06395938

Sheet OD
A1: Obj 2 Exp 6, Mixotrophic metabolomics and RNA
B3: OD 550
A4: 41745 | B4: Temperature(°C) | C4: 1 | D4: 2 | E4: 3 | F4: 4 | G4: 5 | H4: 6 | I4: 7 | J4: 8 | K4: 9 | L4: 10 | M4: 11 | N4: 12 | P4: 1 | Q4: 2 | R4: 3 | S4: 4 | T4: 5 | U4: 6 | V4: 7 | W4: 8 | X4: 9 | Y4: 10 | Z4: 11 | AA4: 12
A5: 0.4375 | B5: 23.3 | C5: 0.1483 | D5: 0.1328 | E5: 0.1276 | F5: 0.1305 | G5: 0.1242 | H5: 0.1292 | I5: 0.1271 | J5: 0.133 | K5: 0.1308 | L5: 0.1318 | M5: 0.137 | N5: 0.1283 | P5: 0.1984 | Q5: 0.1726 | R5: 0.1679 | S5: 0.172 | T5: 0.1561 | U5: 0.1682 | V5: 0.1688 | W5: 0.1783 | X5: 0.1727 | Y5: 0.1754 | Z5: 0.1815 | AA5: 0.1717
C6: 0.1485 | D6: 0.1296 | E6: 0.1295 | F6: 0.1339 | G6: 0.1223 | H6: 0.1315 | I6: 0.1239 | J6: 0.128 | K6: 0.1296 | L6: 0.1313 | M6: 0.1356 | N6: 0.128 | P6: 0.2022 | Q6: 0.1743 | R6: 0.1687 | S6: 0.1766 | T6: 0.1565 | U6: 0.1731 | V6: 0.1663 | W6: 0.1723 | X6: 0.1738 | Y6: 0.1762 | Z6: 0.1823 | AA6: 0.1734
C7: 0.1471 | D7: 0.1277 | E7: 0.1267 | F7: 0.1283 | G7: 0.1182 | H7: 0.1281 | I7: 0.1227 | J7: 0.1268 | K7: 0.127 | L7: 0.1268 | M7: 0.1305 | N7: 0.1259 | P7: 0.2019 | Q7: 0.1716 | R7: 0.1681 | S7: 0.1701 | T7: 0.1542 | U7: 0.168 | V7: 0.1652 | W7: 0.1713 | X7: 0.1711 | Y7: 0.1713 | Z7: 0.1768 | AA7: 0.1709
B8: Average | C8: =AVERAGE(C5:C7) -> 0.14796667 | D8: =AVERAGE(D5:D7) -> 0.13003333 | E8: =AVERAGE(E5:E7) -> 0.12793333 | F8: =AVERAGE(F5:F7) -> 0.1309 | G8: =AVERAGE(G5:G7) -> 0.12156667 | H8: =AVERAGE(H5:H7) -> 0.1296 | I8: =AVERAGE(I5:I7) -> 0.12456667 | J8: =AVERAGE(J5:J7) -> 0.12926667 | ... N8: =AVERAGE(N5:N7) -> 0.1274
A10: 41746 | B10: Temperature(°C) | C10: 1 | D10: 2 | E10: 3 | F10: 4 | G10: 5 | H10: 6 | I10: 7 | J10: 8 | K10: 9 | L10: 10 | M10: 11 | N10: 12 | P10: 1 | Q10: 2 | R10: 3 | S10: 4 | T10: 5 | U10: 6 | V10: 7 | W10: 8 | X10: 9 | Y10: 10 | Z10: 11 | AA10: 12
A11: 0.4375 | B11: 23.4
C14: 0.2345 | D14: 0.238 | E14: 0.2369 | F14: 0.2283 | G14: 0.2325 | H14: 0.2361 | I14: 0.131 | J14: 0.137 | K14: 0.1339 | L14: 0.1335 | M14: 0.1368 | N14: 0.1293 | P14: 0.2878 | Q14: 0.2908 | R14: 0.2922 | S14: 0.2811 | T14: 0.2895 | U14: 0.2924 | V14: 0.1785 | W14: 0.1875 | X14: 0.1822 | Y14: 0.1826 | Z14: 0.1851 | AA14: 0.1786
C15: 0.2401 | D15: 0.2372 | E15: 0.2416 | F15: 0.2279 | G15: 0.2368 | H15: 0.2393 | I15: 0.131 | J15: 0.132 | K15: 0.1356 | L15: 0.1315 | M15: 0.1319 | N15: 0.1321 | P15: 0.2933 | Q15: 0.2917 | R15: 0.2985 | S15: 0.2824 | T15: 0.2931 | U15: 0.2969 | V15: 0.1806 | W15: 0.1807 | X15: 0.1834 | Y15: 0.1794 | Z15: 0.1767 | AA15: 0.1785
C16: 0.2386 | D16: 0.2488 | E16: 0.2471 | F16: 0.2322 | G16: 0.2429 | H16: 0.242 | I16: 0.1318 | J16: 0.1327 | K16: 0.1346 | L16: 0.1324 | M16: 0.1326 | N16: 0.1307 | P16: 0.2935 | Q16: 0.3038 | R16: 0.3079 | S16: 0.2878 | T16: 0.3028 | U16: 0.3003 | V16: 0.1805 | W16: 0.179 | X16: 0.1828 | Y16: 0.1783 | Z16: 0.1792 | AA16: 0.1808
B17: Average | C17: =AVERAGE(C14:C16) -> 0.23773333 | D17: =AVERAGE(D14:D16) -> 0.24133333 | E17: =AVERAGE(E14:E16) -> 0.24186667 | F17: =AVERAGE(F14:F16) -> 0.22946667 | G17: =AVERAGE(G14:G16) -> 0.2374 | H17: =AVERAGE(H14:H16) -> 0.23913333 | I17: =AVERAGE(I14:I16) -> 0.13126667 | J17: =AVERAGE(J14:J16) -> 0.1339 | ... N17: =AVERAGE(N14:N16) -> 0.1307
A19: 41747 | B19: Temperature(°C) | C19: 1 | D19: 2 | E19: 3 | F19: 4 | G19: 5 | H19: 6 | I19: 7 | J19: 8 | K19: 9 | L19: 10 | M19: 11 | N19: 12 | P19: 1 | Q19: 2 | R19: 3 | S19: 4 | T19: 5 | U19: 6 | V19: 7 | W19: 8 | X19: 9 | Y19: 10 | Z19: 11 | AA19: 12
A20: 0.45833333 | B20: 23.3 | C20: 0.2872 | D20: 0.2843 | E20: 0.2959 | F20: 0.3151 | G20: 0.3362 | H20: 0.2996 | I20: 0.1438 | J20: 0.1471 | K20: 0.1357 | L20: 0.1385 | M20: 0.1421 | N20: 0.1394 | P20: 0.3312 | Q20: 0.3309 | R20: 0.3395 | S20: 0.3697 | T20: 0.3935 | U20: 0.3546 | V20: 0.1872 | W20: 0.1938 | X20: 0.1783 | Y20: 0.1795 | Z20: 0.1872 | AA20: 0.1812
C21: 0.2843 | D21: 0.279 | E21: 0.2939 | F21: 0.307 | G21: 0.3312 | H21: 0.2859 | I21: 0.1419 | J21: 0.145 | K21: 0.1328 | L21: 0.1366 | M21: 0.1397 | N21: 0.135 | P21: 0.3311 | Q21: 0.3298 | R21: 0.3444 | S21: 0.3675 | T21: 0.3908 | U21: 0.3417 | V21: 0.186 | W21: 0.1919 | X21: 0.1732 | Y21: 0.1765 | Z21: 0.1854 | AA21: 0.1786
C22: 0.3003 | D22: 0.2969 | E22: 0.3047 | F22: 0.3091 | G22: 0.3298 | H22: 0.2923 | I22: 0.1383 | J22: 0.1403 | K22: 0.1316 | L22: 0.1331 | M22: 0.1357 | N22: 0.1305 | P22: 0.3606 | Q22: 0.3522 | R22: 0.3561 | S22: 0.3664 | T22: 0.3884 | U22: 0.3473 | V22: 0.1826 | W22: 0.1888 | X22: 0.1767 | Y22: 0.1735 | Z22: 0.1812 | AA22: 0.1736
B23: Average | C23: =AVERAGE(C20:C22) -> 0.2906 | D23: =AVERAGE(D20:D22) -> 0.28673333 | E23: =AVERAGE(E20:E22) -> 0.29816667 | F23: =AVERAGE(F20:F22) -> 0.3104 | G23: =AVERAGE(G20:G22) -> 0.3324 | H23: =AVERAGE(H20:H22) -> 0.2926 | I23: =AVERAGE(I20:I22) -> 0.14133333 | J23: =AVERAGE(J20:J22) -> 0.14413333 | ... N23: =AVERAGE(N20:N22) -> 0.13496667
A25: 41748 | B25: Temperature(°C) | C25: 1 | D25: 2 | E25: 3 | F25: 4 | G25: 5 | H25: 6 | I25: 7 | J25: 8 | K25: 9 | L25: 10 | M25: 11 | N25: 12 | P25: 1 | Q25: 2 | R25: 3 | S25: 4 | T25: 5 | U25: 6 | V25: 7 | W25: 8 | X25: 9 | Y25: 10 | Z25: 11 | AA25: 12
A26: 0.4375 | B26: 23.1
C29: 0.3087 | D29: 0.3278 | E29: 0.3072 | F29: 0.3164 | G29: 0.3045 | H29: 0.3092 | I29: 0.1497 | J29: 0.1475 | K29: 0.1449 | L29: 0.1452 | M29: 0.1447 | N29: 0.1451 | P29: 0.3562 | Q29: 0.3839 | R29: 0.3561 | S29: 0.3685 | T29: 0.3542 | U29: 0.3619 | V29: 0.1966 | W29: 0.1954 | X29: 0.1902 | Y29: 0.1892 | Z29: 0.192 | AA29: 0.1892
C30: 0.3138 | D30: 0.327 | E30: 0.3134 | F30: 0.3209 | G30: 0.3058 | H30: 0.3094 | I30: 0.1457 | J30: 0.1448 | K30: 0.1401 | L30: 0.1459 | M30: 0.1446 | N30: 0.1463 | P30: 0.3641 | Q30: 0.3823 | R30: 0.3639 | S30: 0.3797 | T30: 0.3574 | U30: 0.3676 | V30: 0.1921 | W30: 0.1926 | X30: 0.1863 | Y30: 0.1931 | Z30: 0.1934 | AA30: 0.1936
C31: 0.3308 | D31: 0.3377 | E31: 0.3141 | F31: 0.3238 | G31: 0.3136 | H31: 0.3236 | I31: 0.1426 | J31: 0.1449 | K31: 0.1346 | L31: 0.1441 | M31: 0.1444 | N31: 0.1427 | P31: 0.3781 | Q31: 0.3981 | R31: 0.361 | S31: 0.3778 | T31: 0.3625 | U31: 0.3841 | V31: 0.1907 | W31: 0.1899 | X31: 0.1769 | Y31: 0.191 | Z31: 0.1926 | AA31: 0.19
B32: Average | C32: =AVERAGE(C29:C31) -> 0.31776667 | D32: =AVERAGE(D29:D31) -> 0.33083333 | E32: =AVERAGE(E29:E31) -> 0.31156667 | F32: =AVERAGE(F29:F31) -> 0.32036667 | G32: =AVERAGE(G29:G31) -> 0.30796667 | H32: =AVERAGE(H29:H31) -> 0.31406667 | I32: =AVERAGE(I29:I31) -> 0.146 | J32: =AVERAGE(J29:J31) -> 0.14573333 | ... N32: =AVERAGE(N29:N31) -> 0.1447
A34: 41749 | B34: Temperature(°C) | C34: 1 | D34: 2 | E34: 3 | F34: 4 | G34: 5 | H34: 6 | I34: 7 | J34: 8 | K34: 9 | L34: 10 | M34: 11 | N34: 12 | P34: 1 | Q34: 2 | R34: 3 | S34: 4 | T34: 5 | U34: 6 | V34: 7 | W34: 8 | X34: 9 | Y34: 10 | Z34: 11 | AA34: 12
A35: 0.4375 | B35: 23.5 | C35: 0.3399 | D35: 0.34 | E35: 0.3229 | F35: 0.3149 | G35: 0.3106 | H35: 0.2956 | I35: 0.1523 | J35: 0.1594 | K35: 0.1506 | L35: 0.1524 | M35: 0.1499 | N35: 0.1535 | P35: 0.3801 | Q35: 0.3876 | R35: 0.3493 | S35: 0.3533 | T35: 0.3465 | U35: 0.3311 | V35: 0.1977 | W35: 0.2066 | X35: 0.1906 | Y35: 0.1958 | Z35: 0.1913 | AA35: 0.1948
C36: 0.3476 | D36: 0.3436 | E36: 0.3244 | F36: 0.3272 | G36: 0.3054 | H36: 0.2996 | I36: 0.1507 | J36: 0.1579 | K36: 0.1501 | L36: 0.1526 | M36: 0.1499 | N36: 0.1507 | P36: 0.3914 | Q36: 0.3908 | R36: 0.3655 | S36: 0.3706 | T36: 0.3472 | U36: 0.3422 | V36: 0.1943 | W36: 0.2037 | X36: 0.1938 | Y36: 0.1953 | Z36: 0.1947 | AA36: 0.1941
C37: 0.3533 | D37: 0.3482 | E37: 0.3374 | F37: 0.3222 | G37: 0.3026 | H37: 0.2909 | I37: 0.1478 | J37: 0.1547 | K37: 0.1485 | L37: 0.1448 | M37: 0.1457 | N37: 0.15 | P37: 0.4031 | Q37: 0.3998 | R37: 0.3775 | S37: 0.3659 | T37: 0.3413 | U37: 0.3329 | V37: 0.1934 | W37: 0.2035 | X37: 0.1925 | Y37: 0.1906 | Z37: 0.1914 | AA37: 0.1966
B38: Average | C38: =AVERAGE(C35:C37) -> 0.34693333 | D38: =AVERAGE(D35:D37) -> 0.34393333 | E38: =AVERAGE(E35:E37) -> 0.32823333 | F38: =AVERAGE(F35:F37) -> 0.32143333 | G38: =AVERAGE(G35:G37) -> 0.3062 | H38: =AVERAGE(H35:H37) -> 0.29536667 | I38: =AVERAGE(I35:I37) -> 0.15026667 | J38: =AVERAGE(J35:J37) -> 0.15733333 | ... N38: =AVERAGE(N35:N37) -> 0.1514
A40: 41750 | B40: Temperature(°C) | C40: 1 | D40: 2 | E40: 3 | F40: 4 | G40: 5 | H40: 6 | I40: 7 | J40: 8 | K40: 9 | L40: 10 | M40: 11 | N40: 12 | P40: 1 | Q40: 2 | R40: 3 | S40: 4 | T40: 5 | U40: 6 | V40: 7 | W40: 8 | X40: 9 | Y40: 10 | Z40: 11 | AA40: 12
A41: 0.41666667 | B41: 23.2 | C41: 0.318 | D41: 0.3301 | E41: 0.3112 | F41: 0.3109 | G41: 0.2981 | H41: 0.3111 | I41: 0.1594 | J41: 0.1614 | K41: 0.1632 | L41: 0.1557 | M41: 0.1623 | N41: 0.1589 | P41: 0.3542 | Q41: 0.3742 | R41: 0.3393 | S41: 0.3453 | T41: 0.3273 | U41: 0.3391 | V41: 0.2021 | W41: 0.2089 | X41: 0.2088 | Y41: 0.2002 | Z41: 0.2084 | AA41: 0.2037
C42: 0.3172 | D42: 0.33 | E42: 0.3091 | F42: 0.3101 | G42: 0.2963 | H42: 0.2807 | I42: 0.1574 | J42: 0.1594 | K42: 0.1601 | L42: 0.1553 | M42: 0.1583 | N42: 0.1563 | P42: 0.3592 | Q42: 0.3745 | R42: 0.3425 | S42: 0.3424 | T42: 0.3303 | U42: 0.3161 | V42: 0.2027 | W42: 0.2073 | X42: 0.2047 | Y42: 0.1998 | Z42: 0.2043 | AA42: 0.2022
C43: 0.3145 | D43: 0.3349 | E43: 0.3098 | F43: 0.3114 | G43: 0.2867 | H43: 0.2763 | I43: 0.1561 | J43: 0.1568 | K43: 0.1587 | L43: 0.1535 | M43: 0.1542 | N43: 0.1534 | P43: 0.3531 | Q43: 0.3811 | R43: 0.3429 | S43: 0.3457 | T43: 0.3225 | U43: 0.3111 | V43: 0.2038 | W43: 0.2059 | X43: 0.2043 | Y43: 0.1994 | Z43: 0.2033 | AA43: 0.199
B44: Average | C44: =AVERAGE(C41:C43) -> 0.31656667 | D44: =AVERAGE(D41:D43) -> 0.33166667 | E44: =AVERAGE(E41:E43) -> 0.31003333 | F44: =AVERAGE(F41:F43) -> 0.3108 | G44: =AVERAGE(G41:G43) -> 0.2937 | H44: =AVERAGE(H41:H43) -> 0.28936667 | I44: =AVERAGE(I41:I43) -> 0.15763333 | J44: =AVERAGE(J41:J43) -> 0.1592 | ... N44: =AVERAGE(N41:N43) -> 0.1562
B46: Temperature(°C) | C46: 1 | D46: 2 | E46: 3 | F46: 4 | G46: 5 | H46: 6 | I46: 7 | J46: 8 | K46: 9 | L46: 10 | M46: 11 | N46: 12 | P46: 1 | Q46: 2 | R46: 3 | S46: 4 | T46: 5 | U46: 6 | V46: 7 | W46: 8 | X46: 9 | Y46: 10 | Z46: 11 | AA46: 12
B47: 23.7
B49: 1 | C49: 0.32 | D49: 0.3462 | E49: 0.3179 | F49: 0.31 | G49: 0.2939 | H49: 0.2881 | I49: 0.1581 | J49: 0.161 | K49: 0.1655 | L49: 0.1602 | M49: 0.1607 | N49: 0.1608 | P49: 0.3567 | Q49: 0.3871 | R49: 0.3518 | S49: 0.3469 | T49: 0.3276 | U49: 0.3215 | V49: 0.2021 | W49: 0.2054 | X49: 0.2084 | Y49: 0.2027 | Z49: 0.2055 | AA49: 0.2051
B50: =B49*2 -> 2 | C50: 0.1302 | D50: 0.1438 | E50: 0.1407 | F50: 0.1325 | G50: 0.1307 | H50: 0.1232 | I50: 0.085 | J50: 0.0863 | K50: 0.0893 | L50: 0.0865 | M50: 0.0879 | N50: 0.0889 | P50: 0.1446 | Q50: 0.163 | R50: 0.153 | S50: 0.1459 | T50: 0.1405 | U50: 0.1367 | V50: 0.106 | W50: 0.1074 | X50: 0.1109 | Y50: 0.1077 | Z50: 0.1099 | AA50: 0.1092
B51: =B50*2 -> 4 | C51: 0.0775 | D51: 0.0808 | E51: 0.0778 | F51: 0.0764 | G51: 0.0762 | H51: 0.0726 | I51: 0.054 | J51: 0.0552 | K51: 0.057 | L51: 0.0559 | M51: 0.0565 | N51: 0.056 | P51: 0.0837 | Q51: 0.0883 | R51: 0.0834 | S51: 0.0833 | T51: 0.0836 | U51: 0.0781 | V51: 0.063 | W51: 0.0644 | X51: 0.066 | Y51: 0.0659 | Z51: 0.0657 | AA51: 0.0655
B52: =B51*2 -> 8 | C52: 0.0528 | D52: 0.054 | E52: 0.0525 | F52: 0.0531 | G52: 0.0529 | H52: 0.0498 | I52: 0.0409 | J52: 0.0412 | K52: 0.0424 | L52: 0.0424 | M52: 0.043 | N52: 0.043 | P52: 0.0555 | Q52: 0.0562 | R52: 0.0556 | S52: 0.0556 | T52: 0.0552 | U52: 0.0523 | V52: 0.0448 | W52: 0.0456 | X52: 0.0459 | Y52: 0.0472 | Z52: 0.0475 | AA52: 0.0457
B53: =B52*2 -> 16 | C53: 0.0426 | D53: 0.0414 | E53: 0.0413 | F53: 0.0407 | G53: 0.0411 | H53: 0.0409 | I53: 0.0376 | J53: 0.0371 | K53: 0.0366 | L53: 0.0363 | M53: 0.0378 | N53: 0.0361 | P53: 0.043 | Q53: 0.0428 | R53: 0.0419 | S53: 0.0414 | T53: 0.0417 | U53: 0.0417 | V53: 0.0394 | W53: 0.0404 | X53: 0.0384 | Y53: 0.0376 | Z53: 0.0395 | AA53: 0.0381
B54: =B53*2 -> 32 | C54: 0.0381 | D54: 0.0386 | E54: 0.038 | F54: 0.039 | G54: 0.0379 | H54: 0.0379 | I54: 0.0352 | J54: 0.0381 | K54: 0.0358 | L54: 0.0359 | M54: 0.0362 | N54: 0.0363 | P54: 0.038 | Q54: 0.0391 | R54: 0.038 | S54: 0.0385 | T54: 0.0376 | U54: 0.0383 | V54: 0.0354 | W54: 0.0383 | X54: 0.0359 | Y54: 0.0354 | Z54: 0.0352 | AA54: 0.0355

Sheet Thiamine Samples
A2: Day 3 Thiamine samples - 10 ml harvested from each culture
A4: Concentrated and transferred pellet to 2 ml screw cap tubes, stored at -80, freeze dried
A6: Culture # | B6: Empty tube | C6: w/ dry pellet | D6: Pellet (mg)
A7: 1 | B7: 1.22614 | C7: 1.23029 | D7: =(C7-B7)*1000 -> 4.15
A8: 2 | B8: 1.21609 | C8: 1.22023 | D8: =(C8-B8)*1000 -> 4.14
A9: 3 | B9: 1.21467 | C9: 1.21935 | D9: =(C9-B9)*1000 -> 4.68
A10: 4 | B10: 1.22428 | C10: 1.22877 | D10: =(C10-B10)*1000 -> 4.49
A11: 5 | B11: 1.21675 | C11: 1.22161 | D11: =(C11-B11)*1000 -> 4.86
A12: 6 | B12: 1.22429 | C12: 1.22891 | D12: =(C12-B12)*1000 -> 4.62
A13: 7 | B13: 1.22719 | C13: 1.22848 | D13: =(C13-B13)*1000 -> 1.29
A14: 8 | B14: 1.21949 | C14: 1.22074 | D14: =(C14-B14)*1000 -> 1.25
A15: 9 | B15: 1.22696 | C15: 1.22819 | D15: =(C15-B15)*1000 -> 1.23
A16: 10 | B16: 1.22262 | C16: 1.22379 | D16: =(C16-B16)*1000 -> 1.17
A17: 11 | B17: 1.21647 | C17: 1.21768 | D17: =(C17-B17)*1000 -> 1.21
A18: 12 | B18: 1.22714 | C18: 1.22828 | D18: =(C18-B18)*1000 -> 1.14
A20: Day 6 Thiamine samples - final harvest, of which, weighed out ?? Mg of dry mass into 2 ml screw-cap tubes
B22: Cold MeOH extraction method | F22: TCA extraction method
A23: Culture # | B23: Empty tube | C23: w/ dry pellet | D23: Pellet (mg) | F23: Empty tube | G23: w/ dry pellet | H23: Pellet (mg)
A24: 1 | B24: 1.18731 | C24: 1.19242 | D24: =(C24-B24)*1000 -> 5.11 | F24: 1.18753 | G24: 1.19243 | H24: =(G24-F24)*1000 -> 4.9
A25: 2 | B25: 1.18804 | C25: 1.19309 | D25: =(C25-B25)*1000 -> 5.05 | F25: 1.18587 | G25: 1.1909 | H25: =(G25-F25)*1000 -> 5.03
A26: 3 | B26: 1.17756 | C26: 1.18258 | D26: =(C26-B26)*1000 -> 5.02 | F26: 1.18338 | G26: 1.18836 | H26: =(G26-F26)*1000 -> 4.98
A27: 7 | B27: 1.18391 | C27: 1.18844 | D27: =(C27-B27)*1000 -> 4.53 | F27: 1.17636 | G27: 1.1812 | H27: =(G27-F27)*1000 -> 4.84
A28: 8 | B28: 1.17733 | C28: 1.18219 | D28: =(C28-B28)*1000 -> 4.86 | F28: 1.18841 | G28: 1.19341 | H28: =(G28-F28)*1000 -> 5
A29: 9 | B29: 1.17599 | C29: 1.18084 | D29: =(C29-B29)*1000 -> 4.85 | F29: 1.18907 | G29: 1.19398 | H29: =(G29-F29)*1000 -> 4.91

Sheet pH
A1: This culture is pH adjusted | D1: 10 g/ L Glc | J1: 0 g/L Glc
A2: Date | B2: Time | C2: Hour | D2: Culture 1 | E2: Culture 2 | F2: Culture 3 | G2: Culture 4 | H2: Culture 5 | I2: Culture 6 | J2: Culture 7 | K2: Culture 8 | L2: Culture 9 | M2: Culture 10 | N2: Culture 11 | O2: Culture 12
A3: 41745 | B3: 0.45833333 | C3: 0 | D3: 7 | E3: 7 | F3: 7 | G3: 7 | H3: 7 | I3: 7 | J3: 7 | K3: 7 | L3: 7 | M3: 7 | N3: 7 | O3: 7
A4: 41746 | B4: 0.41666667 | C4: =C3+B4-B3+24 -> 23.958333 | D4: 7 | E4: 7 | F4: 7 | G4: 7 | H4: 7 | I4: 7 | J4: 7 | K4: 7 | L4: 7 | M4: 7 | N4: 7 | O4: 7 | P4: Adjusted pH to 7 in all cultures, 3 drops 3M NaOH to pH 6.5
A5: =A4 -> 41746 | B5: 0.4375 | C5: =C4+B5-B4 -> 23.979167 | D5: 7 | E5: 7 | F5: 7 | G5: 7 | H5: 7 | I5: 7 | J5: 7 | K5: 7 | L5: 7 | M5: 7 | N5: 7 | O5: 7
A6: 41747 | B6: ='Summary OD'!B7 -> 0.45833333 | C6: =C4+B6-B4+24 -> 48 | D6: 5 | E6: 5 | F6: 5 | G6: 5 | H6: 5 | I6: 5 | J6: 7 | K6: 7 | L6: 7 | M6: 7 | N6: 7 | O6: 7 | P6: Adjusted pH to 7 in all cultures, added 8 drops to pH 5
A7: =A6 -> 41747 | B7: 0.47916667 | C7: =C6+B7-B6 -> 48.020833 | D7: 7 | E7: 7 | F7: 7 | G7: 7 | H7: 7 | I7: 7 | J7: 7 | K7: 7 | L7: 7 | M7: 7 | N7: 7 | O7: 7
A8: 41748 | B8: ='Summary OD'!B8 -> 0.4375 | C8: =C6+B8-B6+24 -> 71.979167 | D8: 6 | E8: 6 | F8: 6 | G8: 6 | H8: 6 | I8: 6 | J8: 7 | K8: 7 | L8: 7 | M8: 7 | N8: 7 | O8: 7 | P8: Adjusted pH to 7, added 5 drops to pH 6
A9: =A8 -> 41748 | B9: 0.64583333 | C9: =C7+B9-B7+24 -> 72.1875 | D9: 7 | E9: 7 | F9: 7 | G9: 7 | H9: 7 | I9: 7 | J9: 7 | K9: 7 | L9: 7 | M9: 7 | N9: 7 | O9: 7
A10: 41665 | B10: ='Summary OD'!B9 -> 0.4375 | C10: =C8+B10-B8+24 -> 95.979167 | D10: 6.5 | E10: 6.5 | F10: 6.5 | G10: 6.5 | H10: 6.5 | I10: 6.5 | J10: 7 | K10: 7 | L10: 7 | M10: 7 | N10: 7 | O10: 7 | P10: Adjusted pH to 7, add 3 drops to pH 6.5
A11: =A10 -> 41665 | B11: 0.66666667 | C11: =C9+B11-B9+24 -> 96.208333 | D11: 7 | E11: 7 | F11: 7 | G11: 7 | H11: 7 | I11: 7 | J11: 7 | K11: 7 | L11: 7 | M11: 7 | N11: 7 | O11: 7
A12: 41666 | B12: 0.66666667 | C12: =C10+B12-B10+24 -> 120.20833 | D12: 6.5 | E12: 6.5 | F12: 6.5 | G12: 6.5 | H12: 6.5 | I12: 6.5 | J12: 7 | K12: 7 | L12: 7 | M12: 7 | N12: 7 | O12: 7

Sheet Metabolomics Coding
A1: Objective 2 Experiment 6
A3: Mixotrophic Metabolomics Analysis
A4: Axenic Chlorella minutissima (UTEX 2341) was grown under mixotrophic and autotrophic conditions to compare metabolome
A5: Cultures #1-6 were supplied with 10 g/L glucose, cultures #7-12 were not supplied with glucose (autotrophic)
A6: Cultures were grown with 125 ml/min air, 10,000 lux illumination
A8: Objective: Observe relative changes in central metabolite pool sizes between two treatments
A10: Code (top label) | B10: Code (side label) | C10: Glucose conc (g/L) | D10: Sample day | E10: Culture # | F10: Algae conc (g/L)
A11: BH1 | B11: D1 #1 Obj 2 Exp 6, MixMetab BH | C11: 10 g/L | D11: 1 | E11: 1 | F11: 0.091936783
A12: BH2 | B12: D1 #2 Obj 2 Exp 6, MixMetab BH | C12: 10 g/L | D12: 1 | E12: 2 | F12: 0.078370217
A13: BH3 | B13: D1 #3 Obj 2 Exp 6, MixMetab BH | C13: 10 g/L | D13: 1 | E13: 3 | F13: 0.076781567
A14: BH4 | B14: D1 #4 Obj 2 Exp 6, MixMetab BH | C14: 10 g/L | D14: 1 | E14: 4 | F14: 0.07902585
A15: BH5 | B15: D1 #5 Obj 2 Exp 6, MixMetab BH | C15: 10 g/L | D15: 1 | E15: 5 | F15: 0.071965183 | G15: Sample lost
A16: BH6 | B16: D1 #6 Obj 2 Exp 6, MixMetab BH | C16: 10 g/L | D16: 1 | E16: 6 | F16: 0.0780424
A17: BH7 | B17: D1 #7 Obj 2 Exp 6, MixMetab BH | C17: 0 g/L | D17: 1 | E17: 7 | F17: 0.074234683
A18: BH8 | B18: D1 #8 Obj 2 Exp 6, MixMetab BH | C18: 0 g/L | D18: 1 | E18: 8 | F18: 0.077790233
A19: BH9 | B19: D1 #9 Obj 2 Exp 6, MixMetab BH | C19: 0 g/L | D19: 1 | E19: 9 | F19: 0.077689367
A20: BH10 | B20: D1 #10 Obj 2 Exp 6, MixMetab BH | C20: 0 g/L | D20: 1 | E20: 10 | F20: 0.078319783
A21: BH11 | B21: D1 #11 Obj 2 Exp 6, MixMetab BH | C21: 0 g/L | D21: 1 | E21: 11 | F21: 0.081648383
A22: BH12 | B22: D1 #12 Obj 2 Exp 6, MixMetab BH | C22: 0 g/L | D22: 1 | E22: 12 | F22: 0.0763781
A23: BH13 | B23: D2 #1 Obj 2 Exp 6, MixMetab BH | C23: 10 g/L | D23: 2 | E23: 1 | F23: 0.31108368
A24: BH14 | B24: D2 #2 Obj 2 Exp 6, MixMetab BH | C24: 10 g/L | D24: 2 | E24: 2 | F24: 0.3160776
A25: BH15 | B25: D2 #3 Obj 2 Exp 6, MixMetab BH | C25: 10 g/L | D25: 2 | E25: 3 | F25: 0.31681744
A26: BH16 | B26: D2 #4 Obj 2 Exp 6, MixMetab BH | C26: 10 g/L | D26: 2 | E26: 4 | F26: 0.29961616
A27: BH17 | B27: D2 #5 Obj 2 Exp 6, MixMetab BH | C27: 10 g/L | D27: 2 | E27: 5 | F27: 0.31062128
... A82: BH72 | B82: D6 #12 Obj 2 Exp 6, MixMetab BH | C82: 0 g/L | D82: 6 | E82: 12 | F82: 0.0981653

Sheet HPLC Summary
A2: Glucose | O2: Averages Based on Treatment | T2: 95% CI | Z2: Net Change over 5 days | AE2: Consumption/ Production | AR2: SD | AV2: SE | AZ2: 95% CI
A3: Day | B3: Culture 1 | C3: Culture 2 | D3: Culture 3 | E3: Culture 4 | F3: Culture 5 | G3: Culture 6 | H3: Culture 7 | I3: Culture 8 | J3: Culture 9 | K3: Culture 10 | L3: Culture 11 | M3: Culture 12 | O3: Control | P3: Thi | Q3: Pant | R3: Thi+Pant | T3: Control | U3: Thi | V3: Pant | W3: Thi+Pant | Z3: Control | AA3: Thi | AB3: Pant | AC3: Thi+Pant | AE3: =B3 -> Culture 1 | AF3: =C3 -> Culture 2 | AG3: =D3 -> Culture 3 | AH3: =E3 -> Culture 4 | AI3: =F3 -> Culture 5 | AJ3: =G3 -> Culture 6 | AK3: =H3 -> Culture 7 | AL3: =I3 -> Culture 8 | ... AP3: =M3 -> Culture 12 | AR3: =Z3 -> Control | AS3: =AA3 -> Thi | AT3: =AB3 -> Pant | AU3: =AC3 -> Thi+Pant | AV3: =AR3 -> Control | AW3: =AS3 -> Thi | AX3: =AT3 -> Pant | AY3: =AU3 -> Thi+Pant | AZ3: =AV3 -> Control | BA3: =AW3 -> Thi | BB3: =AX3 -> Pant | BC3: =AY3 -> Thi+Pant
A4: 0 | B4: =#REF! -> #REF! | C4: =#REF! -> #REF! | D4: =#REF! -> #REF! | E4: =#REF! -> #REF! | F4: =#REF! -> #REF! | G4: =#REF! -> #REF! | H4: =#REF! -> #REF! | I4: =#REF! -> #REF! | ... M4: =#REF! -> #REF! | O4: =AVERAGE(B4:D4) -> #REF! | P4: =AVERAGE(E4:G4) -> #REF! | Q4: =AVERAGE(H4:J4) -> #REF! | R4: =AVERAGE(K4:M4) -> #REF! | T4: =STDEV(B4:D4)/SQRT(3)*4.303 -> #REF! | U4: =STDEV(E4:G4)/SQRT(3)*4.303 -> #REF! | V4: =STDEV(H4:J4)/SQRT(3)*4.303 -> #REF! | W4: =STDEV(K4:M4)/SQRT(3)*4.303 -> #REF! | Y4: Glucose consumed | Z4: =O4-O9 -> #REF! | AA4: =P4-P9 -> #REF! | AB4: =Q4-Q9 -> #REF! | AC4: =R4-R9 -> #REF! | AD4: Lactate | AE4: =B4-B9 -> #REF! | AF4: =C4-C9 -> #REF! | AG4: =D4-D9 -> #REF! | AH4: =E4-E9 -> #REF! | AI4: =F4-F9 -> #REF! | AJ4: =G4-G9 -> #REF! | AK4: =H4-H9 -> #REF! | AL4: =I4-I9 -> #REF! | ... AP4: =M4-M9 -> #REF! | AR4: =STDEV(AE4:AG4) -> #REF! | AS4: =STDEV(AH4:AJ4) -> #REF! | AT4: =STDEV(AK4:AM4) -> #REF! | AU4: =STDEV(AN4:AP4) -> #REF! | AV4: =AR4/SQRT(3) -> #REF! | AW4: =AS4/SQRT(3) -> #REF! | AX4: =AT4/SQRT(3) -> #REF! | AY4: =AU4/SQRT(3) -> #REF! | AZ4: =AV4*4.303 -> #REF! | BA4: =AW4*4.303 -> #REF! | BB4: =AX4*4.303 -> #REF! | BC4: =AY4*4.303 -> #REF!
A5: 1 | B5: =#REF! -> #REF! | C5: =#REF! -> #REF! | D5: =#REF! -> #REF! | E5: =#REF! -> #REF! | F5: =#REF! -> #REF! | G5: =#REF! -> #REF! | H5: =#REF! -> #REF! | I5: =#REF! -> #REF! | ... M5: =#REF! -> #REF! | O5: =AVERAGE(B5:D5) -> #REF! | P5: =AVERAGE(E5:G5) -> #REF! | Q5: =AVERAGE(H5:J5) -> #REF! | R5: =AVERAGE(K5:M5) -> #REF! | T5: =STDEV(B5:D5)/SQRT(3)*4.303 -> #REF! | U5: =STDEV(E5:G5)/SQRT(3)*4.303 -> #REF! | V5: =STDEV(H5:J5)/SQRT(3)*4.303 -> #REF! | W5: =STDEV(K5:M5)/SQRT(3)*4.303 -> #REF! | Y5: Pyruvate secreted | Z5: =O18-O13 -> #REF! | AA5: =P18-P13 -> #REF! | AB5: =Q18-Q13 -> #REF! | AC5: =R18-R13 -> #REF! | AD5: Formate | AE5: =B18-B13 -> #REF! | AF5: =C18-C13 -> #REF! | AG5: =D18-D13 -> #REF! | AH5: =E18-E13 -> #REF! | AI5: =F18-F13 -> #REF! | AJ5: =G18-G13 -> #REF! | AK5: =H18-H13 -> #REF! | AL5: =I18-I13 -> #REF! | ... AP5: =M18-M13 -> #REF! | AR5: =STDEV(AE5:AG5) -> #REF! | AS5: =STDEV(AH5:AJ5) -> #REF! | AT5: =STDEV(AK5:AM5) -> #REF! | AU5: =STDEV(AN5:AP5) -> #REF! | AV5: =AR5/SQRT(3) -> #REF! | AW5: =AS5/SQRT(3) -> #REF! | AX5: =AT5/SQRT(3) -> #REF! | AY5: =AU5/SQRT(3) -> #REF! | AZ5: =AV5*4.303 -> #REF! | BA5: =AW5*4.303 -> #REF! | BB5: =AX5*4.303 -> #REF! | BC5: =AY5*4.303 -> #REF!
A6: 2 | B6: =#REF! -> #REF! | C6: =#REF! -> #REF! | D6: =#REF! -> #REF! | E6: =#REF! -> #REF! | F6: =#REF! -> #REF! | G6: =#REF! -> #REF! | H6: =#REF! -> #REF! | I6: =#REF! -> #REF! | ... M6: =#REF! -> #REF! | O6: =AVERAGE(B6,D6) -> #REF! | P6: =AVERAGE(E6:G6) -> #REF! | Q6: =AVERAGE(H6:J6) -> #REF! | R6: =AVERAGE(K6:M6) -> #REF! | T6: =STDEV(B6,D6)/SQRT(2)*12.71 -> #REF! | U6: =STDEV(E6:G6)/SQRT(3)*4.303 -> #REF! | V6: =STDEV(H6:J6)/SQRT(3)*4.303 -> #REF! | W6: =STDEV(K6:M6)/SQRT(3)*4.303 -> #REF! | Y6: Succinate | Z6: =O27-O22 -> #REF! | AA6: =P27-P22 -> #REF! | AB6: =Q27-Q22 -> #REF! | AC6: =R27-R22 -> #REF! | AD6: Acetate | AE6: =B27-B22 -> #REF! | AF6: =C27-C22 -> #REF! | AG6: =D27-D22 -> #REF! | AH6: =E27-E22 -> #REF! | AI6: =F27-F22 -> #REF! | AJ6: =G27-G22 -> #REF! | AK6: =H27-H22 -> #REF! | AL6: =I27-I22 -> #REF! | ... AP6: =M27-M22 -> #REF! | AR6: =STDEV(AE6:AG6) -> #REF! | AS6: =STDEV(AH6:AJ6) -> #REF! | AT6: =STDEV(AK6:AM6) -> #REF! | AU6: =STDEV(AN6:AP6) -> #REF! | AV6: =AR6/SQRT(3) -> #REF! | AW6: =AS6/SQRT(3) -> #REF! | AX6: =AT6/SQRT(3) -> #REF! | AY6: =AU6/SQRT(3) -> #REF! | AZ6: =AV6*4.303 -> #REF! | BA6: =AW6*4.303 -> #REF! | BB6: =AX6*4.303 -> #REF! | BC6: =AY6*4.303 -> #REF!
A7: 3 | B7: =#REF! -> #REF! | C7: =#REF! -> #REF! | D7: =#REF! -> #REF! | E7: =#REF! -> #REF! | F7: =#REF! -> #REF! | G7: =#REF! -> #REF! | H7: =#REF! -> #REF! | I7: =#REF! -> #REF! | ... M7: =#REF! -> #REF! | O7: =AVERAGE(B7:D7) -> #REF! | P7: =AVERAGE(E7:G7) -> #REF! | Q7: =AVERAGE(H7:J7) -> #REF! | R7: =AVERAGE(K7:M7) -> #REF! | T7: =STDEV(B7:D7)/SQRT(3)*4.303 -> #REF! | U7: =STDEV(E7:G7)/SQRT(3)*4.303 -> #REF! | V7: =STDEV(H7:J7)/SQRT(3)*4.303 -> #REF! | W7: =STDEV(K7:M7)/SQRT(3)*4.303 -> #REF! | Y7: Fumarate | Z7: =O36-O31 -> #REF! | AA7: =P36-P31 -> #REF! | AB7: =Q36-Q31 -> #REF! | AC7: =R36-R31 -> #REF! | AE7: =B36-B31 -> #REF! | AF7: =C36-C31 -> #REF! | AG7: =D36-D31 -> #REF! | AH7: =E36-E31 -> #REF! | AI7: =F36-F31 -> #REF! | AJ7: =G36-G31 -> #REF! | AK7: =H36-H31 -> #REF! | AL7: =I36-I31 -> #REF! | ... AP7: =M36-M31 -> #REF! | AR7: =STDEV(AE7:AG7) -> #REF! | AS7: =STDEV(AH7:AJ7) -> #REF! | AT7: =STDEV(AK7:AM7) -> #REF! | AU7: =STDEV(AN7:AP7) -> #REF! | AV7: =AR7/SQRT(3) -> #REF! | AW7: =AS7/SQRT(3) -> #REF! | AX7: =AT7/SQRT(3) -> #REF! | AY7: =AU7/SQRT(3) -> #REF! | AZ7: =AV7*4.303 -> #REF! | BA7: =AW7*4.303 -> #REF! | BB7: =AX7*4.303 -> #REF! | BC7: =AY7*4.303 -> #REF!
A8: 4 | B8: =#REF! -> #REF! | C8: =#REF! -> #REF! | D8: =#REF! -> #REF! | E8: =#REF! -> #REF! | F8: =#REF! -> #REF! | G8: =#REF! -> #REF! | H8: =#REF! -> #REF! | I8: =#REF! -> #REF! | ... M8: =#REF! -> #REF! | O8: =AVERAGE(B8:D8) -> #REF! | P8: =AVERAGE(E8:G8) -> #REF! | Q8: =AVERAGE(H8:J8) -> #REF! | R8: =AVERAGE(K8:M8) -> #REF! | T8: =STDEV(B8:D8)/SQRT(3)*4.303 -> #REF! | U8: =STDEV(E8:G8)/SQRT(3)*4.303 -> #REF! | V8: =STDEV(H8:J8)/SQRT(3)*4.303 -> #REF! | W8: =STDEV(K8:M8)/SQRT(3)*4.303 -> #REF!
A9: 5 | B9: =#REF! -> #REF! | C9: =#REF! -> #REF! | D9: =#REF! -> #REF! | E9: =#REF! -> #REF! | F9: =#REF! -> #REF! | G9: =#REF! -> #REF! | H9: =#REF! -> #REF! | I9: =#REF! -> #REF! | ... M9: =#REF! -> #REF! | O9: =AVERAGE(B9:D9) -> #REF! | P9: =AVERAGE(E9:G9) -> #REF! | Q9: =AVERAGE(H9:J9) -> #REF! | R9: =AVERAGE(K9:M9) -> #REF! | T9: =STDEV(B9:D9)/SQRT(3)*4.303 -> #REF! | U9: =STDEV(E9:G9)/SQRT(3)*4.303 -> #REF! | V9: =STDEV(H9:J9)/SQRT(3)*4.303 -> #REF! | W9: =STDEV(K9:M9)/SQRT(3)*4.303 -> #REF!
A11: Pyruvate | O11: Averages Based on Treatment
A12: Day | B12: Culture 1 | C12: Culture 2 | D12: Culture 3 | E12: Culture 4 | F12: Culture 5 | G12: Culture 6 | H12: Culture 7 | I12: Culture 8 | J12: Culture 9 | K12: Culture 10 | L12: Culture 11 | M12: Culture 12 | O12: Control | P12: Thi | Q12: Pant | R12: Thi+Pant | T12: Control | U12: Thi | V12: Pant | W12: Thi+Pant
A13: 0 | B13: =#REF! -> #REF! | C13: =#REF! -> #REF! | D13: =#REF! -> #REF! | E13: =#REF! -> #REF! | F13: =#REF! -> #REF! | G13: =#REF! -> #REF! | H13: =#REF! -> #REF! | I13: =#REF! -> #REF! | ... M13: =#REF! -> #REF! | O13: =AVERAGE(B13:D13) -> #REF! | P13: =AVERAGE(E13:G13) -> #REF! | Q13: =AVERAGE(H13:J13) -> #REF! | R13: =AVERAGE(K13:M13) -> #REF! | T13: =STDEV(B13:D13)/SQRT(3)*4.303 -> #REF! | U13: =STDEV(E13:G13)/SQRT(3)*4.303 -> #REF! | V13: =STDEV(H13:J13)/SQRT(3)*4.303 -> #REF! | W13: =STDEV(K13:M13)/SQRT(3)*4.303 -> #REF!
A14: 1 | B14: =#REF! -> #REF! | C14: =#REF! -> #REF! | D14: =#REF! -> #REF! | E14: =#REF! -> #REF! | F14: =#REF! -> #REF! | G14: =#REF! -> #REF! | H14: =#REF! -> #REF! | I14: =#REF! -> #REF! | ... M14: =#REF! -> #REF! | O14: =AVERAGE(B14:D14) -> #REF! | P14: =AVERAGE(E14:G14) -> #REF! | Q14: =AVERAGE(H14:J14) -> #REF! | R14: =AVERAGE(K14:M14) -> #REF! | T14: =STDEV(B14:D14)/SQRT(3)*4.303 -> #REF! | U14: =STDEV(E14:G14)/SQRT(3)*4.303 -> #REF! | V14: =STDEV(H14:J14)/SQRT(3)*4.303 -> #REF! | W14: =STDEV(K14:M14)/SQRT(3)*4.303 -> #REF!
A15: 2 | B15: =#REF! -> #REF! | C15: =#REF! -> #REF! | D15: =#REF! -> #REF! | E15: =#REF! -> #REF! | F15: =#REF! -> #REF! | G15: =#REF! -> #REF! | H15: =#REF! -> #REF! | I15: =#REF! -> #REF! | ... M15: =#REF! -> #REF! | O15: =AVERAGE(B15:D15) -> #REF! | P15: =AVERAGE(E15:G15) -> #REF! | Q15: =AVERAGE(H15:J15) -> #REF! | R15: =AVERAGE(K15:M15) -> #REF! | T15: =STDEV(B15:D15)/SQRT(3)*4.303 -> #REF! | U15: =STDEV(E15:G15)/SQRT(3)*4.303 -> #REF! | V15: =STDEV(H15:J15)/SQRT(3)*4.303 -> #REF! | W15: =STDEV(K15:M15)/SQRT(3)*4.303 -> #REF!
A16: 3 | B16: =#REF! -> #REF! | C16: =#REF! -> #REF! | D16: =#REF! -> #REF! | E16: =#REF! -> #REF! | F16: =#REF! -> #REF! | G16: =#REF! -> #REF! | H16: =#REF! -> #REF! | I16: =#REF! -> #REF! | ... M16: =#REF! -> #REF! | O16: =AVERAGE(B16:D16) -> #REF! | P16: =AVERAGE(E16:G16) -> #REF! | Q16: =AVERAGE(H16:J16) -> #REF! | R16: =AVERAGE(K16:M16) -> #REF! | T16: =STDEV(B16:D16)/SQRT(3)*4.303 -> #REF! | U16: =STDEV(E16:G16)/SQRT(3)*4.303 -> #REF! | V16: =STDEV(H16:J16)/SQRT(3)*4.303 -> #REF! | W16: =STDEV(K16:M16)/SQRT(3)*4.303 -> #REF!
A17: 4 | B17: =#REF! -> #REF! | C17: =#REF! -> #REF! | D17: =#REF! -> #REF! | E17: =#REF! -> #REF! | F17: =#REF! -> #REF! | G17: =#REF! -> #REF! | H17: =#REF! -> #REF! | I17: =#REF! -> #REF! | ... M17: =#REF! -> #REF! | O17: =AVERAGE(B17:D17) -> #REF! | P17: =AVERAGE(E17:G17) -> #REF! | Q17: =AVERAGE(H17:J17) -> #REF! | R17: =AVERAGE(K17:M17) -> #REF! | T17: =STDEV(B17:D17)/SQRT(3)*4.303 -> #REF! | U17: =STDEV(E17:G17)/SQRT(3)*4.303 -> #REF! | V17: =STDEV(H17:J17)/SQRT(3)*4.303 -> #REF! | W17: =STDEV(K17:M17)/SQRT(3)*4.303 -> #REF!
A18: 5 | B18: =#REF! -> #REF! | C18: =#REF! -> #REF! | D18: =#REF! -> #REF! | E18: =#REF! -> #REF! | F18: =#REF! -> #REF! | G18: =#REF! -> #REF! | H18: =#REF! -> #REF! | I18: =#REF! -> #REF! | ... M18: =#REF! -> #REF! | O18: =AVERAGE(B18:D18) -> #REF! | P18: =AVERAGE(E18:G18) -> #REF! | Q18: =AVERAGE(H18:J18) -> #REF! | R18: =AVERAGE(K18:M18) -> #REF! | T18: =STDEV(B18:D18)/SQRT(3)*4.303 -> #REF! | U18: =STDEV(E18:G18)/SQRT(3)*4.303 -> #REF! | V18: =STDEV(H18:J18)/SQRT(3)*4.303 -> #REF! | W18: =STDEV(K18:M18)/SQRT(3)*4.303 -> #REF!
A20: Succinate | O20: Averages Based on Treatment
A21: Day | B21: Culture 1 | C21: Culture 2 | D21: Culture 3 | E21: Culture 4 | F21: Culture 5 | G21: Culture 6 | H21: Culture 7 | I21: Culture 8 | J21: Culture 9 | K21: Culture 10 | L21: Culture 11 | M21: Culture 12 | O21: Control | P21: Thi | Q21: Pant | R21: Thi+Pant | T21: Control | U21: Thi | V21: Pant | W21: Thi+Pant
A22: 0 | B22: 0 | C22: 0 | D22: 0 | E22: 0 | F22: 0 | G22: 0 | H22: 0 | I22: 0 | J22: 0 | K22: 0 | L22: 0 | M22: 0 | O22: =AVERAGE(B22:D22) -> 0 | P22: =AVERAGE(E22:G22) -> 0 | Q22: =AVERAGE(H22:J22) -> 0 | R22: =AVERAGE(K22:M22) -> 0 | T22: =STDEV(B22:D22)/SQRT(3)*4.303 -> 0 | U22: =STDEV(E22:G22)/SQRT(3)*4.303 -> 0 | V22: =STDEV(H22:J22)/SQRT(3)*4.303 -> 0 | W22: =STDEV(K22:M22)/SQRT(3)*4.303 -> 0
A23: 1 | B23: =#REF! -> #REF! | C23: =#REF! -> #REF! | D23: =#REF! -> #REF! | E23: =#REF! -> #REF! | F23: =#REF! -> #REF! | G23: =#REF! -> #REF! | H23: =#REF! -> #REF! | I23: =#REF! -> #REF! | ... M23: =#REF! -> #REF! | O23: =AVERAGE(B23:D23) -> #REF! | P23: =AVERAGE(E23:G23) -> #REF! | Q23: =AVERAGE(H23:J23) -> #REF! | R23: =AVERAGE(K23:M23) -> #REF! | T23: =STDEV(B23:D23)/SQRT(3)*4.303 -> #REF! | U23: =STDEV(E23:G23)/SQRT(3)*4.303 -> #REF! | V23: =STDEV(H23:J23)/SQRT(3)*4.303 -> #REF! | W23: =STDEV(K23:M23)/SQRT(3)*4.303 -> #REF!
A24: 2 | B24: =#REF! -> #REF! | C24: =#REF! -> #REF! | D24: =#REF! -> #REF! | E24: =#REF! -> #REF! | F24: =#REF! -> #REF! | G24: =#REF! -> #REF! | H24: =#REF! -> #REF! | I24: =#REF! -> #REF! | ... M24: =#REF! -> #REF! | O24: =AVERAGE(B24:D24) -> #REF! | P24: =AVERAGE(E24:G24) -> #REF! | Q24: =AVERAGE(H24:J24) -> #REF! | R24: =AVERAGE(K24:M24) -> #REF! | T24: =STDEV(B24:D24)/SQRT(3)*4.303 -> #REF! | U24: =STDEV(E24:G24)/SQRT(3)*4.303 -> #REF! | V24: =STDEV(H24:J24)/SQRT(3)*4.303 -> #REF! | W24: =STDEV(K24:M24)/SQRT(3)*4.303 -> #REF!
A25: 3 | B25: =#REF! -> #REF! | C25: =#REF! -> #REF! | D25: =#REF! -> #REF! | E25: =#REF! -> #REF! | F25: =#REF! -> #REF! | G25: =#REF! -> #REF! | H25: =#REF! -> #REF! | I25: =#REF! -> #REF! | ... M25: =#REF! -> #REF! | O25: =AVERAGE(B25:D25) -> #REF! | P25: =AVERAGE(E25:G25) -> #REF! | Q25: =AVERAGE(H25:J25) -> #REF! | R25: =AVERAGE(K25:M25) -> #REF! | T25: =STDEV(B25:D25)/SQRT(3)*4.303 -> #REF! | U25: =STDEV(E25:G25)/SQRT(3)*4.303 -> #REF! | V25: =STDEV(H25:J25)/SQRT(3)*4.303 -> #REF! | W25: =STDEV(K25:M25)/SQRT(3)*4.303 -> #REF!
A26: 4 | B26: =#REF! -> #REF! | C26: =#REF! -> #REF! | D26: =#REF! -> #REF! | E26: =#REF! -> #REF! | F26: =#REF! -> #REF! | G26: =#REF! -> #REF! | H26: =#REF! -> #REF! | I26: =#REF! -> #REF! | ... M26: =#REF! -> #REF! | O26: =AVERAGE(B26:D26) -> #REF! | P26: =AVERAGE(E26:G26) -> #REF! | Q26: =AVERAGE(H26:J26) -> #REF! | R26: =AVERAGE(K26:M26) -> #REF! | T26: =STDEV(B26:D26)/SQRT(3)*4.303 -> #REF! | U26: =STDEV(E26:G26)/SQRT(3)*4.303 -> #REF! | V26: =STDEV(H26:J26)/SQRT(3)*4.303 -> #REF! | W26: =STDEV(K26:M26)/SQRT(3)*4.303 -> #REF!
A27: 5 | B27: =#REF! -> #REF! | C27: =#REF! -> #REF! | D27: =#REF! -> #REF! | E27: =#REF! -> #REF! | F27: =#REF! -> #REF! | G27: =#REF! -> #REF! | H27: =#REF! -> #REF! | I27: =#REF! -> #REF! | ... M27: =#REF! -> #REF! | O27: =AVERAGE(B27:D27) -> #REF! | P27: =AVERAGE(E27:G27) -> #REF! | Q27: =AVERAGE(H27:J27) -> #REF! | R27: =AVERAGE(K27:M27) -> #REF! | T27: =STDEV(B27:D27)/SQRT(3)*4.303 -> #REF! | U27: =STDEV(E27:G27)/SQRT(3)*4.303 -> #REF! | V27: =STDEV(H27:J27)/SQRT(3)*4.303 -> #REF! | W27: =STDEV(K27:M27)/SQRT(3)*4.303 -> #REF!
A29: Fumarate | O29: Averages Based on Treatment
A30: Day | B30: Culture 1 | C30: Culture 2 | D30: Culture 3 | E30: Culture 4 | F30: Culture 5 | G30: Culture 6 | H30: Culture 7 | I30: Culture 8 | J30: Culture 9 | K30: Culture 10 | L30: Culture 11 | M30: Culture 12 | O30: Control | P30: Thi | Q30: Pant | R30: Thi+Pant | T30: Control | U30: Thi | V30: Pant | W30: Thi+Pant
A31: 0 | B31: 0 | C31: 0 | D31: 0 | E31: 0 | F31: 0 | G31: 0 | H31: =#REF! -> #REF! | I31: =#REF! -> #REF! | J31: =#REF! -> #REF! | K31: =#REF! -> #REF! | L31: =#REF! -> #REF! | M31: =#REF! -> #REF! | O31: =AVERAGE(B31:D31) -> 0 | P31: =AVERAGE(E31:G31) -> 0 | Q31: =AVERAGE(H31:J31) -> #REF! | R31: =AVERAGE(K31:M31) -> #REF! | T31: =STDEV(B31:D31)/SQRT(3)*4.303 -> 0 | U31: =STDEV(E31:G31)/SQRT(3)*4.303 -> 0 | V31: =STDEV(H31:J31)/SQRT(3)*4.303 -> #REF! | W31: =STDEV(K31:M31)/SQRT(3)*4.303 -> #REF!
A32: 1 | B32: =#REF! -> #REF! | C32: =#REF! -> #REF! | D32: =#REF! -> #REF! | E32: =#REF! -> #REF! | F32: =#REF! -> #REF! | G32: =#REF! -> #REF! | H32: =#REF! -> #REF! | I32: =#REF! -> #REF! | ... M32: =#REF! -> #REF! | O32: =AVERAGE(B32:D32) -> #REF! | P32: =AVERAGE(E32:G32) -> #REF! | Q32: =AVERAGE(H32:J32) -> #REF! | R32: =AVERAGE(K32:M32) -> #REF! | T32: =STDEV(B32:D32)/SQRT(3)*4.303 -> #REF! | U32: =STDEV(E32:G32)/SQRT(3)*4.303 -> #REF! | V32: =STDEV(H32:J32)/SQRT(3)*4.303 -> #REF! | W32: =STDEV(K32:M32)/SQRT(3)*4.303 -> #REF!
A33: 2 | B33: =#REF! -> #REF! | C33: =#REF! -> #REF! | D33: =#REF! -> #REF! | E33: =#REF! -> #REF! | F33: =#REF! -> #REF! | G33: =#REF! -> #REF! | H33: =#REF! -> #REF! | I33: =#REF! -> #REF! | ... M33: =#REF! -> #REF! | O33: =AVERAGE(B33:D33) -> #REF! | P33: =AVERAGE(E33:G33) -> #REF! | Q33: =AVERAGE(H33:J33) -> #REF! | R33: =AVERAGE(K33:M33) -> #REF! | T33: =STDEV(B33:D33)/SQRT(3)*4.303 -> #REF! | U33: =STDEV(E33:G33)/SQRT(3)*4.303 -> #REF! | V33: =STDEV(H33:J33)/SQRT(3)*4.303 -> #REF! | W33: =STDEV(K33:M33)/SQRT(3)*4.303 -> #REF!
A34: 3 | B34: =#REF! -> #REF! | C34: =#REF! -> #REF! | D34: =#REF! -> #REF! | E34: =#REF! -> #REF! | F34: =#REF! -> #REF! | G34: =#REF! -> #REF! | H34: =#REF! -> #REF! | I34: =#REF! -> #REF! | ... M34: =#REF! -> #REF! | O34: =AVERAGE(B34:D34) -> #REF! | P34: =AVERAGE(E34:G34) -> #REF! | Q34: =AVERAGE(H34:J34) -> #REF! | R34: =AVERAGE(K34:M34) -> #REF! | T34: =STDEV(B34:D34)/SQRT(3)*4.303 -> #REF! | U34: =STDEV(E34:G34)/SQRT(3)*4.303 -> #REF! | V34: =STDEV(H34:J34)/SQRT(3)*4.303 -> #REF! | W34: =STDEV(K34:M34)/SQRT(3)*4.303 -> #REF!
A35: 4 | B35: =#REF! -> #REF! | C35: =#REF! -> #REF! | D35: =#REF! -> #REF! | E35: =#REF! -> #REF! | F35: =#REF! -> #REF! | G35: =#REF! -> #REF! | H35: =#REF! -> #REF! | I35: =#REF! -> #REF! | ... M35: =#REF! -> #REF! | O35: =AVERAGE(B35:D35) -> #REF! | P35: =AVERAGE(E35:G35) -> #REF! | Q35: =AVERAGE(H35:J35) -> #REF! | R35: =AVERAGE(K35:M35) -> #REF! | T35: =STDEV(B35:D35)/SQRT(3)*4.303 -> #REF! | U35: =STDEV(E35:G35)/SQRT(3)*4.303 -> #REF! | V35: =STDEV(H35:J35)/SQRT(3)*4.303 -> #REF! | W35: =STDEV(K35:M35)/SQRT(3)*4.303 -> #REF!
A36: 5 | B36: =#REF! -> #REF! | C36: =#REF! -> #REF! | D36: =#REF! -> #REF! | E36: =#REF! -> #REF! | F36: =#REF! -> #REF! | G36: =#REF! -> #REF! | H36: =#REF! -> #REF! | I36: =#REF! -> #REF! | ... M36: =#REF! -> #REF! | O36: =AVERAGE(B36:D36) -> #REF! | P36: =AVERAGE(E36:G36) -> #REF! | Q36: =AVERAGE(H36:J36) -> #REF! | R36: =AVERAGE(K36:M36) -> #REF! | T36: =STDEV(B36:D36)/SQRT(3)*4.303 -> #REF! | U36: =STDEV(E36:G36)/SQRT(3)*4.303 -> #REF! | V36: =STDEV(H36:J36)/SQRT(3)*4.303 -> #REF! | W36: =STDEV(K36:M36)/SQRT(3)*4.303 -> #REF!
A38: Missing sample
A39: Bad chromatograph
A60: Re-run of post-run analysis on above data, incorproating peak area at RT 9.7
A61: Day | B61: Culture 1 | C61: Culture 2 | D61: Culture 3 | E61: Culture 4 | F61: Culture 5 | G61: Culture 6 | H61: Culture 7 | I61: Culture 8 | J61: Culture 9 | K61: Culture 10 | L61: Culture 11 | M61: Culture 12
A62: 1
A63: Unknown 1 | B63: =#REF! -> #REF!
A64: Lactate
A65: Unknown 2
A66: Acetate
A67: 2
A68: Unknown 1 | B68: =#REF! -> #REF! | C68: =#REF! -> #REF! | D68: =#REF! -> #REF! | E68: =#REF! -> #REF! | F68: =#REF! -> #REF! | G68: =#REF! -> #REF! | H68: =#REF! -> #REF! | I68: =#REF! -> #REF! | ... M68: =#REF! -> #REF!
A69: Lactate | B69: =#REF! -> #REF! | C69: =#REF! -> #REF! | D69: =#REF! -> #REF! | E69: =#REF! -> #REF! | F69: =#REF! -> #REF! | G69: =#REF! -> #REF! | H69: =#REF! -> #REF! | I69: =#REF! -> #REF! | ... M69: =#REF! -> #REF!
A70: Formate | B70: =#REF! -> #REF! | C70: =#REF! -> #REF! | D70: =#REF! -> #REF! | E70: =#REF! -> #REF! | F70: =#REF! -> #REF! | G70: =#REF! -> #REF! | H70: =#REF! -> #REF! | I70: =#REF! -> #REF! | ... M70: =#REF! -> #REF!
A71: 3
A72: Unknown 1 | B72: =#REF! -> #REF! | C72: =#REF! -> #REF! | D72: =#REF! -> #REF! | E72: =#REF! -> #REF! | F72: =#REF! -> #REF! | G72: =#REF! -> #REF! | H72: =#REF! -> #REF! | I72: =#REF! -> #REF! | ... M72: =#REF! -> #REF!
A73: Lactate | B73: =#REF! -> #REF! | C73: =#REF! -> #REF! | D73: =#REF! -> #REF! | E73: =#REF! -> #REF! | F73: =#REF! -> #REF! | G73: =#REF! -> #REF! | H73: =#REF! -> #REF! | I73: =#REF! -> #REF! | ... M73: =#REF! -> #REF!
A74: Formate | B74: =#REF! -> #REF! | C74: =#REF! -> #REF! | D74: =#REF! -> #REF! | E74: =#REF! -> #REF! | F74: =#REF! -> #REF! | G74: =#REF! -> #REF! | H74: =#REF! -> #REF! | I74: =#REF! -> #REF! | ... M74: =#REF! -> #REF!
A75: 4
A76: Unknown 1 | B76: =#REF! -> #REF! | C76: =#REF! -> #REF! | D76: =#REF! -> #REF! | E76: =#REF! -> #REF! | F76: =#REF! -> #REF! | G76: =#REF! -> #REF! | H76: =#REF! -> #REF! | I76: =#REF! -> #REF! | ... M76: =#REF! -> #REF!
A77: Lactate | B77: =#REF! -> #REF! | C77: =#REF! -> #REF! | D77: =#REF! -> #REF! | E77: =#REF! -> #REF! | F77: =#REF! -> #REF! | G77: =#REF! -> #REF! | H77: =#REF! -> #REF! | I77: =#REF! -> #REF! | ... M77: =#REF! -> #REF!
A78: Formate | B78: =#REF! -> #REF! | C78: =#REF! -> #REF! | D78: =#REF! -> #REF! | E78: =#REF! -> #REF! | F78: =#REF! -> #REF! | G78: =#REF! -> #REF! | H78: =#REF! -> #REF! | I78: =#REF! -> #REF! | ... M78: =#REF! -> #REF!
A79: 5
A80: Unknown 1 | B80: =#REF! -> #REF! | C80: =#REF! -> #REF! | D80: =#REF! -> #REF! | E80: =#REF! -> #REF! | F80: =#REF! -> #REF! | G80: =#REF! -> #REF! | H80: =#REF! -> #REF! | I80: =#REF! -> #REF! | ... M80: =#REF! -> #REF!
A81: Lactate | B81: =#REF! -> #REF! | C81: =#REF! -> #REF! | D81: =#REF! -> #REF! | E81: =#REF! -> #REF! | F81: =#REF! -> #REF! | G81: =#REF! -> #REF! | H81: =#REF! -> #REF! | I81: =#REF! -> #REF! | ... M81: =#REF! -> #REF!
A82: Formate | B82: =#REF! -> #REF! | C82: =#REF! -> #REF! | D82: =#REF! -> #REF! | E82: =#REF! -> #REF! | F82: =#REF! -> #REF! | G82: =#REF! -> #REF! | H82: =#REF! -> #REF! | I82: =#REF! -> #REF! | ... M82: =#REF! -> #REF!
A83: 6
A84: Unknown 1 | B84: =#REF! -> #REF! | C84: =#REF! -> #REF! | D84: =#REF! -> #REF! | E84: =#REF! -> #REF! | F84: =#REF! -> #REF! | G84: =#REF! -> #REF! | H84: =#REF! -> #REF! | I84: =#REF! -> #REF! | ... M84: =#REF! -> #REF!
A85: Lactate | B85: =#REF! -> #REF! | C85: =#REF! -> #REF! | D85: =#REF! -> #REF! | E85: =#REF! -> #REF! | F85: =#REF! -> #REF! | G85: =#REF! -> #REF! | H85: =#REF! -> #REF! | I85: =#REF! -> #REF! | ... M85: =#REF! -> #REF!
A86: Formate | B86: =#REF! -> #REF! | C86: =#REF! -> #REF! | D86: =#REF! -> #REF! | E86: =#REF! -> #REF! | F86: =#REF! -> #REF! | G86: =#REF! -> #REF! | H86: =#REF! -> #REF! | I86: =#REF! -> #REF! | ... M86: =#REF! -> #REF!
AM88: Axenic Acetate
A89: Unknown 1 | O89: Averages Based on Treatment | T89: 95% CI | Z89: Consumption/ Production over 5 days | AM89: Average | AR89: 95% CI
A90: Day | B90: Culture 1 | C90: Culture 2 | D90: Culture 3 | E90: Culture 4 | F90: Culture 5 | G90: Culture 6 | H90: Culture 7 | I90: Culture 8 | J90: Culture 9 | K90: Culture 10 | L90: Culture 11 | M90: Culture 12 | N90: Day | O90: 0 g/ L | P90: 0.5 g/ L | Q90: 2 g/ L | R90: 10 g/ L | T90: 0 g/ L | U90: 0.5 g/ L | V90: 2 g/ L | W90: 10 g/ L | Z90: Culture 1 | AA90: Culture 2 | AB90: Culture 3 | AC90: Culture 4 | AD90: Culture 5 | AE90: Culture 6 | AF90: Culture 7 | AG90: Culture 8 | AH90: Culture 9 | AI90: Culture 10 | AJ90: Culture 11 | AK90: Culture 12 | AM90: 0 g/ L | AN90: 0.5 g/ L | AO90: 2 g/ L | AP90: 10 g/ L | AR90: 0 g/ L | AS90: 0.5 g/ L | AT90: 2 g/ L | AU90: 10 g/ L
A91: 0 | B91: =B63 -> #REF! | C91: =C63 -> 0 | D91: =D63 -> 0 | E91: =E63 -> 0 | F91: =F63 -> 0 | G91: =G63 -> 0 | H91: =H63 -> 0 | I91: =I63 -> 0 | ... M91: =M63 -> 0 | N91: 0 | O91: =AVERAGE(B91:D91) -> #REF! | P91: =AVERAGE(E91:G91) -> 0 | Q91: =AVERAGE(H91:J91) -> 0 | R91: =AVERAGE(K91:M91) -> 0 | T91: =STDEV(B91:D91)/SQRT(3)*4.303 -> #REF! | U91: =STDEV(C91:E91)/SQRT(3)*4.303 -> 0 | V91: =STDEV(D91:F91)/SQRT(3)*4.303 -> 0 | W91: =STDEV(E91:G91)/SQRT(3)*4.303 -> 0 | Y91: Unknown 1 | Z91: =B96-B91 -> #REF! | AA91: =C96-C91 -> #REF! | AB91: =D96-D91 -> #REF! | AC91: =E96-E91 -> #REF! | AD91: =F96-F91 -> #REF! | AE91: =G96-G91 -> #REF! | AF91: =H96-H91 -> #REF! | AG91: =I96-I91 -> #REF! | ... AK91: =M96-M91 -> #REF! | AM91: =AVERAGE(Z91:AB91) -> #REF! | AN91: =AVERAGE(AC91:AE91) -> #REF! | AO91: =AVERAGE(AF91:AH91) -> #REF! | AP91: =AVERAGE(AI91:AK91) -> #REF! | AR91: =STDEV(Z91:AB91)/SQRT(3)*4.303 -> #REF! | AS91: =STDEV(AC91:AE91)/SQRT(3)*4.303 -> #REF! | AT91: =STDEV(AF91:AH91)/SQRT(3)*4.303 -> #REF! | AU91: =STDEV(AI91:AK91)/SQRT(3)*4.303 -> #REF!
A92: 1 | B92: =B68 -> #REF! | C92: =C68 -> #REF! | D92: =D68 -> #REF! | E92: =E68 -> #REF! | F92: =F68 -> #REF! | G92: =G68 -> #REF! | H92: =H68 -> #REF! | I92: =I68 -> #REF! | ... M92: =M68 -> #REF! | N92: 1 | O92: =AVERAGE(B92:D92) -> #REF! | P92: =AVERAGE(E92:G92) -> #REF! | Q92: =AVERAGE(H92:J92) -> #REF! | R92: =AVERAGE(K92:M92) -> #REF! | T92: =STDEV(B92:D92)/SQRT(3)*4.303 -> #REF! | U92: =STDEV(C92:E92)/SQRT(3)*4.303 -> #REF! | V92: =STDEV(D92:F92)/SQRT(3)*4.303 -> #REF! | W92: =STDEV(E92:G92)/SQRT(3)*4.303 -> #REF! | Y92: Unknown 2 | Z92: =B105-B100 -> #REF! | AA92: =C105-C100 -> #REF! | AB92: =D105-D100 -> #REF! | AC92: =E105-E100 -> #REF! | AD92: =F105-F100 -> #REF! | AE92: =G105-G100 -> #REF! | AF92: =H105-H100 -> #REF! | AG92: =I105-I100 -> #REF! | ... AK92: =M105-M100 -> #REF! | AM92: =AVERAGE(Z92:AB92) -> #REF! | AN92: =AVERAGE(AC92:AE92) -> #REF! | AO92: =AVERAGE(AF92:AH92) -> #REF! | AP92: =AVERAGE(AI92:AK92) -> #REF! | AR92: =STDEV(Z92:AB92)/SQRT(3)*4.303 -> #REF! | AS92: =STDEV(AC92:AE92)/SQRT(3)*4.303 -> #REF! | AT92: =STDEV(AF92:AH92)/SQRT(3)*4.303 -> #REF! | AU92: =STDEV(AI92:AK92)/SQRT(3)*4.303 -> #REF!
A93: 2 | B93: =B72 -> #REF! | C93: =C72 -> #REF! | D93: =D72 -> #REF! | E93: =E72 -> #REF! | F93: =F72 -> #REF! | G93: =G72 -> #REF! | H93: =H72 -> #REF! | I93: =I72 -> #REF! | ... M93: =M72 -> #REF! | N93: 2 | O93: =AVERAGE(B93:D93) -> #REF! | P93: =AVERAGE(E93:G93) -> #REF! | Q93: =AVERAGE(H93:J93) -> #REF! | R93: =AVERAGE(K93:M93) -> #REF! | T93: =STDEV(B93:D93)/SQRT(3)*4.303 -> #REF! | U93: =STDEV(C93:E93)/SQRT(3)*4.303 -> #REF! | V93: =STDEV(D93:F93)/SQRT(3)*4.303 -> #REF! | W93: =STDEV(E93:G93)/SQRT(3)*4.303 -> #REF!
A94: 3 | B94: =B76 -> #REF! | C94: =C76 -> #REF! | D94: =D76 -> #REF! | E94: =E76 -> #REF! | F94: =F76 -> #REF! | G94: =G76 -> #REF! | H94: =H76 -> #REF! | I94: =I76 -> #REF! | ... M94: =M76 -> #REF! | N94: 3 | O94: =AVERAGE(B94:D94) -> #REF! | P94: =AVERAGE(E94:G94) -> #REF! | Q94: =AVERAGE(H94:J94) -> #REF! | R94: =AVERAGE(K94:M94) -> #REF! | T94: =STDEV(B94:D94)/SQRT(3)*4.303 -> #REF! | U94: =STDEV(C94:E94)/SQRT(3)*4.303 -> #REF! | V94: =STDEV(D94:F94)/SQRT(3)*4.303 -> #REF! | W94: =STDEV(E94:G94)/SQRT(3)*4.303 -> #REF!
A95: 4 | B95: =B80 -> #REF! | C95: =C80 -> #REF! | D95: =D80 -> #REF! | E95: =E80 -> #REF! | F95: =F80 -> #REF! | G95: =G80 -> #REF! | H95: =H80 -> #REF! | I95: =I80 -> #REF! | ... M95: =M80 -> #REF! | N95: 4 | O95: =AVERAGE(B95:D95) -> #REF! | P95: =AVERAGE(E95:G95) -> #REF! | Q95: =AVERAGE(H95:J95) -> #REF! | R95: =AVERAGE(K95:M95) -> #REF! | T95: =STDEV(B95:D95)/SQRT(3)*4.303 -> #REF! | U95: =STDEV(C95:E95)/SQRT(3)*4.303 -> #REF! | V95: =STDEV(D95:F95)/SQRT(3)*4.303 -> #REF! | W95: =STDEV(E95:G95)/SQRT(3)*4.303 -> #REF!
A96: 5 | B96: =B84 -> #REF! | C96: =C84 -> #REF! | D96: =D84 -> #REF! | E96: =E84 -> #REF! | F96: =F84 -> #REF! | G96: =G84 -> #REF! | H96: =H84 -> #REF! | I96: =I84 -> #REF! | ... M96: =M84 -> #REF! | N96: 5 | O96: =AVERAGE(B96:D96) -> #REF! | P96: =AVERAGE(E96:G96) -> #REF! | Q96: =AVERAGE(H96:J96) -> #REF! | R96: =AVERAGE(K96:M96) -> #REF! | T96: =STDEV(B96:D96)/SQRT(3)*4.303 -> #REF! | U96: =STDEV(C96:E96)/SQRT(3)*4.303 -> #REF! | V96: =STDEV(D96:F96)/SQRT(3)*4.303 -> #REF! | W96: =STDEV(E96:G96)/SQRT(3)*4.303 -> #REF!
A98: Unknown 2 | O98: Averages Based on Treatment | T98: 95% CI
A99: Day | B99: Culture 1 | C99: Culture 2 | D99: Culture 3 | E99: Culture 4 | F99: Culture 5 | G99: Culture 6 | H99: Culture 7 | I99: Culture 8 | J99: Culture 9 | K99: Culture 10 | L99: Culture 11 | M99: Culture 12 | N99: Day | O99: 0 g/ L | P99: 0.5 g/ L | Q99: 2 g/ L | R99: 10 g/ L | T99: 0 g/ L | U99: 0.5 g/ L | V99: 2 g/ L | W99: 10 g/ L
A100: 0 | B100: =B66 -> 0 | C100: =C66 -> 0 | D100: =D66 -> 0 | E100: =E66 -> 0 | F100: =F66 -> 0 | G100: =G66 -> 0 | H100: =H66 -> 0 | I100: =I66 -> 0 | ... M100: =M66 -> 0 | N100: 0 | O100: =AVERAGE(B100:D100) -> 0 | P100: =AVERAGE(E100:G100) -> 0 | Q100: =AVERAGE(H100:J100) -> 0 | R100: =AVERAGE(K100:M100) -> 0 | T100: =STDEV(B100:D100)/SQRT(3)*4.303 -> 0 | U100: =STDEV(C100:E100)/SQRT(3)*4.303 -> 0 | V100: =STDEV(D100:F100)/SQRT(3)*4.303 -> 0 | W100: =STDEV(E100:G100)/SQRT(3)*4.303 -> 0
A101: 1 | B101: =B70 -> #REF! | C101: =C70 -> #REF! | D101: =D70 -> #REF! | E101: =E70 -> #REF! | F101: =F70 -> #REF! | G101: =G70 -> #REF! | H101: =H70 -> #REF! | I101: =I70 -> #REF! | ... M101: =M70 -> #REF! | N101: 1 | O101: =AVERAGE(B101:D101) -> #REF! | P101: =AVERAGE(E101:G101) -> #REF! | Q101: =AVERAGE(H101:J101) -> #REF! | R101: =AVERAGE(K101:M101) -> #REF! | T101: =STDEV(B101:D101)/SQRT(3)*4.303 -> #REF! | U101: =STDEV(C101:E101)/SQRT(3)*4.303 -> #REF! | V101: =STDEV(D101:F101)/SQRT(3)*4.303 -> #REF! | W101: =STDEV(E101:G101)/SQRT(3)*4.303 -> #REF!
A102: 2 | B102: =B74 -> #REF! | C102: =C74 -> #REF! | D102: =D74 -> #REF! | E102: =E74 -> #REF! | F102: =F74 -> #REF! | G102: =G74 -> #REF! | H102: =H74 -> #REF! | I102: =I74 -> #REF! | ... M102: =M74 -> #REF! | N102: 2 | O102: =AVERAGE(B102:D102) -> #REF! | P102: =AVERAGE(E102:G102) -> #REF! | Q102: =AVERAGE(H102:J102) -> #REF! | R102: =AVERAGE(K102:M102) -> #REF! | T102: =STDEV(B102:D102)/SQRT(3)*4.303 -> #REF! | U102: =STDEV(C102:E102)/SQRT(3)*4.303 -> #REF! | V102: =STDEV(D102:F102)/SQRT(3)*4.303 -> #REF! | W102: =STDEV(E102:G102)/SQRT(3)*4.303 -> #REF!
A103: 3 | B103: =B78 -> #REF! | C103: =C78 -> #REF! | D103: =D78 -> #REF! | E103: =E78 -> #REF! | F103: =F78 -> #REF! | G103: =G78 -> #REF! | H103: =H78 -> #REF! | I103: =I78 -> #REF! | ... M103: =M78 -> #REF! | N103: 3 | O103: =AVERAGE(B103:D103) -> #REF! | P103: =AVERAGE(E103:G103) -> #REF! | Q103: =AVERAGE(H103:J103) -> #REF! | R103: =AVERAGE(K103:M103) -> #REF! | T103: =STDEV(B103:D103)/SQRT(3)*4.303 -> #REF! | U103: =STDEV(C103:E103)/SQRT(3)*4.303 -> #REF! | V103: =STDEV(D103:F103)/SQRT(3)*4.303 -> #REF! | W103: =STDEV(E103:G103)/SQRT(3)*4.303 -> #REF!
A104: 4 | B104: =B82 -> #REF! | C104: =C82 -> #REF! | D104: =D82 -> #REF! | E104: =E82 -> #REF! | F104: =F82 -> #REF! | G104: =G82 -> #REF! | H104: =H82 -> #REF! | I104: =I82 -> #REF! | ... M104: =M82 -> #REF! | N104: 4 | O104: =AVERAGE(B104:D104) -> #REF! | P104: =AVERAGE(E104:G104) -> #REF! | Q104: =AVERAGE(H104:J104) -> #REF! | R104: =AVERAGE(K104:M104) -> #REF! | T104: =STDEV(B104:D104)/SQRT(3)*4.303 -> #REF! | U104: =STDEV(C104:E104)/SQRT(3)*4.303 -> #REF! | V104: =STDEV(D104:F104)/SQRT(3)*4.303 -> #REF! | W104: =STDEV(E104:G104)/SQRT(3)*4.303 -> #REF!
A105: 5 | B105: =B86 -> #REF! | C105: =C86 -> #REF! | D105: =D86 -> #REF! | E105: =E86 -> #REF! | F105: =F86 -> #REF! | G105: =G86 -> #REF! | H105: =H86 -> #REF! | I105: =I86 -> #REF! | ... M105: =M86 -> #REF! | N105: 5 | O105: =AVERAGE(B105:D105) -> #REF! | P105: =AVERAGE(E105:G105) -> #REF! | Q105: =AVERAGE(H105:J105) -> #REF! | R105: =AVERAGE(K105:M105) -> #REF! | T105: =STDEV(B105:D105)/SQRT(3)*4.303 -> #REF! | U105: =STDEV(C105:E105)/SQRT(3)*4.303 -> #REF! | V105: =STDEV(D105:F105)/SQRT(3)*4.303 -> #REF! | W105: =STDEV(E105:G105)/SQRT(3)*4.303 -> #REF!
